BEGIN:VCALENDAR
VERSION:2.0
PRODID:-//HasGeek//NONSGML Funnel//EN
DESCRIPTION:Unlocking our data-driven future
X-WR-CALDESC:Unlocking our data-driven future
NAME:Privacy 3.0
X-WR-CALNAME:Privacy 3.0
REFRESH-INTERVAL;VALUE=DURATION:PT12H
SUMMARY:Privacy 3.0
TIMEZONE-ID:Asia/Kolkata
X-PUBLISHED-TTL:PT12H
X-WR-TIMEZONE:Asia/Kolkata
BEGIN:VEVENT
SUMMARY:Privacy 3.0
DTSTART:20240309T103000Z
DTEND:20240309T115000Z
DTSTAMP:20260421T210250Z
UID:session/5sNUcEXcwenCxCM3qRvpQ7@hasgeek.com
SEQUENCE:1
CREATED:20240509T054300Z
LAST-MODIFIED:20240510T102250Z
LOCATION:Takshashila Institute
ORGANIZER;CN="The Fifth Elephant":MAILTO:no-reply@hasgeek.com
BEGIN:VALARM
ACTION:display
DESCRIPTION:Privacy 3.0 in 5 minutes
TRIGGER:-PT5M
END:VALARM
END:VEVENT
END:VCALENDAR
