BEGIN:VCALENDAR
VERSION:2.0
PRODID:-//HasGeek//NONSGML Funnel//EN
DESCRIPTION:Hands-on workshop - The Fifth Elephant 2025 Annual Conference
X-WR-CALDESC:Hands-on workshop - The Fifth Elephant 2025 Annual Conference
NAME:Personalize your AI image generator by fine-tuning stable diffusion
X-WR-CALNAME:Personalize your AI image generator by fine-tuning stable dif
 fusion
REFRESH-INTERVAL;VALUE=DURATION:PT12H
SUMMARY:Personalize your AI image generator by fine-tuning stable diffusio
 n
TIMEZONE-ID:Asia/Kolkata
X-PUBLISHED-TTL:PT12H
X-WR-TIMEZONE:Asia/Kolkata
BEGIN:VEVENT
SUMMARY:Check-in
DTSTART:20250718T090000Z
DTEND:20250718T091000Z
DTSTAMP:20260421T100315Z
UID:session/DCec1gbb6LBJSH4vZWit5T@hasgeek.com
SEQUENCE:1
CREATED:20250717T065117Z
LAST-MODIFIED:20250717T065120Z
LOCATION:Underline Centre\, Bangalore
ORGANIZER;CN="The Fifth Elephant":MAILTO:no-reply@hasgeek.com
BEGIN:VALARM
ACTION:display
DESCRIPTION:Check-in in 5 minutes
TRIGGER:-PT5M
END:VALARM
END:VEVENT
BEGIN:VEVENT
SUMMARY:Workshop: Personalize your AI image generator by fine-tuning stabl
 e diffusion
DTSTART:20250718T091000Z
DTEND:20250718T101500Z
DTSTAMP:20260421T100315Z
UID:session/2fzUMFCNZx7gSF6ssMqJTX@hasgeek.com
SEQUENCE:1
CREATED:20250717T065211Z
LAST-MODIFIED:20250717T065217Z
LOCATION:Underline Centre\, Bangalore
ORGANIZER;CN="The Fifth Elephant":MAILTO:no-reply@hasgeek.com
BEGIN:VALARM
ACTION:display
DESCRIPTION:Workshop: Personalize your AI image generator by fine-tuning s
 table diffusion in 5 minutes
TRIGGER:-PT5M
END:VALARM
END:VEVENT
BEGIN:VEVENT
SUMMARY:Evening break
DTSTART:20250718T101500Z
DTEND:20250718T104500Z
DTSTAMP:20260421T100315Z
UID:session/CVu7dDkFL5AFikAvc7B1wz@hasgeek.com
SEQUENCE:1
CREATED:20250717T065224Z
LAST-MODIFIED:20250717T065228Z
LOCATION:Underline Centre\, Bangalore
ORGANIZER;CN="The Fifth Elephant":MAILTO:no-reply@hasgeek.com
BEGIN:VALARM
ACTION:display
DESCRIPTION:Evening break in 5 minutes
TRIGGER:-PT5M
END:VALARM
END:VEVENT
BEGIN:VEVENT
SUMMARY:Workshop continued
DTSTART:20250718T104500Z
DTEND:20250718T115500Z
DTSTAMP:20260421T100315Z
UID:session/KF7NNJCJx1f6gj4zyKov7B@hasgeek.com
SEQUENCE:1
CREATED:20250717T065236Z
LAST-MODIFIED:20250717T065242Z
LOCATION:Underline Centre\, Bangalore
ORGANIZER;CN="The Fifth Elephant":MAILTO:no-reply@hasgeek.com
BEGIN:VALARM
ACTION:display
DESCRIPTION:Workshop continued in 5 minutes
TRIGGER:-PT5M
END:VALARM
END:VEVENT
BEGIN:VEVENT
SUMMARY:Group photo
DTSTART:20250718T115500Z
DTEND:20250718T120000Z
DTSTAMP:20260421T100315Z
UID:session/55aXSBVYDSKNGmPoXRXuJK@hasgeek.com
SEQUENCE:0
CREATED:20250717T065247Z
LAST-MODIFIED:20250717T065247Z
LOCATION:Underline Centre\, Bangalore
ORGANIZER;CN="The Fifth Elephant":MAILTO:no-reply@hasgeek.com
BEGIN:VALARM
ACTION:display
DESCRIPTION:Group photo in 5 minutes
TRIGGER:-PT5M
END:VALARM
END:VEVENT
END:VCALENDAR
