BEGIN:VCALENDAR
VERSION:2.0
PRODID:-//HasGeek//NONSGML Funnel//EN
DESCRIPTION:Making Data Science Work: Session 7
X-WR-CALDESC:Making Data Science Work: Session 7
NAME:India's data protection bill and impact on data product design
X-WR-CALNAME:India's data protection bill and impact on data product desig
 n
REFRESH-INTERVAL;VALUE=DURATION:PT12H
SUMMARY:India's data protection bill and impact on data product design
TIMEZONE-ID:Asia/Kolkata
X-PUBLISHED-TTL:PT12H
X-WR-TIMEZONE:Asia/Kolkata
BEGIN:VEVENT
SUMMARY:Introduction to Making Data Science Work\; today's session
DTSTART:20200812T123000Z
DTEND:20200812T123500Z
DTSTAMP:20260421T175752Z
UID:session/BahVmyujW5ghdjmRHqVVxf@hasgeek.com
SEQUENCE:0
CREATED:20200808T013301Z
DESCRIPTION:\n
LAST-MODIFIED:20200808T013301Z
LOCATION:Online
ORGANIZER;CN="The Fifth Elephant":MAILTO:no-reply@hasgeek.com
BEGIN:VALARM
ACTION:display
DESCRIPTION:Introduction to Making Data Science Work\; today's session in 
 5 minutes
TRIGGER:-PT5M
END:VALARM
END:VEVENT
BEGIN:VEVENT
SUMMARY:Discussion about Privacy Law and Data Product Design
DTSTART:20200812T123500Z
DTEND:20200812T133000Z
DTSTAMP:20260421T175752Z
UID:session/WT2tjQWmdbTAeXoWCQpCWs@hasgeek.com
SEQUENCE:2
CREATED:20200808T013416Z
DESCRIPTION:\n\n### Speaker bio\n\nSreenidhi Srinivasan is Senior Associat
 e at Ikigai Law\nShivangi Nadkarni is co-founder and CEO at Arrka\n
LAST-MODIFIED:20230810T072606Z
LOCATION:Online
ORGANIZER;CN="The Fifth Elephant":MAILTO:no-reply@hasgeek.com
BEGIN:VALARM
ACTION:display
DESCRIPTION:Discussion about Privacy Law and Data Product Design in 5 minu
 tes
TRIGGER:-PT5M
END:VALARM
END:VEVENT
BEGIN:VEVENT
SUMMARY:Summary and conclusion
DTSTART:20200812T133000Z
DTEND:20200812T133500Z
DTSTAMP:20260421T175752Z
UID:session/5hbjqv9LR17QmsyegxBmbf@hasgeek.com
SEQUENCE:0
CREATED:20200808T013428Z
DESCRIPTION:\n
LAST-MODIFIED:20200808T013428Z
LOCATION:Online
ORGANIZER;CN="The Fifth Elephant":MAILTO:no-reply@hasgeek.com
BEGIN:VALARM
ACTION:display
DESCRIPTION:Summary and conclusion in 5 minutes
TRIGGER:-PT5M
END:VALARM
END:VEVENT
END:VCALENDAR
