BEGIN:VCALENDAR
VERSION:2.0
PRODID:-//HasGeek//NONSGML Funnel//EN
DESCRIPTION:Llama 2
X-WR-CALDESC:Llama 2
NAME:Open foundation and fine-tuned chat models
X-WR-CALNAME:Open foundation and fine-tuned chat models
REFRESH-INTERVAL;VALUE=DURATION:PT12H
SUMMARY:Open foundation and fine-tuned chat models
TIMEZONE-ID:Asia/Kolkata
X-PUBLISHED-TTL:PT12H
X-WR-TIMEZONE:Asia/Kolkata
BEGIN:VEVENT
SUMMARY:Open foundation and fine-tuned chat models
DTSTART:20240112T123000Z
DTEND:20240112T140000Z
DTSTAMP:20260421T202533Z
UID:session/PvKLoy9f9c73gGtfSw9Rrn@hasgeek.com
SEQUENCE:1
CREATED:20240509T054358Z
LAST-MODIFIED:20240509T054415Z
LOCATION:Bangalore
ORGANIZER;CN="The Fifth Elephant":MAILTO:no-reply@hasgeek.com
BEGIN:VALARM
ACTION:display
DESCRIPTION:Open foundation and fine-tuned chat models in 5 minutes
TRIGGER:-PT5M
END:VALARM
END:VEVENT
END:VCALENDAR
