BEGIN:VCALENDAR
VERSION:2.0
PRODID:-//HasGeek//NONSGML Funnel//EN
DESCRIPTION:The Fifth Elephant paper reading meet-up - April 2024
X-WR-CALDESC:The Fifth Elephant paper reading meet-up - April 2024
NAME:RWKV: reinventing RNNs for the transformer era
X-WR-CALNAME:RWKV: reinventing RNNs for the transformer era
REFRESH-INTERVAL;VALUE=DURATION:PT12H
SUMMARY:RWKV: reinventing RNNs for the transformer era
TIMEZONE-ID:Asia/Kolkata
X-PUBLISHED-TTL:PT12H
X-WR-TIMEZONE:Asia/Kolkata
BEGIN:VEVENT
SUMMARY:RWKV: reinventing RNNs for the transformer era
DTSTART:20240405T120000Z
DTEND:20240405T133000Z
DTSTAMP:20260421T201118Z
UID:session/WSGENXLyw9HsoCtL47Ge8t@hasgeek.com
SEQUENCE:1
CREATED:20240509T053924Z
LAST-MODIFIED:20240510T095302Z
LOCATION:Atlassian\, Bangalore
ORGANIZER;CN="The Fifth Elephant":MAILTO:no-reply@hasgeek.com
BEGIN:VALARM
ACTION:display
DESCRIPTION:RWKV: reinventing RNNs for the transformer era in 5 minutes
TRIGGER:-PT5M
END:VALARM
END:VEVENT
END:VCALENDAR
