BEGIN:VCALENDAR
VERSION:2.0
PRODID:-//HasGeek//NONSGML Funnel//EN
DESCRIPTION:Making Data Science Work: Session 6
X-WR-CALDESC:Making Data Science Work: Session 6
NAME:Mechanisms and processes for operationalizing responsible ML
X-WR-CALNAME:Mechanisms and processes for operationalizing responsible ML
REFRESH-INTERVAL;VALUE=DURATION:PT12H
SUMMARY:Mechanisms and processes for operationalizing responsible ML
TIMEZONE-ID:Asia/Kolkata
X-PUBLISHED-TTL:PT12H
X-WR-TIMEZONE:Asia/Kolkata
BEGIN:VEVENT
SUMMARY:Operationalizing Responsible ML
DTSTART:20200729T133000Z
DTEND:20200729T143500Z
DTSTAMP:20260421T175500Z
UID:session/X8fb2rPKSvTxyJry4hmUnL@hasgeek.com
SEQUENCE:0
CREATED:20200722T073540Z
DESCRIPTION:\n
LAST-MODIFIED:20200730T140659Z
LOCATION:Online
ORGANIZER;CN="The Fifth Elephant":MAILTO:no-reply@hasgeek.com
BEGIN:VALARM
ACTION:display
DESCRIPTION:Operationalizing Responsible ML in 5 minutes
TRIGGER:-PT5M
END:VALARM
END:VEVENT
END:VCALENDAR
