BEGIN:VCALENDAR
VERSION:2.0
PRODID:-//HasGeek//NONSGML Funnel//EN
DESCRIPTION:Using tools to build your data stack
X-WR-CALDESC:Using tools to build your data stack
NAME:The Fifth Elephant November 2023 meet-up
X-WR-CALNAME:The Fifth Elephant November 2023 meet-up
REFRESH-INTERVAL;VALUE=DURATION:PT12H
SUMMARY:The Fifth Elephant November 2023 meet-up
TIMEZONE-ID:Asia/Kolkata
X-PUBLISHED-TTL:PT12H
X-WR-TIMEZONE:Asia/Kolkata
BEGIN:VEVENT
SUMMARY:The Fifth Elephant Delhi meet-up - rehearsal with Prahun Bhutani
DTSTART:20231121T120000Z
DTEND:20231121T123000Z
DTSTAMP:20260421T165202Z
UID:session/BcMUJ8U4H6JYgzxSSC6vAC@hasgeek.com
SEQUENCE:2
CREATED:20231121T101638Z
LAST-MODIFIED:20231121T101646Z
LOCATION:New Delhi
ORGANIZER;CN="The Fifth Elephant":MAILTO:no-reply@hasgeek.com
BEGIN:VALARM
ACTION:display
DESCRIPTION:The Fifth Elephant Delhi meet-up - rehearsal with Prahun Bhuta
 ni in 5 minutes
TRIGGER:-PT5M
END:VALARM
END:VEVENT
BEGIN:VEVENT
SUMMARY:Check-in
DTSTART:20231125T051500Z
DTEND:20231125T053000Z
DTSTAMP:20260421T165202Z
UID:session/4PurGxRkqQhbzsS1U6fAr5@hasgeek.com
SEQUENCE:1
CREATED:20231002T062503Z
LAST-MODIFIED:20231002T062507Z
LOCATION:New Delhi
ORGANIZER;CN="The Fifth Elephant":MAILTO:no-reply@hasgeek.com
BEGIN:VALARM
ACTION:display
DESCRIPTION:Check-in in 5 minutes
TRIGGER:-PT5M
END:VALARM
END:VEVENT
BEGIN:VEVENT
SUMMARY:RAG with LlamaIndex
DTSTART:20231125T053000Z
DTEND:20231125T060500Z
DTSTAMP:20260421T165202Z
UID:session/5Sfdw4BiEyJHfY7BxfFBPH@hasgeek.com
SEQUENCE:8
CREATED:20231002T062547Z
DESCRIPTION:### Abstract\nLlamaIndex is a powerful framework that acts as 
 a central interface between Language Model Libraries (LLMs) and external d
 ata. In this talk\, we will dive into the reasons behind the development o
 f LlamaIndex and explore its various basic building blocks/ components. We
  will discuss the different abstractions within llamaindex - indexes\, ret
 rievers\, response synthesis\, query engines. We will discuss how they can
  be used as decoupled components\, or used together as part of a holistic 
 system.\n\nThroughout the talk\, we will showcase the diverse use cases th
 at can be built using LlamaIndex\, demonstrating its flexibility and appli
 cability in various domains. We will also delve into intriguing real-world
  applications that have been developed leveraging the power of LlamaIndex.
 \n\nBy the end of the session\, participants will gain a comprehensive und
 erstanding of LlamaIndex\, its fundamental components\, and the potential 
 it holds for enhancing the capabilities of language models. They will leav
 e inspired and equipped with the knowledge to leverage LlamaIndex to tackl
 e complex information retrieval and synthesis tasks in their own projects.
 \n\nStructure of the talk: \n\n1. Introduction to LlamaIndex and its role 
 as a central interface between LLMs and external data.\n2. The motivation 
 behind the development of LlamaIndex and the need for a flexible framework
 .\n3. Exploring the core components of LlamaIndex: indexes\, retrievers\, 
 response synthesis\, and the query engine.\n4. Understanding the benefits 
 of decoupling these components and the advantages it brings to information
  retrieval and synthesis.\n5. A comprehensive overview of the different in
 dexes\, retrievers\, response synthesis\, and query/router engines availab
 le in LlamaIndex.\n6. Real-world use cases demonstrating the versatility a
 nd practical applications of LlamaIndex.\n7. Showcasing intriguing example
 s of applications built using LlamaIndex.\n8. Showcasing a use case that c
 an be implemented with LlamaIndex but not with LangChain.\n9. Inspiring at
 tendees to leverage the power of LlamaIndex in their own projects for impr
 oved information retrieval and synthesis.
LAST-MODIFIED:20240425T060209Z
LOCATION:New Delhi
ORGANIZER;CN="The Fifth Elephant":MAILTO:no-reply@hasgeek.com
URL:https://hasgeek.com/fifthelephant/november-2023-meet-up/schedule/unloc
 k-the-potential-of-llms-by-leveraging-llamaindex-5Sfdw4BiEyJHfY7BxfFBPH
BEGIN:VALARM
ACTION:display
DESCRIPTION:RAG with LlamaIndex in 5 minutes
TRIGGER:-PT5M
END:VALARM
END:VEVENT
BEGIN:VEVENT
SUMMARY:Analytics Engineering with dbt: Lessons from Intercom and Blinkit
DTSTART:20231125T060500Z
DTEND:20231125T063000Z
DTSTAMP:20260421T165202Z
UID:session/SCp28kV6q95ajvgUqMfRBY@hasgeek.com
SEQUENCE:5
CREATED:20231024T102844Z
DESCRIPTION:## Synoposis\ndbt is a SQL-first transformation workflow that 
 lets teams quickly and collaboratively deploy analytics code following sof
 tware engineering best practices like modularity\, portability\, CI/CD\, a
 nd documentation. If you work in data or analytics engineering\, there is 
 a good chance you've heard of dbt over the last couple of years and may ha
 ve even considered implementing it to manage the analytics code base at yo
 ur organisation.\n\nIn this talk\, we will go over some of the lessons I l
 earnt while implementing dbt and building the analytics engineering functi
 on at blinkit and Intercom.\n\n## Takeaway for the audience\nThe talk is s
 tructured around providing 3 key takeaways to the audience. These are:\n\n
 1. dbt\, the good parts:\n    - Reasons that make implementing dbt to mana
 ge your analytics code a compelling option.\n2. dbt\, the bad parts:\n   -
  Things that may get in your way while implementing dbt at your organisati
 on\n3. Change management:\n   - How to successfully develop an analytics e
 ngineering practise in organisations with existing data teams\n  \n## Abou
 t Me\nI am Pragun Bhutani\, and I've been working in the field of data var
 iously as a Data Engineer\, Analytics Engineer and Data Product Owner sinc
 e 2015. In this time\, I've worked at Aircall.io in Paris\, at blinkit in 
 India and Intercom in London\, UK and at all of these places I've had the 
 opportunity to set up the data or analytics engineering teams from scratch
 .\n\nI've worked in both as an individual contributor and a people manager
  and I equally enjoy both these capacities and their distinct perspectives
 .\n\nOther than data\, I'm also a full stack developer in love with the se
 rverless app development ecosystem.
LAST-MODIFIED:20231207T111125Z
LOCATION:New Delhi
ORGANIZER;CN="The Fifth Elephant":MAILTO:no-reply@hasgeek.com
URL:https://hasgeek.com/fifthelephant/november-2023-meet-up/schedule/analy
 tics-engineering-with-dbt-lessons-from-intercom-and-blinkit-SCp28kV6q95ajv
 gUqMfRBY
BEGIN:VALARM
ACTION:display
DESCRIPTION:Analytics Engineering with dbt: Lessons from Intercom and Blin
 kit in 5 minutes
TRIGGER:-PT5M
END:VALARM
END:VEVENT
BEGIN:VEVENT
SUMMARY:Why we built Rill with DuckDB - flash talk
DTSTART:20231125T063000Z
DTEND:20231125T064000Z
DTSTAMP:20260421T165202Z
UID:session/XKkB6HCLMas9DBRf3qHkZ2@hasgeek.com
SEQUENCE:6
CREATED:20231026T055154Z
LAST-MODIFIED:20231202T121043Z
LOCATION:New Delhi
ORGANIZER;CN="The Fifth Elephant":MAILTO:no-reply@hasgeek.com
BEGIN:VALARM
ACTION:display
DESCRIPTION:Why we built Rill with DuckDB - flash talk in 5 minutes
TRIGGER:-PT5M
END:VALARM
END:VEVENT
BEGIN:VEVENT
SUMMARY:Lunch break
DTSTART:20231125T064000Z
DTEND:20231125T072500Z
DTSTAMP:20260421T165202Z
UID:session/CcdKEBN7xMU8JAHGSL1rRY@hasgeek.com
SEQUENCE:6
CREATED:20231002T062624Z
LAST-MODIFIED:20231202T120309Z
LOCATION:New Delhi
ORGANIZER;CN="The Fifth Elephant":MAILTO:no-reply@hasgeek.com
BEGIN:VALARM
ACTION:display
DESCRIPTION:Lunch break in 5 minutes
TRIGGER:-PT5M
END:VALARM
END:VEVENT
BEGIN:VEVENT
SUMMARY:LlamaIndex toolkit for building data-driven applications - hands-o
 n workshop
DTSTART:20231125T072500Z
DTEND:20231125T091500Z
DTSTAMP:20260421T165202Z
UID:session/CTxeg1FWxQdZoqrYHWmkWo@hasgeek.com
SEQUENCE:9
CREATED:20231002T062655Z
DESCRIPTION:## About the workshop\nThis workshop will provide a comprehens
 ive understanding of LlamaIndex and how to utilize Large Language Models (
 LLMs) along with the LlamaIndex toolkit to build a variety of custom data-
 driven applications. We'll focus on leveraging the Retrieval Augmented Gen
 eration (RAG) paradigm to create powerful systems such as Q&A systems\, ch
 atbots\, and data agents. A core component of the workshop will be explori
 ng how LlamaIndex serves as a crucial bridge between LLMs and your custom 
 data.\n\nThe Bangalore edition of the workshop was held on 26 August\, 202
 3. View participant feedback and discusison about the workshop [here](http
 ://has.gy/uML-).  \n\n## Who should participate?\nThis workshop is designe
 d for data scientists\, Machine Learning (ML) engineers\, and researchers 
 interested in developing applications powered by language models. *Prior k
 nowledge of language models and some programming experience\, preferably i
 n Python\, will be beneficial.*\n\n## Key takeaways - what participants wi
 ll learn from the workshop\n1. Understanding Retrieval Augmented Generatio
 n (RAG) paradigm: Participants will learn about the RAG paradigm and how i
 t enhances Large Language Models (LLMs) with custom data.\n2. Indexing sta
 ge mastery: The workshop will equip participants with skills to prepare a 
 robust knowledge base using LlamaIndex's data connectors and indexing capa
 bilities.\n3. Effective querying techniques: Participants will learn to re
 trieve the most relevant context given a user query and synthesize respons
 es using LLMs and LlamaIndex.\n4. Advanced building blocks: Participants w
 ill get practical experience in working with retrievers\, node postprocess
 ors\, and response synthesizers.\n5. Text2SQL capabilities: Participants w
 ill learn how to use LlamaIndex to transform natural language queries to S
 QL queries over multiple tables.\n6. Router engines: Participants will lea
 rn about Router Engines\, decision-making systems in LlamaIndex that choos
 e the right query engine/index based on the user's query.\n7. Data Agents:
  Participants will explore Data Agents\, which leverage large language mod
 els to interact with data\, understand context\, and dynamically interact 
 with external tools.\n8. Creating powerful end-to-end pipelines: Participa
 nts will learn to construct query engines\, chat engines\, and agents for 
 a range of applications.\n\n## Duration of the workshop\nThe workshop will
  be held online. The duration is 6 hours long\, including breaks.\n\n## Pr
 ior set-up and prep required by participants before coming to the workshop
 \nParticipants should have:\n1. Basic knowledge of Python programming and 
 familiarity with language models.\n2. Our session will be conducted on Goo
 gle Colab\, so please ensure you have access to Google Colab.\n3. We'll be
  utilizing GPT-based models (gpt2.5-turbo and gpt-4) for building applicat
 ions with LlamaIndex\, so having an OpenAI API key will be essential.\n\n#
 # About the workshop instructor(s)\nThe workshop will be conducted by Ravi
  Theja -  Data Scientist from Glance - InMobi\, who holds a Master's degre
 e in Computer Science from IIIT-B and has published research in the field.
  The instructor is recognized for his open-source contributions to LlamaIn
 dex\, bringing practical insights from his contributions and industry expe
 rience to the workshop.\n
LAST-MODIFIED:20231207T110855Z
LOCATION:New Delhi
ORGANIZER;CN="The Fifth Elephant":MAILTO:no-reply@hasgeek.com
URL:https://hasgeek.com/fifthelephant/november-2023-meet-up/schedule/llama
 index-toolkit-for-building-data-driven-applications-hands-on-workshop-CTxe
 g1FWxQdZoqrYHWmkWo
BEGIN:VALARM
ACTION:display
DESCRIPTION:LlamaIndex toolkit for building data-driven applications - han
 ds-on workshop in 5 minutes
TRIGGER:-PT5M
END:VALARM
END:VEVENT
BEGIN:VEVENT
SUMMARY:Break
DTSTART:20231125T091500Z
DTEND:20231125T093500Z
DTSTAMP:20260421T165202Z
UID:session/JEnmxVfs3tBioZr26H8DdF@hasgeek.com
SEQUENCE:2
CREATED:20231002T062710Z
LAST-MODIFIED:20231026T055210Z
LOCATION:New Delhi
ORGANIZER;CN="The Fifth Elephant":MAILTO:no-reply@hasgeek.com
BEGIN:VALARM
ACTION:display
DESCRIPTION:Break in 5 minutes
TRIGGER:-PT5M
END:VALARM
END:VEVENT
BEGIN:VEVENT
SUMMARY:LlamaIndex toolkit for building data-driven applications - hands-o
 n workshop
DTSTART:20231125T093500Z
DTEND:20231125T105500Z
DTSTAMP:20260421T165202Z
UID:session/DZaiUjWH1NNd9RURxGUcZd@hasgeek.com
SEQUENCE:4
CREATED:20231002T062721Z
LAST-MODIFIED:20231026T055212Z
LOCATION:New Delhi
ORGANIZER;CN="The Fifth Elephant":MAILTO:no-reply@hasgeek.com
BEGIN:VALARM
ACTION:display
DESCRIPTION:LlamaIndex toolkit for building data-driven applications - han
 ds-on workshop in 5 minutes
TRIGGER:-PT5M
END:VALARM
END:VEVENT
BEGIN:VEVENT
SUMMARY:Break
DTSTART:20231125T105500Z
DTEND:20231125T111500Z
DTSTAMP:20260421T165202Z
UID:session/Xkwuz7axZiUmStKz3BqBX2@hasgeek.com
SEQUENCE:2
CREATED:20231002T062746Z
LAST-MODIFIED:20231026T055216Z
LOCATION:New Delhi
ORGANIZER;CN="The Fifth Elephant":MAILTO:no-reply@hasgeek.com
BEGIN:VALARM
ACTION:display
DESCRIPTION:Break in 5 minutes
TRIGGER:-PT5M
END:VALARM
END:VEVENT
BEGIN:VEVENT
SUMMARY:LlamaIndex toolkit for building data-driven applications - hands-o
 n workshop
DTSTART:20231125T111500Z
DTEND:20231125T121500Z
DTSTAMP:20260421T165202Z
UID:session/6oFP2XLBX4nmD4kJuchppb@hasgeek.com
SEQUENCE:3
CREATED:20231002T062754Z
LAST-MODIFIED:20231026T055218Z
LOCATION:New Delhi
ORGANIZER;CN="The Fifth Elephant":MAILTO:no-reply@hasgeek.com
BEGIN:VALARM
ACTION:display
DESCRIPTION:LlamaIndex toolkit for building data-driven applications - han
 ds-on workshop in 5 minutes
TRIGGER:-PT5M
END:VALARM
END:VEVENT
BEGIN:VEVENT
SUMMARY:Group photo
DTSTART:20231125T121500Z
DTEND:20231125T122000Z
DTSTAMP:20260421T165202Z
UID:session/VBQ9reKnzVpBd3uQYdoUh1@hasgeek.com
SEQUENCE:4
CREATED:20231002T062820Z
LAST-MODIFIED:20231124T060902Z
LOCATION:7th floor meet-up space - Tata 1mg\nGurugram\nIN
ORGANIZER;CN="The Fifth Elephant":MAILTO:no-reply@hasgeek.com
BEGIN:VALARM
ACTION:display
DESCRIPTION:Group photo in 7th floor meet-up space in 5 minutes
TRIGGER:-PT5M
END:VALARM
END:VEVENT
END:VCALENDAR
