BEGIN:VCALENDAR
VERSION:2.0
PRODID:-//HasGeek//NONSGML Funnel//EN
DESCRIPTION:Hands-on workshop
X-WR-CALDESC:Hands-on workshop
NAME:Mining digital exhaust
X-WR-CALNAME:Mining digital exhaust
REFRESH-INTERVAL;VALUE=DURATION:PT12H
SUMMARY:Mining digital exhaust
TIMEZONE-ID:Asia/Kolkata
X-PUBLISHED-TTL:PT12H
X-WR-TIMEZONE:Asia/Kolkata
BEGIN:VEVENT
SUMMARY:Check in
DTSTART:20251206T081500Z
DTEND:20251206T083000Z
DTSTAMP:20260419T184252Z
UID:session/8gdnG9y2CpF7cqG1Cx2ySD@hasgeek.com
SEQUENCE:1
CREATED:20251203T071205Z
LAST-MODIFIED:20251203T071209Z
LOCATION:Bangalore
ORGANIZER;CN="The Fifth Elephant":MAILTO:no-reply@hasgeek.com
BEGIN:VALARM
ACTION:display
DESCRIPTION:Check in in 5 minutes
TRIGGER:-PT5M
END:VALARM
END:VEVENT
BEGIN:VEVENT
SUMMARY:Hands on session
DTSTART:20251206T083000Z
DTEND:20251206T103000Z
DTSTAMP:20260419T184252Z
UID:session/SYq8r2xMQ4QYgjyo1fa6um@hasgeek.com
SEQUENCE:3
CREATED:20251203T071221Z
LAST-MODIFIED:20251203T071228Z
LOCATION:Bangalore
ORGANIZER;CN="The Fifth Elephant":MAILTO:no-reply@hasgeek.com
BEGIN:VALARM
ACTION:display
DESCRIPTION:Hands on session in 5 minutes
TRIGGER:-PT5M
END:VALARM
END:VEVENT
BEGIN:VEVENT
SUMMARY:Break
DTSTART:20251206T103000Z
DTEND:20251206T104500Z
DTSTAMP:20260419T184252Z
UID:session/HXY8R2ggJBKV9FUXhHHQsv@hasgeek.com
SEQUENCE:1
CREATED:20251203T071237Z
LAST-MODIFIED:20251203T071243Z
LOCATION:Bangalore
ORGANIZER;CN="The Fifth Elephant":MAILTO:no-reply@hasgeek.com
BEGIN:VALARM
ACTION:display
DESCRIPTION:Break in 5 minutes
TRIGGER:-PT5M
END:VALARM
END:VEVENT
BEGIN:VEVENT
SUMMARY:Hands on session
DTSTART:20251206T104500Z
DTEND:20251206T123000Z
DTSTAMP:20260419T184252Z
UID:session/FPhhinyHrKMkbYPeHp5wpL@hasgeek.com
SEQUENCE:4
CREATED:20251203T071252Z
LAST-MODIFIED:20251203T071320Z
LOCATION:Bangalore
ORGANIZER;CN="The Fifth Elephant":MAILTO:no-reply@hasgeek.com
BEGIN:VALARM
ACTION:display
DESCRIPTION:Hands on session in 5 minutes
TRIGGER:-PT5M
END:VALARM
END:VEVENT
END:VCALENDAR
