BEGIN:VCALENDAR
VERSION:2.0
PRODID:-//HasGeek//NONSGML Funnel//EN
DESCRIPTION:Hands-on workshop - The Fifth Elephant 2025 Annual Conference
X-WR-CALDESC:Hands-on workshop - The Fifth Elephant 2025 Annual Conference
NAME:Build MCPs: make your app AI-controllable
X-WR-CALNAME:Build MCPs: make your app AI-controllable
REFRESH-INTERVAL;VALUE=DURATION:PT12H
SUMMARY:Build MCPs: make your app AI-controllable
TIMEZONE-ID:Asia/Kolkata
X-PUBLISHED-TTL:PT12H
X-WR-TIMEZONE:Asia/Kolkata
BEGIN:VEVENT
SUMMARY:Check-in
DTSTART:20250718T090000Z
DTEND:20250718T091000Z
DTSTAMP:20260421T132339Z
UID:session/89jRvdMN822oeMZDVJLi7j@hasgeek.com
SEQUENCE:1
CREATED:20250717T065330Z
LAST-MODIFIED:20250717T065332Z
LOCATION:Underline Centre\, Bangalore
ORGANIZER;CN="The Fifth Elephant":MAILTO:no-reply@hasgeek.com
BEGIN:VALARM
ACTION:display
DESCRIPTION:Check-in in 5 minutes
TRIGGER:-PT5M
END:VALARM
END:VEVENT
BEGIN:VEVENT
SUMMARY:MCP hands-on workshop
DTSTART:20250718T091000Z
DTEND:20250718T104500Z
DTSTAMP:20260421T132339Z
UID:session/SoWKp5bSDkSZotcjmoaBmu@hasgeek.com
SEQUENCE:2
CREATED:20250717T065406Z
LAST-MODIFIED:20250717T065416Z
LOCATION:Underline Centre\, Bangalore
ORGANIZER;CN="The Fifth Elephant":MAILTO:no-reply@hasgeek.com
BEGIN:VALARM
ACTION:display
DESCRIPTION:MCP hands-on workshop in 5 minutes
TRIGGER:-PT5M
END:VALARM
END:VEVENT
BEGIN:VEVENT
SUMMARY:Evening break
DTSTART:20250718T103000Z
DTEND:20250718T110000Z
DTSTAMP:20260421T132339Z
UID:session/VT3sZPvfKKQu6Nnj5qNNF7@hasgeek.com
SEQUENCE:2
CREATED:20250717T065443Z
LAST-MODIFIED:20250717T120636Z
LOCATION:Underline Centre\, Bangalore
ORGANIZER;CN="The Fifth Elephant":MAILTO:no-reply@hasgeek.com
BEGIN:VALARM
ACTION:display
DESCRIPTION:Evening break in 5 minutes
TRIGGER:-PT5M
END:VALARM
END:VEVENT
BEGIN:VEVENT
SUMMARY:Workshop continued
DTSTART:20250718T111500Z
DTEND:20250718T115500Z
DTSTAMP:20260421T132339Z
UID:session/XffnsiHEkhUnfzguenB3pB@hasgeek.com
SEQUENCE:1
CREATED:20250717T065457Z
LAST-MODIFIED:20250717T065503Z
LOCATION:Underline Centre\, Bangalore
ORGANIZER;CN="The Fifth Elephant":MAILTO:no-reply@hasgeek.com
BEGIN:VALARM
ACTION:display
DESCRIPTION:Workshop continued in 5 minutes
TRIGGER:-PT5M
END:VALARM
END:VEVENT
BEGIN:VEVENT
SUMMARY:Group photo
DTSTART:20250718T115500Z
DTEND:20250718T120000Z
DTSTAMP:20260421T132339Z
UID:session/FUZvV8yjg98didb8nzMVmG@hasgeek.com
SEQUENCE:0
CREATED:20250717T065509Z
LAST-MODIFIED:20250717T065509Z
LOCATION:Underline Centre\, Bangalore
ORGANIZER;CN="The Fifth Elephant":MAILTO:no-reply@hasgeek.com
BEGIN:VALARM
ACTION:display
DESCRIPTION:Group photo in 5 minutes
TRIGGER:-PT5M
END:VALARM
END:VEVENT
END:VCALENDAR
