BEGIN:VCALENDAR
VERSION:2.0
PRODID:-//HasGeek//NONSGML Funnel//EN
DESCRIPTION:Hands-on workshop
X-WR-CALDESC:Hands-on workshop
NAME:Mastering prompt engineering across the software development lifecycl
 e
X-WR-CALNAME:Mastering prompt engineering across the software development 
 lifecycle
REFRESH-INTERVAL;VALUE=DURATION:PT12H
SUMMARY:Mastering prompt engineering across the software development lifec
 ycle
TIMEZONE-ID:Asia/Kolkata
X-PUBLISHED-TTL:PT12H
X-WR-TIMEZONE:Asia/Kolkata
BEGIN:VEVENT
SUMMARY:Check in
DTSTART:20251122T041500Z
DTEND:20251122T043000Z
DTSTAMP:20260419T235900Z
UID:session/GJSf837nXnjXgVPHGZi5YC@hasgeek.com
SEQUENCE:1
CREATED:20251117T141528Z
LAST-MODIFIED:20251117T141536Z
LOCATION:Bangalore
ORGANIZER;CN="The Fifth Elephant":MAILTO:no-reply@hasgeek.com
BEGIN:VALARM
ACTION:display
DESCRIPTION:Check in in 5 minutes
TRIGGER:-PT5M
END:VALARM
END:VEVENT
BEGIN:VEVENT
SUMMARY:Hands on workshop
DTSTART:20251122T043000Z
DTEND:20251122T060000Z
DTSTAMP:20260419T235900Z
UID:session/Nc5U2emfH58amMwiAbiNxe@hasgeek.com
SEQUENCE:4
CREATED:20251117T141634Z
LAST-MODIFIED:20251117T141659Z
LOCATION:Bangalore
ORGANIZER;CN="The Fifth Elephant":MAILTO:no-reply@hasgeek.com
BEGIN:VALARM
ACTION:display
DESCRIPTION:Hands on workshop in 5 minutes
TRIGGER:-PT5M
END:VALARM
END:VEVENT
BEGIN:VEVENT
SUMMARY:Break
DTSTART:20251122T060000Z
DTEND:20251122T061500Z
DTSTAMP:20260419T235900Z
UID:session/MhpdMZsjmjbmvNeVhzNWhh@hasgeek.com
SEQUENCE:1
CREATED:20251117T141722Z
LAST-MODIFIED:20251117T141731Z
LOCATION:Bangalore
ORGANIZER;CN="The Fifth Elephant":MAILTO:no-reply@hasgeek.com
BEGIN:VALARM
ACTION:display
DESCRIPTION:Break in 5 minutes
TRIGGER:-PT5M
END:VALARM
END:VEVENT
BEGIN:VEVENT
SUMMARY:Hands on workshop
DTSTART:20251122T061500Z
DTEND:20251122T080000Z
DTSTAMP:20260419T235900Z
UID:session/88FtLNKGvRMzY5Q8fuztvd@hasgeek.com
SEQUENCE:4
CREATED:20251117T141746Z
LAST-MODIFIED:20251117T141934Z
LOCATION:Bangalore
ORGANIZER;CN="The Fifth Elephant":MAILTO:no-reply@hasgeek.com
BEGIN:VALARM
ACTION:display
DESCRIPTION:Hands on workshop in 5 minutes
TRIGGER:-PT5M
END:VALARM
END:VEVENT
BEGIN:VEVENT
SUMMARY:Lunch break
DTSTART:20251122T080000Z
DTEND:20251122T083000Z
DTSTAMP:20260419T235900Z
UID:session/5mT3EabL6nvmqCPipj2oyr@hasgeek.com
SEQUENCE:2
CREATED:20251117T141947Z
LAST-MODIFIED:20251117T141958Z
LOCATION:Bangalore
ORGANIZER;CN="The Fifth Elephant":MAILTO:no-reply@hasgeek.com
BEGIN:VALARM
ACTION:display
DESCRIPTION:Lunch break in 5 minutes
TRIGGER:-PT5M
END:VALARM
END:VEVENT
BEGIN:VEVENT
SUMMARY:Hands on workshop
DTSTART:20251122T083000Z
DTEND:20251122T093000Z
DTSTAMP:20260419T235900Z
UID:session/P1MDCQo4u6K6X9Tg91bRZk@hasgeek.com
SEQUENCE:2
CREATED:20251117T142012Z
LAST-MODIFIED:20251117T142026Z
LOCATION:Bangalore
ORGANIZER;CN="The Fifth Elephant":MAILTO:no-reply@hasgeek.com
BEGIN:VALARM
ACTION:display
DESCRIPTION:Hands on workshop in 5 minutes
TRIGGER:-PT5M
END:VALARM
END:VEVENT
END:VCALENDAR
