BEGIN:VCALENDAR
VERSION:2.0
PRODID:-//HasGeek//NONSGML Funnel//EN
DESCRIPTION:Applying Deep Learning to forecasting returns in stock markets
X-WR-CALDESC:Applying Deep Learning to forecasting returns in stock market
 s
NAME:Deep order flow imbalance
X-WR-CALNAME:Deep order flow imbalance
REFRESH-INTERVAL;VALUE=DURATION:PT12H
SUMMARY:Deep order flow imbalance
TIMEZONE-ID:Asia/Kolkata
X-PUBLISHED-TTL:PT12H
X-WR-TIMEZONE:Asia/Kolkata
BEGIN:VEVENT
SUMMARY:Deep order flow imbalance
DTSTART:20240309T100000Z
DTEND:20240309T113000Z
DTSTAMP:20260421T201010Z
UID:session/TLXKDaFW1y9f2wvH72SEey@hasgeek.com
SEQUENCE:0
CREATED:20240509T053806Z
LAST-MODIFIED:20240509T053806Z
LOCATION:Mumbai
ORGANIZER;CN="The Fifth Elephant":MAILTO:no-reply@hasgeek.com
BEGIN:VALARM
ACTION:display
DESCRIPTION:Deep order flow imbalance in 5 minutes
TRIGGER:-PT5M
END:VALARM
END:VEVENT
END:VCALENDAR
