BEGIN:VCALENDAR
VERSION:2.0
PRODID:-//HasGeek//NONSGML Funnel//EN
DESCRIPTION:Making Data Science Work: Session 5
X-WR-CALDESC:Making Data Science Work: Session 5
NAME:Experimentation in Data Science
X-WR-CALNAME:Experimentation in Data Science
REFRESH-INTERVAL;VALUE=DURATION:PT12H
SUMMARY:Experimentation in Data Science
TIMEZONE-ID:Asia/Kolkata
X-PUBLISHED-TTL:PT12H
X-WR-TIMEZONE:Asia/Kolkata
BEGIN:VEVENT
SUMMARY:Introduction to the session and speakers
DTSTART:20200715T123000Z
DTEND:20200715T123500Z
DTSTAMP:20260421T175500Z
UID:session/RR1jATZ99hhQmjKjKBHSbE@hasgeek.com
SEQUENCE:0
CREATED:20200702T063851Z
DESCRIPTION:\n
LAST-MODIFIED:20200702T063851Z
LOCATION:Online
ORGANIZER;CN="The Fifth Elephant":MAILTO:no-reply@hasgeek.com
BEGIN:VALARM
ACTION:display
DESCRIPTION:Introduction to the session and speakers in 5 minutes
TRIGGER:-PT5M
END:VALARM
END:VEVENT
BEGIN:VEVENT
SUMMARY:Experimentation in Data Science
DTSTART:20200715T123500Z
DTEND:20200715T134000Z
DTSTAMP:20260421T175500Z
UID:session/A1dYXdQFTbvjU7nM4jWeq7@hasgeek.com
SEQUENCE:0
CREATED:20200702T063922Z
DESCRIPTION:\n
LAST-MODIFIED:20200716T112024Z
LOCATION:Online
ORGANIZER;CN="The Fifth Elephant":MAILTO:no-reply@hasgeek.com
BEGIN:VALARM
ACTION:display
DESCRIPTION:Experimentation in Data Science in 5 minutes
TRIGGER:-PT5M
END:VALARM
END:VEVENT
BEGIN:VEVENT
SUMMARY:Summary and conclusion
DTSTART:20200715T134000Z
DTEND:20200715T134500Z
DTSTAMP:20260421T175500Z
UID:session/AjasjVUwdFjsjg5Shhgve2@hasgeek.com
SEQUENCE:0
CREATED:20200702T063944Z
DESCRIPTION:\n
LAST-MODIFIED:20200702T063944Z
LOCATION:Online
ORGANIZER;CN="The Fifth Elephant":MAILTO:no-reply@hasgeek.com
BEGIN:VALARM
ACTION:display
DESCRIPTION:Summary and conclusion in 5 minutes
TRIGGER:-PT5M
END:VALARM
END:VEVENT
END:VCALENDAR
