BEGIN:VCALENDAR
VERSION:2.0
PRODID:-//HasGeek//NONSGML Funnel//EN
DESCRIPTION:Making Data Science Work: Session 4
X-WR-CALDESC:Making Data Science Work: Session 4
NAME:Doing Data Science with Ethics
X-WR-CALNAME:Doing Data Science with Ethics
REFRESH-INTERVAL;VALUE=DURATION:PT12H
SUMMARY:Doing Data Science with Ethics
TIMEZONE-ID:Asia/Kolkata
X-PUBLISHED-TTL:PT12H
X-WR-TIMEZONE:Asia/Kolkata
BEGIN:VEVENT
SUMMARY:Introduction to the session and speakers
DTSTART:20200701T123000Z
DTEND:20200701T123500Z
DTSTAMP:20260421T175453Z
UID:session/5pbPQQiHpLMybaMwqvGY6R@hasgeek.com
SEQUENCE:0
CREATED:20200610T063100Z
DESCRIPTION:\n
LAST-MODIFIED:20200610T063100Z
LOCATION:Online
ORGANIZER;CN="The Fifth Elephant":MAILTO:no-reply@hasgeek.com
BEGIN:VALARM
ACTION:display
DESCRIPTION:Introduction to the session and speakers in 5 minutes
TRIGGER:-PT5M
END:VALARM
END:VEVENT
BEGIN:VEVENT
SUMMARY:On doing Data Science with Ethics
DTSTART:20200701T123500Z
DTEND:20200701T133000Z
DTSTAMP:20260421T175453Z
UID:session/3ehiJYxBkTWzWAzAxBvkH8@hasgeek.com
SEQUENCE:1
CREATED:20200610T063128Z
DESCRIPTION:The session will cover: \n\n1. How should data scientists thin
 k about their responsibility?\n2. Do values have a role? Where should they
  draw the line?\n3. What can experiences in other domains tell us about th
 e journey ahead?\n4. How should organizations evolve to carry the burden o
 f decision making?\n5. What kinds of systems and processes enable more res
 ponsible Machine Learning?\n
LAST-MODIFIED:20230108T103046Z
LOCATION:Online
ORGANIZER;CN="The Fifth Elephant":MAILTO:no-reply@hasgeek.com
BEGIN:VALARM
ACTION:display
DESCRIPTION:On doing Data Science with Ethics in 5 minutes
TRIGGER:-PT5M
END:VALARM
END:VEVENT
BEGIN:VEVENT
SUMMARY:Summary and conclusion
DTSTART:20200701T133000Z
DTEND:20200701T134000Z
DTSTAMP:20260421T175453Z
UID:session/NiREy4XZ61YfZBTFp1vzDW@hasgeek.com
SEQUENCE:0
CREATED:20200610T063139Z
DESCRIPTION:\n
LAST-MODIFIED:20200610T063146Z
LOCATION:Online
ORGANIZER;CN="The Fifth Elephant":MAILTO:no-reply@hasgeek.com
BEGIN:VALARM
ACTION:display
DESCRIPTION:Summary and conclusion in 5 minutes
TRIGGER:-PT5M
END:VALARM
END:VEVENT
END:VCALENDAR
