BEGIN:VCALENDAR
VERSION:2.0
PRODID:-//HasGeek//NONSGML Funnel//EN
DESCRIPTION:Applying software engineering principles to Machine Learning p
 rojects
X-WR-CALDESC:Applying software engineering principles to Machine Learning 
 projects
NAME:Making Data Science Work session 3
X-WR-CALNAME:Making Data Science Work session 3
REFRESH-INTERVAL;VALUE=DURATION:PT12H
SUMMARY:Making Data Science Work session 3
TIMEZONE-ID:Asia/Kolkata
X-PUBLISHED-TTL:PT12H
X-WR-TIMEZONE:Asia/Kolkata
BEGIN:VEVENT
SUMMARY:Introduction to the event and the speakers
DTSTART:20200617T133000Z
DTEND:20200617T133500Z
DTSTAMP:20260421T175453Z
UID:session/WfxQF5k5DegkiVZRHEn58h@hasgeek.com
SEQUENCE:0
CREATED:20200610T061619Z
DESCRIPTION:\n
LAST-MODIFIED:20200610T061619Z
LOCATION:Online
ORGANIZER;CN="The Fifth Elephant":MAILTO:no-reply@hasgeek.com
BEGIN:VALARM
ACTION:display
DESCRIPTION:Introduction to the event and the speakers in 5 minutes
TRIGGER:-PT5M
END:VALARM
END:VEVENT
BEGIN:VEVENT
SUMMARY:Applying software engineering principles to data science projects
DTSTART:20200617T133500Z
DTEND:20200617T143000Z
DTSTAMP:20260421T175453Z
UID:session/SNDPLZVzmNZtHysAjcdo6A@hasgeek.com
SEQUENCE:0
CREATED:20200610T061710Z
DESCRIPTION:\n
LAST-MODIFIED:20200624T130418Z
LOCATION:Online
ORGANIZER;CN="The Fifth Elephant":MAILTO:no-reply@hasgeek.com
BEGIN:VALARM
ACTION:display
DESCRIPTION:Applying software engineering principles to data science proje
 cts in 5 minutes
TRIGGER:-PT5M
END:VALARM
END:VEVENT
BEGIN:VEVENT
SUMMARY:Summary and conclusion
DTSTART:20200617T143000Z
DTEND:20200617T144000Z
DTSTAMP:20260421T175453Z
UID:session/KCErf6YVtQaUpeV7vDZmjX@hasgeek.com
SEQUENCE:0
CREATED:20200610T061734Z
DESCRIPTION:\n
LAST-MODIFIED:20200610T061736Z
LOCATION:Online
ORGANIZER;CN="The Fifth Elephant":MAILTO:no-reply@hasgeek.com
BEGIN:VALARM
ACTION:display
DESCRIPTION:Summary and conclusion in 5 minutes
TRIGGER:-PT5M
END:VALARM
END:VEVENT
END:VCALENDAR
