BEGIN:VCALENDAR
VERSION:2.0
PRODID:-//HasGeek//NONSGML Funnel//EN
DESCRIPTION:Making Data Science Work
X-WR-CALDESC:Making Data Science Work
NAME:Machine Learning Models and Productionization
X-WR-CALNAME:Machine Learning Models and Productionization
REFRESH-INTERVAL;VALUE=DURATION:PT12H
SUMMARY:Machine Learning Models and Productionization
TIMEZONE-ID:Asia/Kolkata
X-PUBLISHED-TTL:PT12H
X-WR-TIMEZONE:Asia/Kolkata
BEGIN:VEVENT
SUMMARY:Introduction to the event and the speakers
DTSTART:20200603T122000Z
DTEND:20200603T123000Z
DTSTAMP:20260421T175453Z
UID:session/SMmifAgH4UG1YgnjLxaN5A@hasgeek.com
SEQUENCE:0
CREATED:20200526T063642Z
DESCRIPTION:\n
LAST-MODIFIED:20200526T063739Z
LOCATION:Online
ORGANIZER;CN="The Fifth Elephant":MAILTO:no-reply@hasgeek.com
BEGIN:VALARM
ACTION:display
DESCRIPTION:Introduction to the event and the speakers in 5 minutes
TRIGGER:-PT5M
END:VALARM
END:VEVENT
BEGIN:VEVENT
SUMMARY:Model Productionization
DTSTART:20200603T123000Z
DTEND:20200603T133500Z
DTSTAMP:20260421T175453Z
UID:session/TsqKpJJJwpQ9zZDD5NnePa@hasgeek.com
SEQUENCE:0
CREATED:20200526T063822Z
DESCRIPTION:\n
LAST-MODIFIED:20200716T132601Z
LOCATION:Online
ORGANIZER;CN="The Fifth Elephant":MAILTO:no-reply@hasgeek.com
BEGIN:VALARM
ACTION:display
DESCRIPTION:Model Productionization in 5 minutes
TRIGGER:-PT5M
END:VALARM
END:VEVENT
BEGIN:VEVENT
SUMMARY:Feedback and summary\; next session details.
DTSTART:20200603T133500Z
DTEND:20200603T134500Z
DTSTAMP:20260421T175453Z
UID:session/CtDPr814EYJw73S3yR1NYj@hasgeek.com
SEQUENCE:0
CREATED:20200526T063901Z
DESCRIPTION:\n
LAST-MODIFIED:20200526T063904Z
LOCATION:Online
ORGANIZER;CN="The Fifth Elephant":MAILTO:no-reply@hasgeek.com
BEGIN:VALARM
ACTION:display
DESCRIPTION:Feedback and summary\; next session details. in 5 minutes
TRIGGER:-PT5M
END:VALARM
END:VEVENT
END:VCALENDAR
