BEGIN:VCALENDAR
VERSION:2.0
PRODID:-//HasGeek//NONSGML Funnel//EN
DESCRIPTION:Making Data Science Work
X-WR-CALDESC:Making Data Science Work
NAME:Setting up Machine Learning (ML) Projects for Success
X-WR-CALNAME:Setting up Machine Learning (ML) Projects for Success
REFRESH-INTERVAL;VALUE=DURATION:PT12H
SUMMARY:Setting up Machine Learning (ML) Projects for Success
TIMEZONE-ID:Asia/Kolkata
X-PUBLISHED-TTL:PT12H
X-WR-TIMEZONE:Asia/Kolkata
BEGIN:VEVENT
SUMMARY:Introduction to the event and the speakers
DTSTART:20200520T122000Z
DTEND:20200520T123000Z
DTSTAMP:20260421T193343Z
UID:session/2seUYp54EKszDzBf2dhf2T@hasgeek.com
SEQUENCE:0
CREATED:20200525T094134Z
DESCRIPTION:\n
LAST-MODIFIED:20200525T094136Z
LOCATION:Online - Online\nIN
ORGANIZER;CN="The Fifth Elephant":MAILTO:no-reply@hasgeek.com
BEGIN:VALARM
ACTION:display
DESCRIPTION:Introduction to the event and the speakers in Online in 5 minu
 tes
TRIGGER:-PT5M
END:VALARM
END:VEVENT
BEGIN:VEVENT
SUMMARY:Setting up Machine Learning (ML) projects for success
DTSTART:20200520T123000Z
DTEND:20200520T131500Z
DTSTAMP:20260421T193343Z
UID:session/2bCpUczTH9QpSdptsez2LH@hasgeek.com
SEQUENCE:0
CREATED:20200506T121856Z
DESCRIPTION:\n
LAST-MODIFIED:20200608T051638Z
LOCATION:Online - Online\nIN
ORGANIZER;CN="The Fifth Elephant":MAILTO:no-reply@hasgeek.com
BEGIN:VALARM
ACTION:display
DESCRIPTION:Setting up Machine Learning (ML) projects for success in Onlin
 e in 5 minutes
TRIGGER:-PT5M
END:VALARM
END:VEVENT
BEGIN:VEVENT
SUMMARY:Q&A session
DTSTART:20200520T131500Z
DTEND:20200520T133000Z
DTSTAMP:20260421T193343Z
UID:session/83L71nLtEYMbatGGPR37TB@hasgeek.com
SEQUENCE:0
CREATED:20200506T121925Z
DESCRIPTION:\n
LAST-MODIFIED:20200506T121942Z
LOCATION:Online - Online\nIN
ORGANIZER;CN="The Fifth Elephant":MAILTO:no-reply@hasgeek.com
BEGIN:VALARM
ACTION:display
DESCRIPTION:Q&A session in Online in 5 minutes
TRIGGER:-PT5M
END:VALARM
END:VEVENT
BEGIN:VEVENT
SUMMARY:Feedback and closing summary\; next meetup information
DTSTART:20200520T133000Z
DTEND:20200520T134000Z
DTSTAMP:20260421T193343Z
UID:session/5ACAPZdXqv5hZB9FJg2q6T@hasgeek.com
SEQUENCE:0
CREATED:20200506T122008Z
DESCRIPTION:\n
LAST-MODIFIED:20200506T122011Z
LOCATION:Online - Online\nIN
ORGANIZER;CN="The Fifth Elephant":MAILTO:no-reply@hasgeek.com
BEGIN:VALARM
ACTION:display
DESCRIPTION:Feedback and closing summary\; next meetup information in Onli
 ne in 5 minutes
TRIGGER:-PT5M
END:VALARM
END:VEVENT
END:VCALENDAR
