BEGIN:VCALENDAR
VERSION:2.0
PRODID:-//HasGeek//NONSGML Funnel//EN
DESCRIPTION:First edition: covering fleet management and mobility
X-WR-CALDESC:First edition: covering fleet management and mobility
NAME:Logistics conference
X-WR-CALNAME:Logistics conference
REFRESH-INTERVAL;VALUE=DURATION:PT12H
SUMMARY:Logistics conference
TIMEZONE-ID:Asia/Kolkata
X-PUBLISHED-TTL:PT12H
X-WR-TIMEZONE:Asia/Kolkata
BEGIN:VEVENT
SUMMARY:Check-in and breakfast
DTSTART:20181124T033000Z
DTEND:20181124T040000Z
DTSTAMP:20260419T170441Z
UID:session/YA3Tb8mumE71CSDzqcdm7G@hasgeek.com
SEQUENCE:0
CREATED:20180925T075919Z
DESCRIPTION:\n
LAST-MODIFIED:20181113T062705Z
LOCATION:NIMHANS Convention Centre\, Bangalore
ORGANIZER;CN="The Fifth Elephant":MAILTO:no-reply@hasgeek.com
BEGIN:VALARM
ACTION:display
DESCRIPTION:Check-in and breakfast in 5 minutes
TRIGGER:-PT5M
END:VALARM
END:VEVENT
BEGIN:VEVENT
SUMMARY:Introduction to the conference.
DTSTART:20181124T040000Z
DTEND:20181124T040500Z
DTSTAMP:20260419T170441Z
UID:session/Cji3HYnvXVBTDds7LVzBRD@hasgeek.com
SEQUENCE:0
CREATED:20180925T075951Z
DESCRIPTION:\n
LAST-MODIFIED:20181122T114248Z
LOCATION:Auditorium 2 - NIMHANS Convention Centre\nBangalore\nIN
ORGANIZER;CN="The Fifth Elephant":MAILTO:no-reply@hasgeek.com
BEGIN:VALARM
ACTION:display
DESCRIPTION:Introduction to the conference. in Auditorium 2 in 5 minutes
TRIGGER:-PT5M
END:VALARM
END:VEVENT
BEGIN:VEVENT
SUMMARY:Daily Run Sheet is not daily manual work anymore
DTSTART:20181124T040500Z
DTEND:20181124T043500Z
DTSTAMP:20260419T170441Z
UID:session/DJC2Ls94uFfZnqf5dujFi5@hasgeek.com
SEQUENCE:2
CATEGORIES:Crisp talk,Intermediate
CREATED:20181113T062909Z
DESCRIPTION:Imagine if the process of creating a daily run sheet every mor
 ning for field executives has been automated to all levels. A solution tha
 t can automatically:\n\n+ find out which sub-locality each package belongs
  to\n+ how many FEs are available for a particular DC on a day\n+ allot pa
 ckages to these FEs\n+ decide the order of delivery of each package in a r
 oute\n\n### Speaker bio\n\nA computer science engineer turned decision sci
 entist turned data scientist. I have an experience of ~4 years.\n\nHaving 
 worked closely with the board of directors of 3 startups in India & Indone
 sia\, I am known for my business understanding\, problem solving approach 
 and obviously driving data science problems to the final execution. \n\n**
 Personal:** \na yoga lover\, a poetess\, painter\, avid trekker & wanderer
  who is best at talking to people and learning about them\n
LAST-MODIFIED:20230810T072606Z
LOCATION:Auditorium 2 - NIMHANS Convention Centre\nBangalore\nIN
ORGANIZER;CN="The Fifth Elephant":MAILTO:no-reply@hasgeek.com
URL:https://hasgeek.com/fifthelephant/logistics-conf-2018/schedule/daily-r
 un-sheet-is-not-a-daily-manual-work-anymore-DJC2Ls94uFfZnqf5dujFi5
BEGIN:VALARM
ACTION:display
DESCRIPTION:Daily Run Sheet is not daily manual work anymore in Auditorium
  2 in 5 minutes
TRIGGER:-PT5M
END:VALARM
END:VEVENT
BEGIN:VEVENT
SUMMARY:Perfect grocery deliveries: solving location problems unique to In
 dia
DTSTART:20181124T043500Z
DTEND:20181124T050500Z
DTSTAMP:20260419T170441Z
UID:session/BQRvRyDF2uSM7jD52sT3Rp@hasgeek.com
SEQUENCE:2
CATEGORIES:Intermediate
CREATED:20181113T063056Z
DESCRIPTION:Refer below link\n\nhttps://www.linkedin.com/pulse/how-flipkar
 t-fsg-enabling-perfect-grocery-deliveries-geocoding-madan/\n\n### Speaker 
 bio\n\nI am working as the Senior Product Manager with Flipkart and workin
 g on solving the problem of address and location intelligence for India ma
 rket. We have build a crowdsourced geo-location platform to pin-point the 
 exact customer location with highest precision.\n
LAST-MODIFIED:20230810T072606Z
LOCATION:Auditorium 2 - NIMHANS Convention Centre\nBangalore\nIN
ORGANIZER;CN="The Fifth Elephant":MAILTO:no-reply@hasgeek.com
URL:https://hasgeek.com/fifthelephant/logistics-conf-2018/schedule/perfect
 -grocery-deliveries-solving-location-problems-unique-to-india-BQRvRyDF2uSM
 7jD52sT3Rp
BEGIN:VALARM
ACTION:display
DESCRIPTION:Perfect grocery deliveries: solving location problems unique t
 o India in Auditorium 2 in 5 minutes
TRIGGER:-PT5M
END:VALARM
END:VEVENT
BEGIN:VEVENT
SUMMARY:Using visualizations for addressing fleet management problems
DTSTART:20181124T050500Z
DTEND:20181124T052000Z
DTSTAMP:20260419T170441Z
UID:session/UcXrNjZF1QEMv4f5Hdjxks@hasgeek.com
SEQUENCE:2
CATEGORIES:Crisp talk,Intermediate
CREATED:20181113T065920Z
DESCRIPTION:Fleet managers/Logistics planners have a lot of day-to-day tas
 ks and decision points. In this brief talk\, I want to discuss problems fa
 ced by logistics planners\, try to break it down into essential features\,
  and discuss some of the ways in which we approach that problem\, with sol
 utions.\n\n### Speaker bio\n\nI run the data sciences team at pikkol.com. 
 We use Dataviz to take most of our logistic decisions\, and many are later
  automated into algorithms\, which logistics managers simply monitor. In a
 ddition\, I have taken guest lectures at business schools\, including IIM 
 Trichy on the topic Data Visualization for Managers.\n
LAST-MODIFIED:20230810T072606Z
LOCATION:Auditorium 2 - NIMHANS Convention Centre\nBangalore\nIN
ORGANIZER;CN="The Fifth Elephant":MAILTO:no-reply@hasgeek.com
URL:https://hasgeek.com/fifthelephant/logistics-conf-2018/schedule/using-v
 isualizations-for-addressing-fleet-management-problems-UcXrNjZF1QEMv4f5Hdj
 xks
BEGIN:VALARM
ACTION:display
DESCRIPTION:Using visualizations for addressing fleet management problems 
 in Auditorium 2 in 5 minutes
TRIGGER:-PT5M
END:VALARM
END:VEVENT
BEGIN:VEVENT
SUMMARY:Morning beverage break
DTSTART:20181124T052000Z
DTEND:20181124T055000Z
DTSTAMP:20260419T170441Z
UID:session/6s7u2sKZXCuw1n73JJy7kJ@hasgeek.com
SEQUENCE:0
CREATED:20180925T080233Z
DESCRIPTION:\n
LAST-MODIFIED:20181123T130320Z
LOCATION:NIMHANS Convention Centre\, Bangalore
ORGANIZER;CN="The Fifth Elephant":MAILTO:no-reply@hasgeek.com
BEGIN:VALARM
ACTION:display
DESCRIPTION:Morning beverage break in 5 minutes
TRIGGER:-PT5M
END:VALARM
END:VEVENT
BEGIN:VEVENT
SUMMARY:Revenue maximisation from PEDL trips using network analysis and ge
 ospatial mapping
DTSTART:20181124T055000Z
DTEND:20181124T061500Z
DTSTAMP:20260419T170441Z
UID:session/MTjKETR26XThv8DJCASpie@hasgeek.com
SEQUENCE:2
CATEGORIES:Full talk,Intermediate
CREATED:20181120T122610Z
DESCRIPTION:The talk will cover the following aspects:\n1. What is PEDL an
 d its Journey till now\n2. The Business challenges across IOT devices\, op
 erations and fleet optimization\n4. How we used network analysis to mitiga
 te key business challenge of fleet optimization\n5. Using Geospatial mappi
 ng to identify new areas to expand PEDL network\n6. Other recent initiativ
 es to maximize revenue and trips per bike\n7. Q&A\n\n### Speaker bio\n\nAr
 pit is the Head of Data science at Zoomcar and brings 8 years of rich expe
 rience in space of inventory optimization & customer analytics for industr
 ies such as Fashion Retail\,Insurance\,Technology and Shared mobility. He 
 has been awarded with the prestigious award of "Best Use of Customer Insig
 hts to enhance customer experience" at National Customer Fest\, 2017. Arpi
 t is currently spearheading Zoomcar's effort to proactively Optimize on gr
 ound fleet\, increase customer retention and identifying new opportunities
  of business expansion\n
LAST-MODIFIED:20230810T072606Z
LOCATION:Auditorium 2 - NIMHANS Convention Centre\nBangalore\nIN
ORGANIZER;CN="The Fifth Elephant":MAILTO:no-reply@hasgeek.com
URL:https://hasgeek.com/fifthelephant/logistics-conf-2018/schedule/revenue
 -maximisation-from-pedl-trips-using-network-analysis-and-geospatial-mappin
 g-MTjKETR26XThv8DJCASpie
BEGIN:VALARM
ACTION:display
DESCRIPTION:Revenue maximisation from PEDL trips using network analysis an
 d geospatial mapping in Auditorium 2 in 5 minutes
TRIGGER:-PT5M
END:VALARM
END:VEVENT
BEGIN:VEVENT
SUMMARY:Birds of a Feather (BOF) session: Comparing map APIs and map provi
 ders. 
DTSTART:20181124T061500Z
DTEND:20181124T070000Z
DTSTAMP:20260419T170441Z
UID:session/8tSYzGbpkkWNnUkoR7Furj@hasgeek.com
SEQUENCE:0
CREATED:20181113T070217Z
DESCRIPTION:\n
LAST-MODIFIED:20181123T130327Z
LOCATION:Auditorium 2 - NIMHANS Convention Centre\nBangalore\nIN
ORGANIZER;CN="The Fifth Elephant":MAILTO:no-reply@hasgeek.com
BEGIN:VALARM
ACTION:display
DESCRIPTION:Birds of a Feather (BOF) session: Comparing map APIs and map p
 roviders.  in Auditorium 2 in 5 minutes
TRIGGER:-PT5M
END:VALARM
END:VEVENT
BEGIN:VEVENT
SUMMARY:Supply chain: network intelligence and orchestration
DTSTART:20181124T070000Z
DTEND:20181124T074000Z
DTSTAMP:20260419T170441Z
UID:session/EnSgHP9xiLQCuH97NVrZ9M@hasgeek.com
SEQUENCE:2
CATEGORIES:Crisp talk,Intermediate
CREATED:20181120T122829Z
DESCRIPTION:- Establish the demands of the operating space. [Horizontal Ma
 rketplace]\n- Establish the significance of sustainable proposition [Exper
 ience\, Cost]\n- Design of Intelligent Network Orchestration\n- - Network 
 awareness (Lead time\, capacity\, throughput)\n- - Systemised Network Orch
 estration \n- - Demand Shaping through Service pricing\n- - Supply Variabi
 lity management\n- Way forward\n- - Developing an Ecosystem (Vendors\, Par
 tners\, Free-lancers)\n- - Value creation through integration across the v
 alue chain (Manufacturer\, Distributor\, Seller/Retailer\, Customers)\n\n#
 ## Speaker bio\n\nSenthil is a Director of Products\, managing fulfillment
  experience in Flipkart. I have 7+ years spent on deep understanding of ec
 ommerce supply chain technology. Passed out from NIT-Trichy & IIM-Calcutta
 \, have started my product management journey in Flipkart. Have launched v
 ariety of supply chain solutions in Flipkart expanding across categories\,
  business models and also have indepth knowledge in managing cash flow sol
 utions\, accounting\, vendor management\, procurement\, planning & forecas
 ting.\n
LAST-MODIFIED:20230810T072606Z
LOCATION:Auditorium 2 - NIMHANS Convention Centre\nBangalore\nIN
ORGANIZER;CN="The Fifth Elephant":MAILTO:no-reply@hasgeek.com
URL:https://hasgeek.com/fifthelephant/logistics-conf-2018/schedule/supply-
 chain-network-intelligence-and-orchestration-EnSgHP9xiLQCuH97NVrZ9M
BEGIN:VALARM
ACTION:display
DESCRIPTION:Supply chain: network intelligence and orchestration in Audito
 rium 2 in 5 minutes
TRIGGER:-PT5M
END:VALARM
END:VEVENT
BEGIN:VEVENT
SUMMARY:Lunch break
DTSTART:20181124T074000Z
DTEND:20181124T084000Z
DTSTAMP:20260419T170441Z
UID:session/QtYxf271BW3rBrJkvmhaE1@hasgeek.com
SEQUENCE:0
CREATED:20180925T080432Z
DESCRIPTION:\n
LAST-MODIFIED:20181123T130333Z
LOCATION:NIMHANS Convention Centre\, Bangalore
ORGANIZER;CN="The Fifth Elephant":MAILTO:no-reply@hasgeek.com
BEGIN:VALARM
ACTION:display
DESCRIPTION:Lunch break in 5 minutes
TRIGGER:-PT5M
END:VALARM
END:VEVENT
BEGIN:VEVENT
SUMMARY:Predicting order batchability 
DTSTART:20181124T084000Z
DTEND:20181124T091000Z
DTSTAMP:20260419T170441Z
UID:session/EFnmHnpR9jStNgeDcm4TCf@hasgeek.com
SEQUENCE:2
CATEGORIES:Crisp talk,Intermediate
CREATED:20181114T085029Z
DESCRIPTION:We will talk about how we solved the problem with the help of 
 Machine Learning/AI\, Operations and Engineering.\nContent of the talk wil
 l be around:\n1) Batching Overview.\n2) Problems with the existing framewo
 rk\n3) Customer Experience angle in batching\n4) First Order batching Pred
 iction\n5) How First Order batching Prediction turned the numbers towards 
 Swiggy\n6) Next Steps\n\n### Speaker bio\n\nSenior Data Scientist at Swigg
 y\n
LAST-MODIFIED:20230810T072606Z
LOCATION:Auditorium 2 - NIMHANS Convention Centre\nBangalore\nIN
ORGANIZER;CN="The Fifth Elephant":MAILTO:no-reply@hasgeek.com
URL:https://hasgeek.com/fifthelephant/logistics-conf-2018/schedule/predict
 ing-order-batchability-EFnmHnpR9jStNgeDcm4TCf
BEGIN:VALARM
ACTION:display
DESCRIPTION:Predicting order batchability  in Auditorium 2 in 5 minutes
TRIGGER:-PT5M
END:VALARM
END:VEVENT
BEGIN:VEVENT
SUMMARY:Birds Of Feather (BOF) session: Operations War Stories
DTSTART:20181124T091000Z
DTEND:20181124T095500Z
DTSTAMP:20260419T170441Z
UID:session/7y2xbW3MhwXZSv8ft84x8M@hasgeek.com
SEQUENCE:0
CREATED:20181113T072139Z
DESCRIPTION:\n
LAST-MODIFIED:20181123T130339Z
LOCATION:Auditorium 2 - NIMHANS Convention Centre\nBangalore\nIN
ORGANIZER;CN="The Fifth Elephant":MAILTO:no-reply@hasgeek.com
BEGIN:VALARM
ACTION:display
DESCRIPTION:Birds Of Feather (BOF) session: Operations War Stories in Audi
 torium 2 in 5 minutes
TRIGGER:-PT5M
END:VALARM
END:VEVENT
BEGIN:VEVENT
SUMMARY:Virtual assistant for hiring last mile workforce
DTSTART:20181124T095500Z
DTEND:20181124T102000Z
DTSTAMP:20260419T170441Z
UID:session/RmQncUjDmCQQKPfoQYMQT6@hasgeek.com
SEQUENCE:2
CATEGORIES:Full talk,Intermediate
CREATED:20181113T071029Z
DESCRIPTION:1. Introduction to the High volume Recruitment problem\n2. Bre
 akdown of the problem in terms of technical challenges\n3. Natural Languag
 e Processing Pipeline\n4. Building a data collection pipeline\n5. Handling
  Variability in Data\n6. Understanding User Needs\n7. Edge Cases\n8. Perfo
 rmance and Evaluation\n9. The Road Ahead\n\n### Speaker bio\n\nPiyush is a
  graduate from Georgia Institute of Techonology and is currently working a
 s an NLP Engineer at vahan.ai. After passing out from IITR with a Bachelor
 s in ECE\, he started out his career as a 4G protocol engineer but soon go
 t attracted towards the fast growing ML/AI domain. Over time he switched o
 ver to this domain and\, after some exploration\, found his interest in wo
 rking with vernacular languages. \n\nWhen he is not at work\, he spends hi
 s time focussing on fitness and honing his skills with the guitar.\nLinked
 In: https://www.linkedin.com/in/piyushmakhija/\n
LAST-MODIFIED:20230810T072606Z
LOCATION:Auditorium 2 - NIMHANS Convention Centre\nBangalore\nIN
ORGANIZER;CN="The Fifth Elephant":MAILTO:no-reply@hasgeek.com
URL:https://hasgeek.com/fifthelephant/logistics-conf-2018/schedule/virtual
 -assistant-for-hiring-last-mile-workforce-RmQncUjDmCQQKPfoQYMQT6
BEGIN:VALARM
ACTION:display
DESCRIPTION:Virtual assistant for hiring last mile workforce in Auditorium
  2 in 5 minutes
TRIGGER:-PT5M
END:VALARM
END:VEVENT
BEGIN:VEVENT
SUMMARY:Evening beverage break
DTSTART:20181124T102000Z
DTEND:20181124T105000Z
DTSTAMP:20260419T170441Z
UID:session/BahCq8RLEmw9E7w8e9R2mo@hasgeek.com
SEQUENCE:0
CREATED:20181113T071610Z
DESCRIPTION:\n
LAST-MODIFIED:20181123T130345Z
LOCATION:NIMHANS Convention Centre\, Bangalore
ORGANIZER;CN="The Fifth Elephant":MAILTO:no-reply@hasgeek.com
BEGIN:VALARM
ACTION:display
DESCRIPTION:Evening beverage break in 5 minutes
TRIGGER:-PT5M
END:VALARM
END:VEVENT
BEGIN:VEVENT
SUMMARY:Product development for fleet management
DTSTART:20181124T105000Z
DTEND:20181124T113000Z
DTSTAMP:20260419T170441Z
UID:session/22EtAmwRuD3HGyAWA5A9Ys@hasgeek.com
SEQUENCE:2
CATEGORIES:Full talk,Intermediate
CREATED:20181121T092731Z
DESCRIPTION:The talk will be structured in two parts - a) Engineering Chal
 lenges and Learnings\, b) Product and Operational Challenges and Learnings
 .\nFollowing topics will be covered in the first part - \n1) Location capt
 ure with optimised battery drain\n2) Open Source Solutions for Routing Eng
 ines\nFollowing topics will be covered in the second part - \n1) Importanc
 e of Gamification for fleet management\n2) Building trust among partners w
 ith transparent payouts\n3) Discussions on impact of in-app traininig meth
 odologies\n4) Fraud Detection for effective fleet management\n\n### Speake
 r bio\n\nCo-founder and CTO at Shadowfax\n
LAST-MODIFIED:20230810T072606Z
LOCATION:Auditorium 2 - NIMHANS Convention Centre\nBangalore\nIN
ORGANIZER;CN="The Fifth Elephant":MAILTO:no-reply@hasgeek.com
URL:https://hasgeek.com/fifthelephant/logistics-conf-2018/schedule/deliver
 ing-for-india-by-bharat-delivery-partners-22EtAmwRuD3HGyAWA5A9Ys
BEGIN:VALARM
ACTION:display
DESCRIPTION:Product development for fleet management in Auditorium 2 in 5 
 minutes
TRIGGER:-PT5M
END:VALARM
END:VEVENT
BEGIN:VEVENT
SUMMARY:Sales fleet transformation and optimisation
DTSTART:20181124T113000Z
DTEND:20181124T121000Z
DTSTAMP:20260419T170441Z
UID:session/XRedco3G5wwTDgGwnzkRR4@hasgeek.com
SEQUENCE:2
CATEGORIES:Full talk,Intermediate
CREATED:20181113T070955Z
DESCRIPTION:The talk is structured in four major parts. The first part wil
 l talk about - what goes in organising salesfleet movement?. It will also 
 give some qualitative insight into problems of the stakeholders. The secon
 d section will talk about quantitative insight of the problem. In the thir
 d section\, we formally describe the problem\, talk about the solution app
 roach and show real world examples of implementations. In the final sectio
 n\, we talk about future trends. \n\n1. What is a sales beat?\n2. Why a sa
 les beat? \n3. Stakeholder point of views - Salesman\, Shopkeeper and Sale
 s Managers\n\n4. Bird eye view into the problem\n5. Real world visualisati
 ons of the problem\n\n6. Formal problem statement\n7. Complexity and scale
  of problem\n8. Solution approach\n9. Real world visualisations of the sol
 ution \n\n10. Changes and implementation challenges\n11. Way forward \n\n1
 2. Summary and conclusion\n\n### Speaker bio\n\nRahul is a graduate from U
 C Berkeley and has experience across diverse fields ranging from Mechanica
 l Engineering\, Operations Research to User Centered Design and Product De
 velopment. He has expertise in mathematical modelling techniques like mixe
 d integer programming\, heuristics\, metaheuristics and stochastic program
 ming. In the past two years\, he has focussed on developing novel optimisa
 tion algorithms for routing\, network optimisation and inventory problems 
 at Locus.sh. He also has expertise in building machine learning models and
  integrating them with classical optimisation techniques.\n
LAST-MODIFIED:20230810T072606Z
LOCATION:Auditorium 2 - NIMHANS Convention Centre\nBangalore\nIN
ORGANIZER;CN="The Fifth Elephant":MAILTO:no-reply@hasgeek.com
URL:https://hasgeek.com/fifthelephant/logistics-conf-2018/schedule/sales-f
 leet-transformation-and-optimisation-XRedco3G5wwTDgGwnzkRR4
BEGIN:VALARM
ACTION:display
DESCRIPTION:Sales fleet transformation and optimisation in Auditorium 2 in
  5 minutes
TRIGGER:-PT5M
END:VALARM
END:VEVENT
BEGIN:VEVENT
SUMMARY:Birds of Feather (BOF) session: Solving last mile problems in logi
 stics\, fleet management and mobility. 
DTSTART:20181124T121000Z
DTEND:20181124T125500Z
DTSTAMP:20260419T170441Z
UID:session/REX8DEPKcHZLDdGG3xxtv1@hasgeek.com
SEQUENCE:0
CREATED:20181113T071144Z
DESCRIPTION:\n
LAST-MODIFIED:20181124T093122Z
LOCATION:Auditorium 2 - NIMHANS Convention Centre\nBangalore\nIN
ORGANIZER;CN="The Fifth Elephant":MAILTO:no-reply@hasgeek.com
BEGIN:VALARM
ACTION:display
DESCRIPTION:Birds of Feather (BOF) session: Solving last mile problems in 
 logistics\, fleet management and mobility.  in Auditorium 2 in 5 minutes
TRIGGER:-PT5M
END:VALARM
END:VEVENT
BEGIN:VEVENT
SUMMARY:Closing remarks: way forward and announcement about publication of
  handbook from the conference 
DTSTART:20181124T125500Z
DTEND:20181124T130500Z
DTSTAMP:20260419T170441Z
UID:session/FYYPD4JffnbB4FdjisVzW5@hasgeek.com
SEQUENCE:0
CREATED:20181113T072240Z
DESCRIPTION:\n
LAST-MODIFIED:20181123T130401Z
LOCATION:Auditorium 2 - NIMHANS Convention Centre\nBangalore\nIN
ORGANIZER;CN="The Fifth Elephant":MAILTO:no-reply@hasgeek.com
BEGIN:VALARM
ACTION:display
DESCRIPTION:Closing remarks: way forward and announcement about publicatio
 n of handbook from the conference  in Auditorium 2 in 5 minutes
TRIGGER:-PT5M
END:VALARM
END:VEVENT
END:VCALENDAR
