BEGIN:VCALENDAR
VERSION:2.0
PRODID:-//HasGeek//NONSGML Funnel//EN
DESCRIPTION:Hands-on workshop (Online)
X-WR-CALDESC:Hands-on workshop (Online)
NAME:LlamaIndex : Toolkit for building LLM applications
X-WR-CALNAME:LlamaIndex : Toolkit for building LLM applications
REFRESH-INTERVAL;VALUE=DURATION:PT12H
SUMMARY:LlamaIndex : Toolkit for building LLM applications
TIMEZONE-ID:Asia/Kolkata
X-PUBLISHED-TTL:PT12H
X-WR-TIMEZONE:Asia/Kolkata
BEGIN:VEVENT
SUMMARY:LlamaIndex hands-on workshop
DTSTART:20231028T040000Z
DTEND:20231028T103500Z
DTSTAMP:20260421T210433Z
UID:session/YVfozvBZjSW9FhkECLcmrc@hasgeek.com
SEQUENCE:7
CREATED:20231104T041215Z
LAST-MODIFIED:20231104T041243Z
LOCATION:Online
ORGANIZER;CN="The Fifth Elephant":MAILTO:no-reply@hasgeek.com
BEGIN:VALARM
ACTION:display
DESCRIPTION:LlamaIndex hands-on workshop in 5 minutes
TRIGGER:-PT5M
END:VALARM
END:VEVENT
END:VCALENDAR
