BEGIN:VCALENDAR
VERSION:2.0
PRODID:-//HasGeek//NONSGML Funnel//EN
DESCRIPTION:Hands-on workshop
X-WR-CALDESC:Hands-on workshop
NAME:LlamaIndex toolkit for building data-driven applications
X-WR-CALNAME:LlamaIndex toolkit for building data-driven applications
REFRESH-INTERVAL;VALUE=DURATION:PT12H
SUMMARY:LlamaIndex toolkit for building data-driven applications
TIMEZONE-ID:Asia/Kolkata
X-PUBLISHED-TTL:PT12H
X-WR-TIMEZONE:Asia/Kolkata
BEGIN:VEVENT
SUMMARY:Check-in
DTSTART:20230826T042000Z
DTEND:20230826T043000Z
DTSTAMP:20260424T094619Z
UID:session/QGnXBvPKu3PmhaRMEuzLdR@hasgeek.com
SEQUENCE:2
CREATED:20230823T070429Z
LAST-MODIFIED:20230823T070443Z
LOCATION:Second floor - Juspay Technologies Private Limited\nBengaluru\nIN
ORGANIZER;CN="The Fifth Elephant":MAILTO:no-reply@hasgeek.com
BEGIN:VALARM
ACTION:display
DESCRIPTION:Check-in in Second floor in 5 minutes
TRIGGER:-PT5M
END:VALARM
END:VEVENT
BEGIN:VEVENT
SUMMARY:Introduction to workshop\; set-up
DTSTART:20230826T043000Z
DTEND:20230826T060000Z
DTSTAMP:20260424T094619Z
UID:session/NQGSeqcE1FES3ZghG4KGp6@hasgeek.com
SEQUENCE:5
CREATED:20230823T070502Z
LAST-MODIFIED:20230823T070517Z
LOCATION:Second floor - Juspay Technologies Private Limited\nBengaluru\nIN
ORGANIZER;CN="The Fifth Elephant":MAILTO:no-reply@hasgeek.com
BEGIN:VALARM
ACTION:display
DESCRIPTION:Introduction to workshop\; set-up in Second floor in 5 minutes
TRIGGER:-PT5M
END:VALARM
END:VEVENT
BEGIN:VEVENT
SUMMARY:Break
DTSTART:20230826T060000Z
DTEND:20230826T061500Z
DTSTAMP:20260424T094619Z
UID:session/4Ajj8KJfpd988iyzsTFfh7@hasgeek.com
SEQUENCE:2
CREATED:20230823T070526Z
LAST-MODIFIED:20230823T070532Z
LOCATION:Bangalore
ORGANIZER;CN="The Fifth Elephant":MAILTO:no-reply@hasgeek.com
BEGIN:VALARM
ACTION:display
DESCRIPTION:Break in 5 minutes
TRIGGER:-PT5M
END:VALARM
END:VEVENT
BEGIN:VEVENT
SUMMARY:Hands-on exercises
DTSTART:20230826T061500Z
DTEND:20230826T073000Z
DTSTAMP:20260424T094619Z
UID:session/DPazdBrvKTYk3yKu998krB@hasgeek.com
SEQUENCE:4
CREATED:20230823T070548Z
LAST-MODIFIED:20230823T070600Z
LOCATION:Second floor - Juspay Technologies Private Limited\nBengaluru\nIN
ORGANIZER;CN="The Fifth Elephant":MAILTO:no-reply@hasgeek.com
BEGIN:VALARM
ACTION:display
DESCRIPTION:Hands-on exercises in Second floor in 5 minutes
TRIGGER:-PT5M
END:VALARM
END:VEVENT
BEGIN:VEVENT
SUMMARY:Lunch
DTSTART:20230826T073000Z
DTEND:20230826T081500Z
DTSTAMP:20260424T094619Z
UID:session/8BGf7TkGAisuDGwTmz7stR@hasgeek.com
SEQUENCE:3
CREATED:20230823T070615Z
LAST-MODIFIED:20230823T070625Z
LOCATION:Bangalore
ORGANIZER;CN="The Fifth Elephant":MAILTO:no-reply@hasgeek.com
BEGIN:VALARM
ACTION:display
DESCRIPTION:Lunch in 5 minutes
TRIGGER:-PT5M
END:VALARM
END:VEVENT
BEGIN:VEVENT
SUMMARY:Hands-on exercises continued
DTSTART:20230826T081500Z
DTEND:20230826T090500Z
DTSTAMP:20260424T094619Z
UID:session/EGGjq6Ro8Vc8vj6M3tV85z@hasgeek.com
SEQUENCE:4
CREATED:20230823T070638Z
LAST-MODIFIED:20230823T070651Z
LOCATION:Second floor - Juspay Technologies Private Limited\nBengaluru\nIN
ORGANIZER;CN="The Fifth Elephant":MAILTO:no-reply@hasgeek.com
BEGIN:VALARM
ACTION:display
DESCRIPTION:Hands-on exercises continued in Second floor in 5 minutes
TRIGGER:-PT5M
END:VALARM
END:VEVENT
BEGIN:VEVENT
SUMMARY:Case studies and tips and tricks for practical implementation
DTSTART:20230826T090500Z
DTEND:20230826T094500Z
DTSTAMP:20260424T094619Z
UID:session/5rCQnYoLBxLbtyNjsMDio3@hasgeek.com
SEQUENCE:3
CREATED:20230823T070710Z
LAST-MODIFIED:20230823T070721Z
LOCATION:Second floor - Juspay Technologies Private Limited\nBengaluru\nIN
ORGANIZER;CN="The Fifth Elephant":MAILTO:no-reply@hasgeek.com
BEGIN:VALARM
ACTION:display
DESCRIPTION:Case studies and tips and tricks for practical implementation 
 in Second floor in 5 minutes
TRIGGER:-PT5M
END:VALARM
END:VEVENT
BEGIN:VEVENT
SUMMARY:Conclusion\; group photo
DTSTART:20230826T094500Z
DTEND:20230826T100000Z
DTSTAMP:20260424T094619Z
UID:session/QV4YKZyH6Pz76puqhxbT6x@hasgeek.com
SEQUENCE:2
CREATED:20230823T070733Z
LAST-MODIFIED:20230823T070818Z
LOCATION:Second floor - Juspay Technologies Private Limited\nBengaluru\nIN
ORGANIZER;CN="The Fifth Elephant":MAILTO:no-reply@hasgeek.com
BEGIN:VALARM
ACTION:display
DESCRIPTION:Conclusion\; group photo in Second floor in 5 minutes
TRIGGER:-PT5M
END:VALARM
END:VEVENT
BEGIN:VEVENT
SUMMARY:Tea break
DTSTART:20230826T100000Z
DTEND:20230826T102000Z
DTSTAMP:20260424T094619Z
UID:session/3Ax8TGhNRa5SeK3yocharu@hasgeek.com
SEQUENCE:2
CREATED:20230823T070826Z
LAST-MODIFIED:20230823T070834Z
LOCATION:Bangalore
ORGANIZER;CN="The Fifth Elephant":MAILTO:no-reply@hasgeek.com
BEGIN:VALARM
ACTION:display
DESCRIPTION:Tea break in 5 minutes
TRIGGER:-PT5M
END:VALARM
END:VEVENT
END:VCALENDAR
