BEGIN:VCALENDAR
VERSION:2.0
PRODID:-//HasGeek//NONSGML Funnel//EN
DESCRIPTION:The Fifth Elephant monthly meet-up - February 2024
X-WR-CALDESC:The Fifth Elephant monthly meet-up - February 2024
NAME:AI ecosystem meet-up
X-WR-CALNAME:AI ecosystem meet-up
REFRESH-INTERVAL;VALUE=DURATION:PT12H
SUMMARY:AI ecosystem meet-up
TIMEZONE-ID:Asia/Kolkata
X-PUBLISHED-TTL:PT12H
X-WR-TIMEZONE:Asia/Kolkata
BEGIN:VEVENT
SUMMARY:Check-in
DTSTART:20240203T054500Z
DTEND:20240203T060000Z
DTSTAMP:20260421T141541Z
UID:session/EXZST84sfEAMPNZLzVj669@hasgeek.com
SEQUENCE:1
CREATED:20240202T103245Z
LAST-MODIFIED:20240202T103248Z
LOCATION:Bangalore
ORGANIZER;CN="The Fifth Elephant":MAILTO:no-reply@hasgeek.com
BEGIN:VALARM
ACTION:display
DESCRIPTION:Check-in in 5 minutes
TRIGGER:-PT5M
END:VALARM
END:VEVENT
BEGIN:VEVENT
SUMMARY:Building RAG applications with LlamaIndex + Slackbot demo
DTSTART:20240203T060000Z
DTEND:20240203T063000Z
DTSTAMP:20260421T141541Z
UID:session/H3nQaSsRhZ1m48W9EfWwmn@hasgeek.com
SEQUENCE:8
CREATED:20240202T103420Z
LAST-MODIFIED:20240325T055102Z
LOCATION:Bangalore
ORGANIZER;CN="The Fifth Elephant":MAILTO:no-reply@hasgeek.com
BEGIN:VALARM
ACTION:display
DESCRIPTION:Building RAG applications with LlamaIndex + Slackbot demo in 5
  minutes
TRIGGER:-PT5M
END:VALARM
END:VEVENT
BEGIN:VEVENT
SUMMARY:AI and open source startup showcase - 1Page
DTSTART:20240203T063000Z
DTEND:20240203T065000Z
DTSTAMP:20260421T141541Z
UID:session/2m9dSqac8jedVgMgFLYL2n@hasgeek.com
SEQUENCE:5
CREATED:20240202T103448Z
LAST-MODIFIED:20240214T130244Z
LOCATION:Bangalore
ORGANIZER;CN="The Fifth Elephant":MAILTO:no-reply@hasgeek.com
BEGIN:VALARM
ACTION:display
DESCRIPTION:AI and open source startup showcase - 1Page in 5 minutes
TRIGGER:-PT5M
END:VALARM
END:VEVENT
BEGIN:VEVENT
SUMMARY:AI use cases in Genomics and Health - mentor connect session
DTSTART:20240203T065000Z
DTEND:20240203T071000Z
DTSTAMP:20260421T141541Z
UID:session/3aiHq1XUGTiXWGg3q1sCuX@hasgeek.com
SEQUENCE:3
CREATED:20240202T103511Z
LAST-MODIFIED:20240215T024944Z
LOCATION:Bangalore
ORGANIZER;CN="The Fifth Elephant":MAILTO:no-reply@hasgeek.com
BEGIN:VALARM
ACTION:display
DESCRIPTION:AI use cases in Genomics and Health - mentor connect session i
 n 5 minutes
TRIGGER:-PT5M
END:VALARM
END:VEVENT
BEGIN:VEVENT
SUMMARY:AI and open source startup showcase - Snow Mountain AI
DTSTART:20240203T071000Z
DTEND:20240203T073000Z
DTSTAMP:20260421T141541Z
UID:session/8xsVnN7HLZdVWmuD6cBKdK@hasgeek.com
SEQUENCE:3
CREATED:20240202T103541Z
LAST-MODIFIED:20240215T025019Z
LOCATION:Bangalore
ORGANIZER;CN="The Fifth Elephant":MAILTO:no-reply@hasgeek.com
BEGIN:VALARM
ACTION:display
DESCRIPTION:AI and open source startup showcase - Snow Mountain AI in 5 mi
 nutes
TRIGGER:-PT5M
END:VALARM
END:VEVENT
BEGIN:VEVENT
SUMMARY:Projects Showcase
DTSTART:20240203T073000Z
DTEND:20240203T083000Z
DTSTAMP:20260421T141541Z
UID:session/GgdknfRejuCjq3GYRe6eHr@hasgeek.com
SEQUENCE:3
CREATED:20240214T134057Z
LAST-MODIFIED:20240214T134115Z
LOCATION:Bangalore
ORGANIZER;CN="The Fifth Elephant":MAILTO:no-reply@hasgeek.com
BEGIN:VALARM
ACTION:display
DESCRIPTION:Projects Showcase in 5 minutes
TRIGGER:-PT5M
END:VALARM
END:VEVENT
END:VCALENDAR
