BEGIN:VCALENDAR
VERSION:2.0
PRODID:-//HasGeek//NONSGML Funnel//EN
DESCRIPTION:Hands-on workshop
X-WR-CALDESC:Hands-on workshop
NAME:Live wireframing: lean BI using AI
X-WR-CALNAME:Live wireframing: lean BI using AI
REFRESH-INTERVAL;VALUE=DURATION:PT12H
SUMMARY:Live wireframing: lean BI using AI
TIMEZONE-ID:Asia/Kolkata
X-PUBLISHED-TTL:PT12H
X-WR-TIMEZONE:Asia/Kolkata
BEGIN:VEVENT
SUMMARY:Check in
DTSTART:20251205T074500Z
DTEND:20251205T080000Z
DTSTAMP:20260419T185510Z
UID:session/CKes6gngZCJGXo9jU5hDaL@hasgeek.com
SEQUENCE:1
CREATED:20251201T145410Z
LAST-MODIFIED:20251201T145414Z
LOCATION:Bangalore
ORGANIZER;CN="The Fifth Elephant":MAILTO:no-reply@hasgeek.com
BEGIN:VALARM
ACTION:display
DESCRIPTION:Check in in 5 minutes
TRIGGER:-PT5M
END:VALARM
END:VEVENT
BEGIN:VEVENT
SUMMARY:Hands on session
DTSTART:20251205T080000Z
DTEND:20251205T090500Z
DTSTAMP:20260419T185510Z
UID:session/5fMQmDKbWzbRa4kkGV1C2m@hasgeek.com
SEQUENCE:5
CREATED:20251201T145426Z
LAST-MODIFIED:20251205T072419Z
LOCATION:Bangalore
ORGANIZER;CN="The Fifth Elephant":MAILTO:no-reply@hasgeek.com
BEGIN:VALARM
ACTION:display
DESCRIPTION:Hands on session in 5 minutes
TRIGGER:-PT5M
END:VALARM
END:VEVENT
BEGIN:VEVENT
SUMMARY:Break
DTSTART:20251205T093000Z
DTEND:20251205T094500Z
DTSTAMP:20260419T185510Z
UID:session/LHanKWag9r3n21sUpLzRbm@hasgeek.com
SEQUENCE:1
CREATED:20251201T145439Z
LAST-MODIFIED:20251201T145445Z
LOCATION:Bangalore
ORGANIZER;CN="The Fifth Elephant":MAILTO:no-reply@hasgeek.com
BEGIN:VALARM
ACTION:display
DESCRIPTION:Break in 5 minutes
TRIGGER:-PT5M
END:VALARM
END:VEVENT
BEGIN:VEVENT
SUMMARY:Hands on session
DTSTART:20251205T094500Z
DTEND:20251205T110000Z
DTSTAMP:20260419T185510Z
UID:session/DZ4ERm3SDTaf4VwHKiXJLR@hasgeek.com
SEQUENCE:3
CREATED:20251201T145453Z
LAST-MODIFIED:20251201T145502Z
LOCATION:Bangalore
ORGANIZER;CN="The Fifth Elephant":MAILTO:no-reply@hasgeek.com
BEGIN:VALARM
ACTION:display
DESCRIPTION:Hands on session in 5 minutes
TRIGGER:-PT5M
END:VALARM
END:VEVENT
END:VCALENDAR
