BEGIN:VCALENDAR
VERSION:2.0
PRODID:-//HasGeek//NONSGML Funnel//EN
DESCRIPTION:Building NLP applications by prompting LLMs
X-WR-CALDESC:Building NLP applications by prompting LLMs
NAME:Language models are few shot learners
X-WR-CALNAME:Language models are few shot learners
REFRESH-INTERVAL;VALUE=DURATION:PT12H
SUMMARY:Language models are few shot learners
TIMEZONE-ID:Asia/Kolkata
X-PUBLISHED-TTL:PT12H
X-WR-TIMEZONE:Asia/Kolkata
BEGIN:VEVENT
SUMMARY:Language models are few shot learners
DTSTART:20240209T124500Z
DTEND:20240209T140000Z
DTSTAMP:20260421T200945Z
UID:session/8n6Zd3mTR9w1666wJWwX8o@hasgeek.com
SEQUENCE:3
CREATED:20240308T094343Z
LAST-MODIFIED:20240308T094417Z
LOCATION:Bangalore
ORGANIZER;CN="The Fifth Elephant":MAILTO:no-reply@hasgeek.com
BEGIN:VALARM
ACTION:display
DESCRIPTION:Language models are few shot learners in 5 minutes
TRIGGER:-PT5M
END:VALARM
END:VEVENT
END:VCALENDAR
