BEGIN:VCALENDAR
VERSION:2.0
PRODID:-//HasGeek//NONSGML Funnel//EN
DESCRIPTION:A meeting for sharing inputs to draft responses to the propose
 d Bill
X-WR-CALDESC:A meeting for sharing inputs to draft responses to the propos
 ed Bill
NAME:Impact of Non Personal Data Report
X-WR-CALNAME:Impact of Non Personal Data Report
REFRESH-INTERVAL;VALUE=DURATION:PT12H
SUMMARY:Impact of Non Personal Data Report
TIMEZONE-ID:Asia/Kolkata
X-PUBLISHED-TTL:PT12H
X-WR-TIMEZONE:Asia/Kolkata
BEGIN:VEVENT
SUMMARY:Impact of NPD on business and tech - session 1
DTSTART:20200810T123000Z
DTEND:20200810T134500Z
DTSTAMP:20260421T133552Z
UID:session/Mw1KjJ5zqyfVzDCHvefn4E@hasgeek.com
SEQUENCE:0
CREATED:20201111T091614Z
DESCRIPTION:\n
LAST-MODIFIED:20201111T091649Z
LOCATION:Online
ORGANIZER;CN="The Fifth Elephant":MAILTO:no-reply@hasgeek.com
BEGIN:VALARM
ACTION:display
DESCRIPTION:Impact of NPD on business and tech - session 1 in 5 minutes
TRIGGER:-PT5M
END:VALARM
END:VEVENT
BEGIN:VEVENT
SUMMARY:Regulatory landscape of PDP and NPD - an overview\; impact on busi
 ness
DTSTART:20200825T070000Z
DTEND:20200825T074000Z
DTSTAMP:20260421T133552Z
UID:session/VdMbXUcwA4PkMNUSCWZqcz@hasgeek.com
SEQUENCE:2
CREATED:20200820T054633Z
DESCRIPTION:\n\n### Speaker bio\n\nhttps://www.linkedin.com/in/srikanthraj
 agopalan/\n
LAST-MODIFIED:20230810T072606Z
LOCATION:Online
ORGANIZER;CN="The Fifth Elephant":MAILTO:no-reply@hasgeek.com
BEGIN:VALARM
ACTION:display
DESCRIPTION:Regulatory landscape of PDP and NPD - an overview\; impact on 
 business in 5 minutes
TRIGGER:-PT5M
END:VALARM
END:VEVENT
BEGIN:VEVENT
SUMMARY:Q&A session
DTSTART:20200825T074000Z
DTEND:20200825T081000Z
DTSTAMP:20260421T133552Z
UID:session/BXi1BvbYu8k7aJ3ShXWThz@hasgeek.com
SEQUENCE:0
CREATED:20200820T054646Z
DESCRIPTION:\n
LAST-MODIFIED:20200820T054655Z
LOCATION:Online
ORGANIZER;CN="The Fifth Elephant":MAILTO:no-reply@hasgeek.com
BEGIN:VALARM
ACTION:display
DESCRIPTION:Q&A session in 5 minutes
TRIGGER:-PT5M
END:VALARM
END:VEVENT
BEGIN:VEVENT
SUMMARY:Introduction to the session and the speaker
DTSTART:20200829T113000Z
DTEND:20200829T113500Z
DTSTAMP:20260421T133552Z
UID:session/RFLttnTZYTdzEZYyJqdZvh@hasgeek.com
SEQUENCE:0
CREATED:20200825T090731Z
DESCRIPTION:\n
LAST-MODIFIED:20200825T090731Z
LOCATION:Online
ORGANIZER;CN="The Fifth Elephant":MAILTO:no-reply@hasgeek.com
BEGIN:VALARM
ACTION:display
DESCRIPTION:Introduction to the session and the speaker in 5 minutes
TRIGGER:-PT5M
END:VALARM
END:VEVENT
BEGIN:VEVENT
SUMMARY:NPD and its impact on data businesses
DTSTART:20200829T113500Z
DTEND:20200829T115500Z
DTSTAMP:20260421T133552Z
UID:session/LNt9yH2GDfZrGwce3ehYJo@hasgeek.com
SEQUENCE:2
CREATED:20200825T090835Z
DESCRIPTION:Slides for this talk are available on https://drive.google.com
 /file/d/1wZ1cFy1xhSm0d9X28Eew0s2g5ATX96l_/view?usp=sharing\n\n### Speaker 
 bio\n\nhttps://www.linkedin.com/in/sathishks/\n
LAST-MODIFIED:20230810T072606Z
LOCATION:Online
ORGANIZER;CN="The Fifth Elephant":MAILTO:no-reply@hasgeek.com
BEGIN:VALARM
ACTION:display
DESCRIPTION:NPD and its impact on data businesses in 5 minutes
TRIGGER:-PT5M
END:VALARM
END:VEVENT
BEGIN:VEVENT
SUMMARY:Q&A + discussion
DTSTART:20200829T115500Z
DTEND:20200829T123000Z
DTSTAMP:20260421T133552Z
UID:session/R5oFPq3ZHpHV7fDM9oweT5@hasgeek.com
SEQUENCE:0
CREATED:20200825T091005Z
DESCRIPTION:\n
LAST-MODIFIED:20200825T091008Z
LOCATION:Online
ORGANIZER;CN="The Fifth Elephant":MAILTO:no-reply@hasgeek.com
BEGIN:VALARM
ACTION:display
DESCRIPTION:Q&A + discussion in 5 minutes
TRIGGER:-PT5M
END:VALARM
END:VEVENT
BEGIN:VEVENT
SUMMARY:Introduction to the session and the resource persons
DTSTART:20200904T123000Z
DTEND:20200904T123500Z
DTSTAMP:20260421T133552Z
UID:session/FvUK6iEH9WxPKGgcxfj6PF@hasgeek.com
SEQUENCE:0
CREATED:20200829T060702Z
DESCRIPTION:\n
LAST-MODIFIED:20200829T060702Z
LOCATION:Online
ORGANIZER;CN="The Fifth Elephant":MAILTO:no-reply@hasgeek.com
BEGIN:VALARM
ACTION:display
DESCRIPTION:Introduction to the session and the resource persons in 5 minu
 tes
TRIGGER:-PT5M
END:VALARM
END:VEVENT
BEGIN:VEVENT
SUMMARY:Non Personal Data - unpacking the relationship between data and in
 novation
DTSTART:20200904T123500Z
DTEND:20200904T130500Z
DTSTAMP:20260421T133552Z
UID:session/Ff7ApzzRyCWWrCJ86QZN7q@hasgeek.com
SEQUENCE:2
CREATED:20200829T061339Z
DESCRIPTION:\n\n### Speaker bio\n\n[Annabel Lee](https://www.linkedin.com/
 in/annabel-lee-a2692030/) leads Amazon Web Services’ (AWS) public policy
  work on Data issues for APJ. She has deep subject matter expertise on dat
 a issues\, including data protection\, privacy and emerging technology\,\n
 from both the industry and government perspectives. Lee was also Policy an
 d International Manager in the Personal Data Protection Commission of Sing
 apore\, responsible for developing policy and advising both public and pri
 vate sector organizations on\ndata protection and privacy issues.\n\n[Utha
 ra Ganesh](https://www.linkedin.com/in/uthara-ganesh-a0a35824/) leads Amaz
 on Web Services’ (AWS) public policy work on Central Government Policy i
 ssues for India. Her current focus includes data governance\, intermediary
  liability and emerging\ntechnology.\nPrior to joining AWS\, Uthara was Pu
 blic Policy Manager\, India at Amazon\, where supported digital businesses
  incuding Prime Video\, Kindle\, Alexa and Audible in India on issues such
  as censorship\, net neutrality\, OTT regulation\, data protection\, taxat
 ion and copyright.\n\n[Yolnd Lobo](https://www.linkedin.com/in/yolynd-lobo
 -5a73881/) heads the  Public Policy team for  Amazon Web Services in India
  and South Asia. In this capacity\, she leads AWS’ engagement with polic
 y-makers and regulators on all issues related to the adoption of cloud com
 puting\, including cybersecurity\, privacy and personal data protection\, 
 standards\, and technology outsourcing. \n\n[Reshu Natani](https://www.lin
 kedin.com/in/reshunatani/)  assists Amazon Web Services’ (AWS) public po
 licy work on Central Government Policy issues for India. Prior to joining 
 AWS\, Reshu was a LAMP Fellow for MP Ritesh Pandey\, leader of the BSP in 
 Lok Sabha. She has also worked and interned at an early-stage VC fund\, a 
 policy consultancy and several think-tanks.\n
LAST-MODIFIED:20230810T072606Z
LOCATION:Online
ORGANIZER;CN="The Fifth Elephant":MAILTO:no-reply@hasgeek.com
BEGIN:VALARM
ACTION:display
DESCRIPTION:Non Personal Data - unpacking the relationship between data an
 d innovation in 5 minutes
TRIGGER:-PT5M
END:VALARM
END:VEVENT
BEGIN:VEVENT
SUMMARY:Open discussion
DTSTART:20200904T130500Z
DTEND:20200904T133500Z
DTSTAMP:20260421T133552Z
UID:session/UvYZie8GvAsJXRV8eQbdbU@hasgeek.com
SEQUENCE:0
CREATED:20200829T061359Z
DESCRIPTION:\n
LAST-MODIFIED:20200829T061404Z
LOCATION:Online
ORGANIZER;CN="The Fifth Elephant":MAILTO:no-reply@hasgeek.com
BEGIN:VALARM
ACTION:display
DESCRIPTION:Open discussion in 5 minutes
TRIGGER:-PT5M
END:VALARM
END:VEVENT
BEGIN:VEVENT
SUMMARY:Summary and conclusion\; next steps.
DTSTART:20200904T133500Z
DTEND:20200904T134000Z
DTSTAMP:20260421T133552Z
UID:session/4SoQAU1zUkDM2FUTJEzqir@hasgeek.com
SEQUENCE:0
CREATED:20200829T061417Z
DESCRIPTION:\n
LAST-MODIFIED:20200829T061417Z
LOCATION:Online
ORGANIZER;CN="The Fifth Elephant":MAILTO:no-reply@hasgeek.com
BEGIN:VALARM
ACTION:display
DESCRIPTION:Summary and conclusion\; next steps. in 5 minutes
TRIGGER:-PT5M
END:VALARM
END:VEVENT
END:VCALENDAR
