BEGIN:VCALENDAR
VERSION:2.0
PRODID:-//HasGeek//NONSGML Funnel//EN
DESCRIPTION:The Fifth Elephant Video Playlist
X-WR-CALDESC:The Fifth Elephant Video Playlist
NAME:GenAI conversations: Early applications\, policies\, design and more
X-WR-CALNAME:GenAI conversations: Early applications\, policies\, design a
 nd more
REFRESH-INTERVAL;VALUE=DURATION:PT12H
SUMMARY:GenAI conversations: Early applications\, policies\, design and mo
 re
TIMEZONE-ID:Asia/Kolkata
X-PUBLISHED-TTL:PT12H
X-WR-TIMEZONE:Asia/Kolkata
BEGIN:VEVENT
SUMMARY:GenAI conversations: Early applications\, policies\, design and mo
 re
DTSTART:20240229T070000Z
DTEND:20240408T080700Z
DTSTAMP:20260421T210317Z
UID:session/8GTX9jUDuWjtU4K5fSiUDP@hasgeek.com
SEQUENCE:89
CREATED:20240131T073505Z
DESCRIPTION:## NEW on The Fifth Elephant - Video Playlists ▶️\nWe're h
 appy to introduce video playlists\, specially curated for members of The F
 ifth Elephant\, starting with this one on [GenAI](https://hasgeek.com/fift
 helephant/curated-playlist-genai). \n\nIf you want to dig deeper into a to
 pical theme\, the videos in this playlist are good resources to get starte
 d with. The videos are compiled from livestreams and recordings of The Fif
 th Elephant’s archives. Click on any video in the list to begin watching
 .\n\nLook out for our latest Video Playlists at - [https://hasgeek.com/fif
 thelephant/playlists](http://has.gy/589u)\n\n## What is in this playlist?\
 nThis five-part video playlist gives you an overview beyond the hype\, and
  get a closer look at the diverse conversations and insights around GenAI\
 ; understand the evolving landscape of GenAI’s applications in India\, w
 ith an ear to the ground. \n\n**[View the playlist here ](http://has.gy/CE
 kn)▶️**\n\n**1. Navigating the AI Landscape - [Signal messenger app's 
 survival in a surveillance landscape](http://has.gy/CEkn)**\n   Meredith W
 hittaker\, President of Signal Foundation and Kiran Jonnalagadda\, Hasgeek
  discuss how Signal tackles mass surveillance in a tech landscape dominate
 d by big corporations\, offering insights into strategies for resilience a
 nd growth.\n*Curated and organized by https://hasgeek.com/fifthelephant*\n
 \n**2. Mission AI4Bharat - [What and why](http://has.gy/VK63)**\n   Dr. Pr
 atyush Kumar explains why he chose to focus on language technologies for s
 ocial good. Review how AI4Bharat has embarked on a mission to harness AI f
 or the betterment of society.\n*Curated and organized by https://hasgeek.c
 om/generativeAI*\n\n**3. Strategies against AI hallucinations - [AI halluc
 ination strategies](http://has.gy/3wpX)**\n   The GenAI journey takes a te
 chnical turn as Abhinav Verma\, CTO at Longshot.ai helps you explore strat
 egies to reduce AI hallucinations. The Q&A session provides valuable insig
 hts on how to use GPT for Retrieval Augmented Generation (RAG).\n*Curated 
 and organized by https://hasgeek.com/generativeAI*\n\n**4. Deep Hack highl
 ights - [Generative AI hackathon](http://has.gy/ylkQ)**\n   In the bustlin
 g chapter of innovation\, witness the highlights from the Generative AI's 
 Deep Hack hackathon. The collaboration between community\, hackers\, jury 
 and sponsors led to a showcase of innovative projects. These paint a vibra
 nt picture of creativity in action.\n*Curated and organized by https://has
 geek.com/generativeAI*\n\n**5. The intersection of AI and Design - [Future
  impact of AI on design](http://has.gy/YLvD)**\n   Suhrid Palsule takes us
  on a journey at the intersection of AI and design. His insights into the 
 impact of Generative AI on creativity and potential future developments ad
 d a visionary dimension to the narrative.\n*Curated and organized by https
 ://hasgeek.com/tsi*\n\n**[View the playlist here ](http://has.gy/CEkn)▶
 ️**\n\n**[Sign up for The Fifth Elephant membership to access the conten
 ts of this playlist](http://has.gy/axCV).**\n\n\n#GenAI #ArtificalIntellig
 ence #AIinnovation #TechFuture #EmergingTech #AICommunity #AIForGood
LAST-MODIFIED:20240708T080719Z
LOCATION:Online - https://hasgeek.com/fifthelephant/genai-playlist/
ORGANIZER;CN="The Fifth Elephant":MAILTO:no-reply@hasgeek.com
URL:https://hasgeek.com/fifthelephant/genai-playlist/
BEGIN:VALARM
ACTION:display
DESCRIPTION:GenAI conversations: Early applications\, policies\, design an
 d more in 5 minutes
TRIGGER:-PT5M
END:VALARM
END:VEVENT
END:VCALENDAR
