BEGIN:VCALENDAR
VERSION:2.0
PRODID:-//HasGeek//NONSGML Funnel//EN
DESCRIPTION:The Fifth Elephant meetup
X-WR-CALDESC:The Fifth Elephant meetup
NAME:DeepSeek R1: Under the hood & lessons for AI in India
X-WR-CALNAME:DeepSeek R1: Under the hood & lessons for AI in India
REFRESH-INTERVAL;VALUE=DURATION:PT12H
SUMMARY:DeepSeek R1: Under the hood & lessons for AI in India
TIMEZONE-ID:Asia/Kolkata
X-PUBLISHED-TTL:PT12H
X-WR-TIMEZONE:Asia/Kolkata
BEGIN:VEVENT
SUMMARY:Technical review: Deep dive into DeepSeek R1\; lessons for AI in I
 ndia
DTSTART:20250310T123000Z
DTEND:20250310T133000Z
DTSTAMP:20260419T170650Z
UID:session/SoL8FTeBCcbZR5itjDPGcN@hasgeek.com
SEQUENCE:2
CREATED:20250309T082638Z
LAST-MODIFIED:20250309T082647Z
LOCATION:Koramangala Club\, Bangalore
ORGANIZER;CN="The Fifth Elephant":MAILTO:no-reply@hasgeek.com
BEGIN:VALARM
ACTION:display
DESCRIPTION:Technical review: Deep dive into DeepSeek R1\; lessons for AI 
 in India in 5 minutes
TRIGGER:-PT5M
END:VALARM
END:VEVENT
BEGIN:VEVENT
SUMMARY:DeepSeek R1 meet-up
DTSTART:20250321T123000Z
DTEND:20250321T140000Z
DTSTAMP:20260419T170650Z
UID:session/7NPTTJctsMRK9b2areqH7P@hasgeek.com
SEQUENCE:7
CREATED:20250311T030342Z
LAST-MODIFIED:20250323T111359Z
LOCATION:Koramangala Club\, Bangalore
ORGANIZER;CN="The Fifth Elephant":MAILTO:no-reply@hasgeek.com
BEGIN:VALARM
ACTION:display
DESCRIPTION:DeepSeek R1 meet-up in 5 minutes
TRIGGER:-PT5M
END:VALARM
END:VEVENT
END:VCALENDAR
