BEGIN:VCALENDAR
VERSION:2.0
PRODID:-//HasGeek//NONSGML Funnel//EN
DESCRIPTION:The Fifth Elephant Hyderabad meet-up
X-WR-CALDESC:The Fifth Elephant Hyderabad meet-up
NAME:Analyzing data with AI agents
X-WR-CALNAME:Analyzing data with AI agents
REFRESH-INTERVAL;VALUE=DURATION:PT12H
SUMMARY:Analyzing data with AI agents
TIMEZONE-ID:Asia/Kolkata
X-PUBLISHED-TTL:PT12H
X-WR-TIMEZONE:Asia/Kolkata
BEGIN:VEVENT
SUMMARY:Check-in and refreshments
DTSTART:20250320T103000Z
DTEND:20250320T110000Z
DTSTAMP:20260419T170747Z
UID:session/CDDePVK7fhMkKKzME2i8rF@hasgeek.com
SEQUENCE:1
CREATED:20250305T114803Z
GEO:18.677491;74.116533
LAST-MODIFIED:20250305T114808Z
LOCATION:Mithila (Learning Center)\, 4th floor - Castlight Health India Pr
 ivate Limited (Apree Health)\nHITEC City\, Hyderabad\nIN
ORGANIZER;CN="The Fifth Elephant":MAILTO:no-reply@hasgeek.com
BEGIN:VALARM
ACTION:display
DESCRIPTION:Check-in and refreshments in Mithila (Learning Center)\, 4th f
 loor in 5 minutes
TRIGGER:-PT5M
END:VALARM
END:VEVENT
BEGIN:VEVENT
SUMMARY:Introduction to The Fifth Elephant\; meet-up topic
DTSTART:20250320T110000Z
DTEND:20250320T111000Z
DTSTAMP:20260419T170747Z
UID:session/HxKtP7BQCpnLtWvExfQww3@hasgeek.com
SEQUENCE:1
CREATED:20250305T114838Z
GEO:18.677491;74.116533
LAST-MODIFIED:20250305T114842Z
LOCATION:Mithila (Learning Center)\, 4th floor - Castlight Health India Pr
 ivate Limited (Apree Health)\nHITEC City\, Hyderabad\nIN
ORGANIZER;CN="The Fifth Elephant":MAILTO:no-reply@hasgeek.com
BEGIN:VALARM
ACTION:display
DESCRIPTION:Introduction to The Fifth Elephant\; meet-up topic in Mithila 
 (Learning Center)\, 4th floor in 5 minutes
TRIGGER:-PT5M
END:VALARM
END:VEVENT
BEGIN:VEVENT
SUMMARY:Analyzing data with AI Agents
DTSTART:20250320T111000Z
DTEND:20250320T114000Z
DTSTAMP:20260419T170747Z
UID:session/WwsfAXDBR5Sw7tpYRz93Gf@hasgeek.com
SEQUENCE:2
CREATED:20250305T114856Z
GEO:18.677491;74.116533
LAST-MODIFIED:20250305T114908Z
LOCATION:Mithila (Learning Center)\, 4th floor - Castlight Health India Pr
 ivate Limited (Apree Health)\nHITEC City\, Hyderabad\nIN
ORGANIZER;CN="The Fifth Elephant":MAILTO:no-reply@hasgeek.com
BEGIN:VALARM
ACTION:display
DESCRIPTION:Analyzing data with AI Agents in Mithila (Learning Center)\, 4
 th floor in 5 minutes
TRIGGER:-PT5M
END:VALARM
END:VEVENT
BEGIN:VEVENT
SUMMARY:Q&A
DTSTART:20250320T114000Z
DTEND:20250320T115000Z
DTSTAMP:20260419T170747Z
UID:session/AmstW3YeQcRBuZBQyKAwk5@hasgeek.com
SEQUENCE:1
CREATED:20250305T114914Z
GEO:18.677491;74.116533
LAST-MODIFIED:20250305T114916Z
LOCATION:Mithila (Learning Center)\, 4th floor - Castlight Health India Pr
 ivate Limited (Apree Health)\nHITEC City\, Hyderabad\nIN
ORGANIZER;CN="The Fifth Elephant":MAILTO:no-reply@hasgeek.com
BEGIN:VALARM
ACTION:display
DESCRIPTION:Q&A in Mithila (Learning Center)\, 4th floor in 5 minutes
TRIGGER:-PT5M
END:VALARM
END:VEVENT
BEGIN:VEVENT
SUMMARY:Flash talks
DTSTART:20250320T115000Z
DTEND:20250320T120000Z
DTSTAMP:20260419T170747Z
UID:session/KHevTsaeLr5JPeaPgQB6C8@hasgeek.com
SEQUENCE:1
CREATED:20250305T114922Z
GEO:18.677491;74.116533
LAST-MODIFIED:20250305T114925Z
LOCATION:Mithila (Learning Center)\, 4th floor - Castlight Health India Pr
 ivate Limited (Apree Health)\nHITEC City\, Hyderabad\nIN
ORGANIZER;CN="The Fifth Elephant":MAILTO:no-reply@hasgeek.com
BEGIN:VALARM
ACTION:display
DESCRIPTION:Flash talks in Mithila (Learning Center)\, 4th floor in 5 minu
 tes
TRIGGER:-PT5M
END:VALARM
END:VEVENT
BEGIN:VEVENT
SUMMARY:Conclusion\; networking
DTSTART:20250320T120000Z
DTEND:20250320T123000Z
DTSTAMP:20260419T170747Z
UID:session/BBaZx56th1aAxHB1u7CkVd@hasgeek.com
SEQUENCE:1
CREATED:20250305T114942Z
GEO:18.677491;74.116533
LAST-MODIFIED:20250305T114946Z
LOCATION:Mithila (Learning Center)\, 4th floor - Castlight Health India Pr
 ivate Limited (Apree Health)\nHITEC City\, Hyderabad\nIN
ORGANIZER;CN="The Fifth Elephant":MAILTO:no-reply@hasgeek.com
BEGIN:VALARM
ACTION:display
DESCRIPTION:Conclusion\; networking in Mithila (Learning Center)\, 4th flo
 or in 5 minutes
TRIGGER:-PT5M
END:VALARM
END:VEVENT
END:VCALENDAR
