BEGIN:VCALENDAR
VERSION:2.0
PRODID:-//HasGeek//NONSGML Funnel//EN
DESCRIPTION:The Fifth Elephant meetup
X-WR-CALDESC:The Fifth Elephant meetup
NAME:Trends in Data Engineering
X-WR-CALNAME:Trends in Data Engineering
REFRESH-INTERVAL;VALUE=DURATION:PT12H
SUMMARY:Trends in Data Engineering
TIMEZONE-ID:Asia/Kolkata
X-PUBLISHED-TTL:PT12H
X-WR-TIMEZONE:Asia/Kolkata
BEGIN:VEVENT
SUMMARY:Registration
DTSTART:20250131T121500Z
DTEND:20250131T123500Z
DTSTAMP:20260419T170603Z
UID:session/P6yE56w62UC8piNcQDaWkm@hasgeek.com
SEQUENCE:2
CREATED:20250128T034908Z
LAST-MODIFIED:20250128T035003Z
LOCATION:Koramangala Club\, Bangalore
ORGANIZER;CN="The Fifth Elephant":MAILTO:no-reply@hasgeek.com
BEGIN:VALARM
ACTION:display
DESCRIPTION:Registration in 5 minutes
TRIGGER:-PT5M
END:VALARM
END:VEVENT
BEGIN:VEVENT
SUMMARY:Introductions
DTSTART:20250131T123500Z
DTEND:20250131T124500Z
DTSTAMP:20260419T170603Z
UID:session/9d7dF1GUAFdLJ6AaDF33Uf@hasgeek.com
SEQUENCE:4
CREATED:20250128T034923Z
LAST-MODIFIED:20250128T035006Z
LOCATION:Koramangala Club\, Bangalore
ORGANIZER;CN="The Fifth Elephant":MAILTO:no-reply@hasgeek.com
BEGIN:VALARM
ACTION:display
DESCRIPTION:Introductions in 5 minutes
TRIGGER:-PT5M
END:VALARM
END:VEVENT
BEGIN:VEVENT
SUMMARY:Discussion - on data engineering\, streaming tech and data science
  problems that Achal has solved
DTSTART:20250131T124500Z
DTEND:20250131T133000Z
DTSTAMP:20260419T170603Z
UID:session/BySeoRPfs4eRaCPXPAWoUJ@hasgeek.com
SEQUENCE:3
CREATED:20250128T034954Z
LAST-MODIFIED:20250128T035014Z
LOCATION:Koramangala Club\, Bangalore
ORGANIZER;CN="The Fifth Elephant":MAILTO:no-reply@hasgeek.com
BEGIN:VALARM
ACTION:display
DESCRIPTION:Discussion - on data engineering\, streaming tech and data sci
 ence problems that Achal has solved in 5 minutes
TRIGGER:-PT5M
END:VALARM
END:VEVENT
BEGIN:VEVENT
SUMMARY:Flash talk 1
DTSTART:20250131T133000Z
DTEND:20250131T134000Z
DTSTAMP:20260419T170603Z
UID:session/BWfnbaGNDS7JgxpLw9pemE@hasgeek.com
SEQUENCE:2
CREATED:20250128T035023Z
LAST-MODIFIED:20250128T035038Z
LOCATION:Koramangala Club\, Bangalore
ORGANIZER;CN="The Fifth Elephant":MAILTO:no-reply@hasgeek.com
BEGIN:VALARM
ACTION:display
DESCRIPTION:Flash talk 1 in 5 minutes
TRIGGER:-PT5M
END:VALARM
END:VEVENT
BEGIN:VEVENT
SUMMARY:Flash talk 2
DTSTART:20250131T134000Z
DTEND:20250131T135000Z
DTSTAMP:20260419T170603Z
UID:session/AQbrXppXwLz5DZAUiZoYAy@hasgeek.com
SEQUENCE:2
CREATED:20250128T035035Z
LAST-MODIFIED:20250128T035040Z
LOCATION:Koramangala Club\, Bangalore
ORGANIZER;CN="The Fifth Elephant":MAILTO:no-reply@hasgeek.com
BEGIN:VALARM
ACTION:display
DESCRIPTION:Flash talk 2 in 5 minutes
TRIGGER:-PT5M
END:VALARM
END:VEVENT
BEGIN:VEVENT
SUMMARY:Reviews and closing
DTSTART:20250131T135000Z
DTEND:20250131T141000Z
DTSTAMP:20260419T170603Z
UID:session/KQLjfv4noDZ6VYC4cMxZcF@hasgeek.com
SEQUENCE:1
CREATED:20250128T035058Z
LAST-MODIFIED:20250128T035102Z
LOCATION:Koramangala Club\, Bangalore
ORGANIZER;CN="The Fifth Elephant":MAILTO:no-reply@hasgeek.com
BEGIN:VALARM
ACTION:display
DESCRIPTION:Reviews and closing in 5 minutes
TRIGGER:-PT5M
END:VALARM
END:VEVENT
BEGIN:VEVENT
SUMMARY:Networking
DTSTART:20250131T141000Z
DTEND:20250131T150000Z
DTSTAMP:20260419T170603Z
UID:session/XW4Ek5Mxyi19RSV98qhQfz@hasgeek.com
SEQUENCE:1
CREATED:20250128T035108Z
LAST-MODIFIED:20250128T035113Z
LOCATION:Koramangala Club\, Bangalore
ORGANIZER;CN="The Fifth Elephant":MAILTO:no-reply@hasgeek.com
BEGIN:VALARM
ACTION:display
DESCRIPTION:Networking in 5 minutes
TRIGGER:-PT5M
END:VALARM
END:VEVENT
END:VCALENDAR
