BEGIN:VCALENDAR
VERSION:2.0
PRODID:-//HasGeek//NONSGML Funnel//EN
DESCRIPTION:Gradient descent across Indiranagar (run/walk)
X-WR-CALDESC:Gradient descent across Indiranagar (run/walk)
NAME:Fifthel 5k
X-WR-CALNAME:Fifthel 5k
REFRESH-INTERVAL;VALUE=DURATION:PT12H
SUMMARY:Fifthel 5k
TIMEZONE-ID:Asia/Kolkata
X-PUBLISHED-TTL:PT12H
X-WR-TIMEZONE:Asia/Kolkata
BEGIN:VEVENT
SUMMARY:Fifthel 5k
DTSTART:20250720T013000Z
DTEND:20250720T033000Z
DTSTAMP:20260420T032107Z
UID:session/2i69GVUUmZyTV6EVGWVspN@hasgeek.com
SEQUENCE:10
CREATED:20250712T133104Z
DESCRIPTION:### What is Fifthel 5k\nFinished two days of deep-diving into 
 transformer architectures\, dissecting LLM fine-tuning pipelines\, and deb
 ating the ethics and future of GenAI at The [The Fifth Elephant 2025 Annua
 l Conference](https://hasgeek.com/fifthelephant/2025)?\n\nFeeling like you
 r mental GPU is overheating after navigating the complexities of model eva
 luation metrics\, large-scale data engineering\, and AI regulation framewo
 rks?\n\nIt’s time to reset your parameters!\n\n**Fifthel 5K** is your ch
 ance to switch contexts from `fit(model\, X_train\, y_train)` to `fit(trai
 ners\, shoes\, stride_length)` across the trees and gradient descents of I
 ndiranagar and Defence Colony. Join us on **Sunday\, 20th July 2025\, from
  7:30 AM to 9:00 AM** for a refreshing 5-kilometer run (or walk\, or a bri
 sk `pandas.DataFrame.explore()` of the neighborhood!).\n\nThis isn’t abo
 ut tuning your performance to hit a new PR (unless you want to!). It’s a
  casual\, go-at-your-own-pace event designed for fun\, networking\, and st
 retching those legs after an intense couple of conference days. Think of i
 t as a `tool_call(refresh_and_relax)` for your brain and a chance to cross
 -validate your experience with fellow attendees in a different kind of ens
 emble.\n\nWhether you’re a seasoned marathoner or your idea of a long-di
 stance run is similar to running a 2B param model on a GPUless Core i3 pro
 cessor\, everyone’s welcome. Let’s trade loss horror stories\, dream u
 p new model architectures\, or just enjoy the Bangalore morning air. It’
 s the perfect post-processing step after the main event.\n\n### Prep for t
 he Run aka `train_test_split(yourself)`\n\n**Reserve your spot (RSVP!):**\
 nThis is a critical dependency — RSVP so we can optimize for hydration a
 nd logistics.\n\n**Your gear stack:**\n* **Comfortable attire & footwear:*
 * Whether you’re running in cutting-edge performance gear or good ol’ 
 cotton layers\, just make sure you can generalize well across 5 kilometers
 .\n* **BYO-Bottle (Bring Your Own Water Bottle):** Hydration is your most 
 important hyperparameter.\n* **Conference Badge (Optional\, but cool!):** 
 Flash your Fifthel credentials and spark some casual model talk.\n* **`pos
 itivity.pkl`:** Load this essential module for maximum enjoyment and netwo
 rking!\n\n\n### What to expect on d-day (deployment day!)\n* **Location:**
  Indiranagar Double Road near Nerlu Cafe — loop around Defence Colony an
 d return back.\n* **Pace:** “forward pass on a GPU of your choice” Wal
 k\, jog\, or run — this is about feeling refreshed\, not hyperparamter o
 ptimizing your cardio.\n* **Networking:** A perfect chance to connect with
  speakers\, organizers\, and fellow practitioners. Compare MLOps pipelines
  or share thoughts on multimodal models — all while on the move!\n\n\n##
 # Pre-Run Optimization (optional but recommended):\n* Get a solid 8-hour s
 leep — your biological model deserves it.\n* Fuel up with a light breakf
 ast (maybe a quick `XGBoost(your_energy)` call before heading out).\n\nWe 
 can’t wait to see you there\, ready to swap layers (of conversation) and
  enjoy a morning training run of a different kind!\n\n### How to register\
 nJust RSVP on this page. Bring your friends too!\n\n### Location - where w
 e will assemble\nWe will assemble near [Nerlu Cafe on Indiranagar Double R
 oad](https://maps.app.goo.gl/SzM71mZfgLN3CQyw9).\n\n### Liability waiver\n
 You will be required to fill out and sign a physical **Activity Waiver** f
 orm before the run starts\, so bring along a pen! \n
LAST-MODIFIED:20250715T153945Z
LOCATION:Nerlu Cafe (start point)\, Indiranagar - https://hasgeek.com/fift
 helephant/fifthel-5k/
ORGANIZER;CN="The Fifth Elephant":MAILTO:no-reply@hasgeek.com
URL:https://hasgeek.com/fifthelephant/fifthel-5k/
BEGIN:VALARM
ACTION:display
DESCRIPTION:Fifthel 5k in 5 minutes
TRIGGER:-PT5M
END:VALARM
END:VEVENT
END:VCALENDAR
