BEGIN:VCALENDAR
VERSION:2.0
PRODID:-//HasGeek//NONSGML Funnel//EN
DESCRIPTION:Ensuring data quality with contracts and Lineage
X-WR-CALDESC:Ensuring data quality with contracts and Lineage
NAME:Ensuring data quality with contracts and lineage
X-WR-CALNAME:Ensuring data quality with contracts and lineage
REFRESH-INTERVAL;VALUE=DURATION:PT12H
SUMMARY:Ensuring data quality with contracts and lineage
TIMEZONE-ID:Asia/Kolkata
X-PUBLISHED-TTL:PT12H
X-WR-TIMEZONE:Asia/Kolkata
BEGIN:VEVENT
SUMMARY:Ensuring data quality with contracts and lineage
DTSTART:20240712T090000Z
DTEND:20240712T110000Z
DTSTAMP:20260421T084143Z
UID:session/7u9F31A2bT94oN9RpFtsJC@hasgeek.com
SEQUENCE:2
CREATED:20240722T061734Z
LAST-MODIFIED:20240816T070923Z
LOCATION:Online
ORGANIZER;CN="The Fifth Elephant":MAILTO:no-reply@hasgeek.com
BEGIN:VALARM
ACTION:display
DESCRIPTION:Ensuring data quality with contracts and lineage in 5 minutes
TRIGGER:-PT5M
END:VALARM
END:VEVENT
END:VCALENDAR
