BEGIN:VCALENDAR
VERSION:2.0
PRODID:-//HasGeek//NONSGML Funnel//EN
DESCRIPTION:A meetup for and by users of Elastic Search
X-WR-CALDESC:A meetup for and by users of Elastic Search
NAME:Elastic Search users' meetup
X-WR-CALNAME:Elastic Search users' meetup
REFRESH-INTERVAL;VALUE=DURATION:PT12H
SUMMARY:Elastic Search users' meetup
TIMEZONE-ID:Asia/Kolkata
X-PUBLISHED-TTL:PT12H
X-WR-TIMEZONE:Asia/Kolkata
BEGIN:VEVENT
SUMMARY:Check-in and registrations
DTSTART:20190704T124000Z
DTEND:20190704T130000Z
DTSTAMP:20260421T205413Z
UID:session/dsMnBwmT4BpAjfKtGJEjc@hasgeek.com
SEQUENCE:0
CREATED:20190611T104057Z
DESCRIPTION:\n
LAST-MODIFIED:20190704T044225Z
LOCATION:Open house space - HasGeek House\nBangalore\nIN
ORGANIZER;CN="The Fifth Elephant":MAILTO:no-reply@hasgeek.com
BEGIN:VALARM
ACTION:display
DESCRIPTION:Check-in and registrations in Open house space in 5 minutes
TRIGGER:-PT5M
END:VALARM
END:VEVENT
BEGIN:VEVENT
SUMMARY:Introduction to the meetup
DTSTART:20190704T130000Z
DTEND:20190704T131000Z
DTSTAMP:20260421T205413Z
UID:session/GVMbgMygAi1enLiCkzNn4P@hasgeek.com
SEQUENCE:0
CREATED:20190611T104130Z
DESCRIPTION:\n
LAST-MODIFIED:20190611T104137Z
LOCATION:Open house space - HasGeek House\nBangalore\nIN
ORGANIZER;CN="The Fifth Elephant":MAILTO:no-reply@hasgeek.com
BEGIN:VALARM
ACTION:display
DESCRIPTION:Introduction to the meetup in Open house space in 5 minutes
TRIGGER:-PT5M
END:VALARM
END:VEVENT
BEGIN:VEVENT
SUMMARY:On ELK in production
DTSTART:20190704T131000Z
DTEND:20190704T133000Z
DTSTAMP:20260421T205413Z
UID:session/WbMU1i334v9uNXWXVBzcxZ@hasgeek.com
SEQUENCE:0
CREATED:20190611T104145Z
DESCRIPTION:\n
LAST-MODIFIED:20190627T110251Z
LOCATION:Open house space - HasGeek House\nBangalore\nIN
ORGANIZER;CN="The Fifth Elephant":MAILTO:no-reply@hasgeek.com
BEGIN:VALARM
ACTION:display
DESCRIPTION:On ELK in production in Open house space in 5 minutes
TRIGGER:-PT5M
END:VALARM
END:VEVENT
BEGIN:VEVENT
SUMMARY:Our experiments with cost optimization using ELK Stack
DTSTART:20190704T133000Z
DTEND:20190704T135000Z
DTSTAMP:20260421T205413Z
UID:session/86ArtCmd12sMnDEB2HgpMQ@hasgeek.com
SEQUENCE:0
CREATED:20190611T104159Z
DESCRIPTION:\n
LAST-MODIFIED:20190627T110355Z
LOCATION:Open house space - HasGeek House\nBangalore\nIN
ORGANIZER;CN="The Fifth Elephant":MAILTO:no-reply@hasgeek.com
BEGIN:VALARM
ACTION:display
DESCRIPTION:Our experiments with cost optimization using ELK Stack in Open
  house space in 5 minutes
TRIGGER:-PT5M
END:VALARM
END:VEVENT
BEGIN:VEVENT
SUMMARY:Elasticsearch as consistent Lookupstore
DTSTART:20190704T135000Z
DTEND:20190704T141000Z
DTSTAMP:20260421T205413Z
UID:session/HvfJuDM9jwSjzYH1Mrs1ck@hasgeek.com
SEQUENCE:2
CREATED:20190702T050609Z
DESCRIPTION:Agenda:\n\n- What is lookupstore?\n- Consistency & resiliency 
 issues in ES\n- How are we trying to make it consistent\n- Trade offs of t
 he approach.\n- Is the solution enough?\n\n### Speaker bio\n\nI am SDE 2 i
 n Flipkart and is a part of Logistics Insights team building data streamin
 g pipeline to enable the data driven decisions.\n
LAST-MODIFIED:20230810T072606Z
LOCATION:Open house space - HasGeek House\nBangalore\nIN
ORGANIZER;CN="The Fifth Elephant":MAILTO:no-reply@hasgeek.com
URL:https://hasgeek.com/fifthelephant/elasticsearch-users-meetup/schedule/
 elasticsearch-as-consistent-lookupstore-HvfJuDM9jwSjzYH1Mrs1ck
BEGIN:VALARM
ACTION:display
DESCRIPTION:Elasticsearch as consistent Lookupstore in Open house space in
  5 minutes
TRIGGER:-PT5M
END:VALARM
END:VEVENT
BEGIN:VEVENT
SUMMARY:Experiments with ElasticSearch in production: a case study
DTSTART:20190704T141000Z
DTEND:20190704T143000Z
DTSTAMP:20260421T205413Z
UID:session/G7RnbqSVmZSKtAS77Wfntf@hasgeek.com
SEQUENCE:0
CREATED:20190611T104219Z
DESCRIPTION:\n
LAST-MODIFIED:20190702T050601Z
LOCATION:Open house space - HasGeek House\nBangalore\nIN
ORGANIZER;CN="The Fifth Elephant":MAILTO:no-reply@hasgeek.com
BEGIN:VALARM
ACTION:display
DESCRIPTION:Experiments with ElasticSearch in production: a case study in 
 Open house space in 5 minutes
TRIGGER:-PT5M
END:VALARM
END:VEVENT
BEGIN:VEVENT
SUMMARY:Open discussion
DTSTART:20190704T143000Z
DTEND:20190704T145000Z
DTSTAMP:20260421T205413Z
UID:session/4HQThCaTqwHCNogQFkqSEE@hasgeek.com
SEQUENCE:0
CREATED:20190611T104240Z
DESCRIPTION:\n
LAST-MODIFIED:20190702T050559Z
LOCATION:Open house space - HasGeek House\nBangalore\nIN
ORGANIZER;CN="The Fifth Elephant":MAILTO:no-reply@hasgeek.com
BEGIN:VALARM
ACTION:display
DESCRIPTION:Open discussion in Open house space in 5 minutes
TRIGGER:-PT5M
END:VALARM
END:VEVENT
END:VCALENDAR
