BEGIN:VCALENDAR
VERSION:2.0
PRODID:-//HasGeek//NONSGML Funnel//EN
DESCRIPTION:Building ties between ML and business
X-WR-CALDESC:Building ties between ML and business
NAME:Economies of Data Science
X-WR-CALNAME:Economies of Data Science
REFRESH-INTERVAL;VALUE=DURATION:PT12H
SUMMARY:Economies of Data Science
TIMEZONE-ID:Asia/Kolkata
X-PUBLISHED-TTL:PT12H
X-WR-TIMEZONE:Asia/Kolkata
BEGIN:VEVENT
SUMMARY:Cost efficient data science
DTSTART:20230210T103000Z
DTEND:20230210T114500Z
DTSTAMP:20260422T003016Z
UID:session/6yWKkBiL3BgUKZW5bLfjWA@hasgeek.com
SEQUENCE:4
CREATED:20230119T164532Z
DESCRIPTION:In this talk\, the speakers will demonstrate a cost calculator
  sheet with an example service like translation. The speakers will compare
  what it takes to pick an open source translation model like M2M100 and ru
 n it themselves versus using Google translate. The key takeaway will be fo
 r participants to input volume of API requests and median length of input\
 , and be able to decide which is a cost efficient route.
LAST-MODIFIED:20230211T054345Z
LOCATION:Bangalore
ORGANIZER;CN="The Fifth Elephant":MAILTO:no-reply@hasgeek.com
BEGIN:VALARM
ACTION:display
DESCRIPTION:Cost efficient data science in 5 minutes
TRIGGER:-PT5M
END:VALARM
END:VEVENT
BEGIN:VEVENT
SUMMARY:Running lean ML teams - productivity hacks
DTSTART:20230303T103000Z
DTEND:20230303T113000Z
DTSTAMP:20260422T003016Z
UID:session/Lbv7U33jMMwE5bFpuTcuEe@hasgeek.com
SEQUENCE:6
CREATED:20230202T074145Z
LAST-MODIFIED:20230227T105024Z
LOCATION:Bangalore
ORGANIZER;CN="The Fifth Elephant":MAILTO:no-reply@hasgeek.com
BEGIN:VALARM
ACTION:display
DESCRIPTION:Running lean ML teams - productivity hacks in 5 minutes
TRIGGER:-PT5M
END:VALARM
END:VEVENT
BEGIN:VEVENT
SUMMARY:Panel discussion and Open House on the topic Cost efficient data s
 cience
DTSTART:20230310T110000Z
DTEND:20230310T123000Z
DTSTAMP:20260422T003016Z
UID:session/WnHWnhBZ25KWHxkV9cGWLh@hasgeek.com
SEQUENCE:6
CREATED:20230119T164613Z
LAST-MODIFIED:20230208T005648Z
LOCATION:Bangalore
ORGANIZER;CN="The Fifth Elephant":MAILTO:no-reply@hasgeek.com
BEGIN:VALARM
ACTION:display
DESCRIPTION:Panel discussion and Open House on the topic Cost efficient da
 ta science in 5 minutes
TRIGGER:-PT5M
END:VALARM
END:VEVENT
END:VCALENDAR
