BEGIN:VCALENDAR
VERSION:2.0
PRODID:-//HasGeek//NONSGML Funnel//EN
DESCRIPTION:Meetup
X-WR-CALDESC:Meetup
NAME:Designing for data ownership\, control and regulatory compliance - fo
 r enterprises and individuals
X-WR-CALNAME:Designing for data ownership\, control and regulatory complia
 nce - for enterprises and individuals
REFRESH-INTERVAL;VALUE=DURATION:PT12H
SUMMARY:Designing for data ownership\, control and regulatory compliance -
  for enterprises and individuals
TIMEZONE-ID:Asia/Kolkata
X-PUBLISHED-TTL:PT12H
X-WR-TIMEZONE:Asia/Kolkata
BEGIN:VEVENT
SUMMARY:Check-in and refreshments
DTSTART:20230106T103000Z
DTEND:20230106T104000Z
DTSTAMP:20260422T033645Z
UID:session/L36HhdsVW63isFSGEz1eDm@hasgeek.com
SEQUENCE:6
CREATED:20221207T055134Z
LAST-MODIFIED:20221222T084707Z
LOCATION:B1\, Data Lab - Thoughtworks Koramangala Office\nBangalore\nIN
ORGANIZER;CN="The Fifth Elephant":MAILTO:no-reply@hasgeek.com
BEGIN:VALARM
ACTION:display
DESCRIPTION:Check-in and refreshments in B1\, Data Lab in 5 minutes
TRIGGER:-PT5M
END:VALARM
END:VEVENT
BEGIN:VEVENT
SUMMARY:Trends in data management with respect to iGrant.io
DTSTART:20230106T104000Z
DTEND:20230106T113000Z
DTSTAMP:20260422T033645Z
UID:session/UZhFPg2QgN4E26cqbDc36a@hasgeek.com
SEQUENCE:7
CREATED:20221222T084943Z
DESCRIPTION:Slides for this talk are published at https://docs.google.com/
 presentation/d/1FRWC7L8CZAOKpPGu8rxW9jNhe3Pq6qSGwB9Xp1G95GY/edit?usp=shari
 ng_eil_m&ts=63b8195c
LAST-MODIFIED:20230118T084056Z
LOCATION:B1\, Data Lab - Thoughtworks Koramangala Office\nBangalore\nIN
ORGANIZER;CN="The Fifth Elephant":MAILTO:no-reply@hasgeek.com
BEGIN:VALARM
ACTION:display
DESCRIPTION:Trends in data management with respect to iGrant.io in B1\, Da
 ta Lab in 5 minutes
TRIGGER:-PT5M
END:VALARM
END:VEVENT
BEGIN:VEVENT
SUMMARY:People\, processes and skill challenges for data management
DTSTART:20230106T113000Z
DTEND:20230106T123000Z
DTSTAMP:20260422T033645Z
UID:session/jonSF5QtLTjU4Una28Y5n@hasgeek.com
SEQUENCE:12
CREATED:20221222T085048Z
LAST-MODIFIED:20230120T095940Z
LOCATION:B1\, Data Lab - Thoughtworks Koramangala Office\nBangalore\nIN
ORGANIZER;CN="The Fifth Elephant":MAILTO:no-reply@hasgeek.com
BEGIN:VALARM
ACTION:display
DESCRIPTION:People\, processes and skill challenges for data management in
  B1\, Data Lab in 5 minutes
TRIGGER:-PT5M
END:VALARM
END:VEVENT
END:VCALENDAR
