BEGIN:VCALENDAR
VERSION:2.0
PRODID:-//HasGeek//NONSGML Funnel//EN
DESCRIPTION:Hands-on workshop
X-WR-CALDESC:Hands-on workshop
NAME:Build multi-agent workflows with LangGraph
X-WR-CALNAME:Build multi-agent workflows with LangGraph
REFRESH-INTERVAL;VALUE=DURATION:PT12H
SUMMARY:Build multi-agent workflows with LangGraph
TIMEZONE-ID:Asia/Kolkata
X-PUBLISHED-TTL:PT12H
X-WR-TIMEZONE:Asia/Kolkata
BEGIN:VEVENT
SUMMARY:Check in
DTSTART:20251108T041500Z
DTEND:20251108T043000Z
DTSTAMP:20260421T101200Z
UID:session/FBLvKXBQGamKsipQhoUYeU@hasgeek.com
SEQUENCE:2
CREATED:20251107T031427Z
LAST-MODIFIED:20251107T033624Z
LOCATION:Bengaluru
ORGANIZER;CN="The Fifth Elephant":MAILTO:no-reply@hasgeek.com
BEGIN:VALARM
ACTION:display
DESCRIPTION:Check in in 5 minutes
TRIGGER:-PT5M
END:VALARM
END:VEVENT
BEGIN:VEVENT
SUMMARY:Hands on workshop
DTSTART:20251108T043000Z
DTEND:20251108T060000Z
DTSTAMP:20260421T101200Z
UID:session/SdY3irxATPLjTqEHpGp2My@hasgeek.com
SEQUENCE:3
CREATED:20251107T031320Z
LAST-MODIFIED:20251107T140912Z
LOCATION:Bengaluru
ORGANIZER;CN="The Fifth Elephant":MAILTO:no-reply@hasgeek.com
BEGIN:VALARM
ACTION:display
DESCRIPTION:Hands on workshop in 5 minutes
TRIGGER:-PT5M
END:VALARM
END:VEVENT
BEGIN:VEVENT
SUMMARY:Break
DTSTART:20251108T060000Z
DTEND:20251108T061500Z
DTSTAMP:20260421T101200Z
UID:session/3goa4pDMAP28D2cTPu66AN@hasgeek.com
SEQUENCE:12
CREATED:20251107T031400Z
LAST-MODIFIED:20251107T033705Z
LOCATION:Bengaluru
ORGANIZER;CN="The Fifth Elephant":MAILTO:no-reply@hasgeek.com
BEGIN:VALARM
ACTION:display
DESCRIPTION:Break in 5 minutes
TRIGGER:-PT5M
END:VALARM
END:VEVENT
BEGIN:VEVENT
SUMMARY:Hands on workshop
DTSTART:20251108T061500Z
DTEND:20251108T074500Z
DTSTAMP:20260421T101200Z
UID:session/DU1uzXbfaNySyzcVtvkmRF@hasgeek.com
SEQUENCE:13
CREATED:20251107T031454Z
LAST-MODIFIED:20251107T140915Z
LOCATION:Bengaluru
ORGANIZER;CN="The Fifth Elephant":MAILTO:no-reply@hasgeek.com
BEGIN:VALARM
ACTION:display
DESCRIPTION:Hands on workshop in 5 minutes
TRIGGER:-PT5M
END:VALARM
END:VEVENT
BEGIN:VEVENT
SUMMARY:Lunch break
DTSTART:20251108T074500Z
DTEND:20251108T083000Z
DTSTAMP:20260421T101200Z
UID:session/WYLroFXxYwxsRMdXWLhkPp@hasgeek.com
SEQUENCE:6
CREATED:20251107T033241Z
LAST-MODIFIED:20251107T033342Z
LOCATION:Bengaluru
ORGANIZER;CN="The Fifth Elephant":MAILTO:no-reply@hasgeek.com
BEGIN:VALARM
ACTION:display
DESCRIPTION:Lunch break in 5 minutes
TRIGGER:-PT5M
END:VALARM
END:VEVENT
BEGIN:VEVENT
SUMMARY:Hands on session
DTSTART:20251108T083000Z
DTEND:20251108T103000Z
DTSTAMP:20260421T101200Z
UID:session/NaAZ7BZTEHREVJex5Jngcp@hasgeek.com
SEQUENCE:6
CREATED:20251107T033351Z
LAST-MODIFIED:20251107T140919Z
LOCATION:Bengaluru
ORGANIZER;CN="The Fifth Elephant":MAILTO:no-reply@hasgeek.com
BEGIN:VALARM
ACTION:display
DESCRIPTION:Hands on session in 5 minutes
TRIGGER:-PT5M
END:VALARM
END:VEVENT
BEGIN:VEVENT
SUMMARY:Break
DTSTART:20251108T103000Z
DTEND:20251108T104500Z
DTSTAMP:20260421T101200Z
UID:session/YD3mFATmSPnwSytykNaCMC@hasgeek.com
SEQUENCE:2
CREATED:20251107T033431Z
LAST-MODIFIED:20251107T033548Z
LOCATION:Bengaluru
ORGANIZER;CN="The Fifth Elephant":MAILTO:no-reply@hasgeek.com
BEGIN:VALARM
ACTION:display
DESCRIPTION:Break in 5 minutes
TRIGGER:-PT5M
END:VALARM
END:VEVENT
BEGIN:VEVENT
SUMMARY:Hands on session
DTSTART:20251108T104500Z
DTEND:20251108T123000Z
DTSTAMP:20260421T101200Z
UID:session/3VdhpasTnVJ3KonS7A7qRD@hasgeek.com
SEQUENCE:6
CREATED:20251107T033508Z
LAST-MODIFIED:20251107T140923Z
LOCATION:Bengaluru
ORGANIZER;CN="The Fifth Elephant":MAILTO:no-reply@hasgeek.com
BEGIN:VALARM
ACTION:display
DESCRIPTION:Hands on session in 5 minutes
TRIGGER:-PT5M
END:VALARM
END:VEVENT
END:VCALENDAR
