BEGIN:VCALENDAR
VERSION:2.0
PRODID:-//HasGeek//NONSGML Funnel//EN
DESCRIPTION:Twitter Spaces
X-WR-CALDESC:Twitter Spaces
NAME:Doing data access and management inside organizations
X-WR-CALNAME:Doing data access and management inside organizations
REFRESH-INTERVAL;VALUE=DURATION:PT12H
SUMMARY:Doing data access and management inside organizations
TIMEZONE-ID:Asia/Kolkata
X-PUBLISHED-TTL:PT12H
X-WR-TIMEZONE:Asia/Kolkata
BEGIN:VEVENT
SUMMARY:Doing data access and management inside organizations
DTSTART:20221129T133000Z
DTEND:20221129T143000Z
DTSTAMP:20260419T152625Z
UID:session/2J8BgFXeojjvpCqp29jCK4@hasgeek.com
SEQUENCE:13
CREATED:20221125T112515Z
DESCRIPTION:### About the session\nOrganizations face a daunting challenge
  when putting together an approach for data governance. Starting with esta
 blishing a set of roles and accountabilities to nurturing a culture where 
 product development\, marketing and communications and risk management are
  deeply ingrained with the principles of data governance. How do leaders d
 o this? What can they do to build a robust practice that uses tools\, work
 flows\, audits and access control to accomplish good controls and achieve 
 regulatory compliance. In this session\, two industry leaders present thei
 r perspective on this topic and encourage the audience to seek more clarit
 y through a conversation.\n\n### Who should attend\nAnyone in the followin
 g roles will find the session important and good to participate in:\n\n- P
 roduct Managers\n- Development leads\n- IT/Data Architects\n- Ops teams\n-
  Information Architects\n- IT Auditors\n\n### Key takeaways for participan
 ts\nThis session will focus on the key topics which present a vexing path 
 to business leaders. These include:\n\n- discussion around compliance.\n- 
 understanding the significance of designing for access and internal contro
 ls.\n- the balance between speed of development and development of governa
 nce.\n\n### How to join the session\nThis session will take place on Twitt
 er. Follow [The Fifth Elephant Twitter handle](https://twitter.com/fifthel
 ) to join the discussion at https://twitter.com/i/spaces/1MnxnpOrkNeGO\n\n
 **Code of Conduct:** [Hasgeek's Code of Conduct](https://hasgeek.com/about
 /policy/code) applies to all participants and speakers.   \n\n**Contact in
 formation:** For queries about the meetups\, contact Hasgeek at <support@h
 asgeek.com> or call (91)7676332020. \n\n **Purchase a subscription** to su
 pport The Fifth Elephant's community activities on hasgeek.com 
LAST-MODIFIED:20230810T072505Z
LOCATION:Online - https://hasgeek.com/fifthelephant/data-access-and-manage
 ment-inside-organizations/
ORGANIZER;CN="The Fifth Elephant":MAILTO:no-reply@hasgeek.com
URL:https://hasgeek.com/fifthelephant/data-access-and-management-inside-or
 ganizations/
BEGIN:VALARM
ACTION:display
DESCRIPTION:Doing data access and management inside organizations in 5 min
 utes
TRIGGER:-PT5M
END:VALARM
END:VEVENT
END:VCALENDAR
