BEGIN:VCALENDAR
VERSION:2.0
PRODID:-//HasGeek//NONSGML Funnel//EN
DESCRIPTION:Birds of a Feather session on self-service analytics
X-WR-CALDESC:Birds of a Feather session on self-service analytics
NAME:The ostrich in your war rooms: Business Intelligence (BI) bottlenecks
X-WR-CALNAME:The ostrich in your war rooms: Business Intelligence (BI) bot
 tlenecks
REFRESH-INTERVAL;VALUE=DURATION:PT12H
SUMMARY:The ostrich in your war rooms: Business Intelligence (BI) bottlene
 cks
TIMEZONE-ID:Asia/Kolkata
X-PUBLISHED-TTL:PT12H
X-WR-TIMEZONE:Asia/Kolkata
BEGIN:VEVENT
SUMMARY:The ostrich in your war rooms: Business Intelligence (BI) bottlene
 cks
DTSTART:20250829T114500Z
DTEND:20250829T133000Z
DTSTAMP:20260421T132625Z
UID:session/MNe9MWaXYBBKDxXLeCrHQn@hasgeek.com
SEQUENCE:6
CREATED:20250822T043535Z
DESCRIPTION:This Birds of Feather (BOF) was held in Bangalore on 6th Augus
 t 2025 on the terrace of Composio's office in HSR Layout. Participants enj
 oyed the deep discussions and an opportunity to talk about the role of AI 
 in analyzing data across EdTech\, MedTech and consulting with peers. \n\n!
 [BOF 1](https://images.hasgeek.com/embed/file/7ab670ea8d2e47659be52c967b43
 f45f)\n\n## What is this BOF about?\nAre you tired of building analytics s
 olutions that business teams struggle to adopt? Participate in this intera
 ctive Birds of a Feather (BOF) session where practitioners share real-worl
 d strategies for overcoming the most common barriers to Business Intellige
 nce (BI) success.\n\n**When:** Friday\, 29 August\, 2025 at 5:15 PM\n**Whe
 re:** Pune (TBA)\n**Format:** Peer-driven discussion on problems & solutio
 n sharing\n\n## What to expect\n**Problem deep-dive:** Share your biggest 
 BI adoption challenges - from executive dashboards nobody uses to business
  teams demanding *just export it to Excel*.\n**Solution showcase:** Intera
 ctive demos of tools\, techniques\, and creative workarounds that actually
  work in production environments.\n**Bottleneck Mapping:** Collaborative i
 dentification of common adoption barriers and proven solutions that addres
 s them.\n**Open Innovation:** Group brainstorming on emerging approaches t
 hat bridge the gap between powerful analytics and business usability.\n\n#
 # Why attend\n**Share your experience:** Showcase innovative approaches yo
 u've developed to make analytics truly self-service.\n**Learn from peers:*
 * Discover new techniques and tools from fellow practitioners who've solve
 d similar challenges.\n**Real solutions:** Move beyond vendor presentation
 s to authentic peer-to-peer problem-solving.\n**Network & collaborate:** C
 onnect with like-minded professionals tackling the analytics adoption chal
 lenge.\n\n## This BOF is most suited for\n- Data engineers tired of endles
 s *can you pull this data and put it in a spreadsheet?* requests from busi
 ness teams.\n- Analytics teams looking to enable business self-service wit
 hout sacrificing data governance.\n- Business analysts who understand both
  technical capabilities and business user frustrations.\n- Anyone who's bu
 ilt a beautiful dashboard that executives requested but never actually use
 .\n\n## About the facilitators\nMayur Jadhav and Yash Gandhi are founders 
 of OrcaSheets. \n\n## How to participate\n*This is a free event.* Hit regi
 ster to block a seat. \nBring your war stories\, creative solutions\, and 
 unsolved challenges. Whether you're dealing with training overhead\, tool 
 complexity\, security concerns\, or the eternal *Excel vs BI* debate - all
  perspectives welcome. Think about the most beautiful dashboard you create
 d and keep it handy to be shown off! No preparation needed\, just come rea
 dy to share and learn.\n\n## Contact information\nFor queries\, call +91-7
 67633202 or email <info@hasgeek.com>
LAST-MODIFIED:20250826T010011Z
LOCATION:Pune - https://hasgeek.com/fifthelephant/business-intelligence-bo
 ttlenecks-bof-pune/
ORGANIZER;CN="The Fifth Elephant":MAILTO:no-reply@hasgeek.com
URL:https://hasgeek.com/fifthelephant/business-intelligence-bottlenecks-bo
 f-pune/
BEGIN:VALARM
ACTION:display
DESCRIPTION:The ostrich in your war rooms: Business Intelligence (BI) bott
 lenecks in 5 minutes
TRIGGER:-PT5M
END:VALARM
END:VEVENT
END:VCALENDAR
