BEGIN:VCALENDAR
VERSION:2.0
PRODID:-//HasGeek//NONSGML Funnel//EN
DESCRIPTION:Hands-on workshop
X-WR-CALDESC:Hands-on workshop
NAME:Building multi-Agent AI systems: a philosophical debate
X-WR-CALNAME:Building multi-Agent AI systems: a philosophical debate
REFRESH-INTERVAL;VALUE=DURATION:PT12H
SUMMARY:Building multi-Agent AI systems: a philosophical debate
TIMEZONE-ID:Asia/Kolkata
X-PUBLISHED-TTL:PT12H
X-WR-TIMEZONE:Asia/Kolkata
BEGIN:VEVENT
SUMMARY:Check-in
DTSTART:20260131T081500Z
DTEND:20260131T083000Z
DTSTAMP:20260421T151124Z
UID:session/GY7HP2P7utJe9KGs9fvcXz@hasgeek.com
SEQUENCE:1
CREATED:20260126T104925Z
LAST-MODIFIED:20260126T104932Z
LOCATION:Bangalore
ORGANIZER;CN="The Fifth Elephant":MAILTO:no-reply@hasgeek.com
BEGIN:VALARM
ACTION:display
DESCRIPTION:Check-in in 5 minutes
TRIGGER:-PT5M
END:VALARM
END:VEVENT
BEGIN:VEVENT
SUMMARY:Hands on session
DTSTART:20260131T083000Z
DTEND:20260131T093000Z
DTSTAMP:20260421T151124Z
UID:session/YEeWN9AwbNDS7zZ4xaDwCX@hasgeek.com
SEQUENCE:2
CREATED:20260126T105107Z
LAST-MODIFIED:20260126T105114Z
LOCATION:Bangalore
ORGANIZER;CN="The Fifth Elephant":MAILTO:no-reply@hasgeek.com
BEGIN:VALARM
ACTION:display
DESCRIPTION:Hands on session in 5 minutes
TRIGGER:-PT5M
END:VALARM
END:VEVENT
BEGIN:VEVENT
SUMMARY:Break
DTSTART:20260131T093000Z
DTEND:20260131T094500Z
DTSTAMP:20260421T151124Z
UID:session/F4trua2Dr891xUzCo3jQXS@hasgeek.com
SEQUENCE:1
CREATED:20260126T105119Z
LAST-MODIFIED:20260126T105125Z
LOCATION:Bangalore
ORGANIZER;CN="The Fifth Elephant":MAILTO:no-reply@hasgeek.com
BEGIN:VALARM
ACTION:display
DESCRIPTION:Break in 5 minutes
TRIGGER:-PT5M
END:VALARM
END:VEVENT
BEGIN:VEVENT
SUMMARY:Hands on session
DTSTART:20260131T094500Z
DTEND:20260131T103000Z
DTSTAMP:20260421T151124Z
UID:session/YRqPCXHBP2eQFqHo6zQ7jA@hasgeek.com
SEQUENCE:2
CREATED:20260126T105139Z
LAST-MODIFIED:20260126T105147Z
LOCATION:Bangalore
ORGANIZER;CN="The Fifth Elephant":MAILTO:no-reply@hasgeek.com
BEGIN:VALARM
ACTION:display
DESCRIPTION:Hands on session in 5 minutes
TRIGGER:-PT5M
END:VALARM
END:VEVENT
END:VCALENDAR
