BEGIN:VCALENDAR
VERSION:2.0
PRODID:-//HasGeek//NONSGML Funnel//EN
DESCRIPTION:Hands-on workshop - The Fifth Elephant 2025 Annual Conference
X-WR-CALDESC:Hands-on workshop - The Fifth Elephant 2025 Annual Conference
NAME:Build smarter LLMs with dynamic data retrieval
X-WR-CALNAME:Build smarter LLMs with dynamic data retrieval
REFRESH-INTERVAL;VALUE=DURATION:PT12H
SUMMARY:Build smarter LLMs with dynamic data retrieval
TIMEZONE-ID:Asia/Kolkata
X-PUBLISHED-TTL:PT12H
X-WR-TIMEZONE:Asia/Kolkata
BEGIN:VEVENT
SUMMARY:Check-in (3nd floor\, Underline Centre + Livestream)
DTSTART:20250718T031500Z
DTEND:20250718T033000Z
DTSTAMP:20260421T100334Z
UID:session/GY4hXm5YHzHFERmfy62gjc@hasgeek.com
SEQUENCE:1
CREATED:20250717T064150Z
LAST-MODIFIED:20250717T064153Z
LOCATION:Underline Centre\, Bangalore
ORGANIZER;CN="The Fifth Elephant":MAILTO:no-reply@hasgeek.com
BEGIN:VALARM
ACTION:display
DESCRIPTION:Check-in (3nd floor\, Underline Centre + Livestream) in 5 minu
 tes
TRIGGER:-PT5M
END:VALARM
END:VEVENT
BEGIN:VEVENT
SUMMARY:Welcome\; housekeeping rules
DTSTART:20250718T033000Z
DTEND:20250718T034000Z
DTSTAMP:20260421T100334Z
UID:session/93wsvS3v1hZnqRaieRnxpw@hasgeek.com
SEQUENCE:2
CREATED:20250717T064204Z
LAST-MODIFIED:20250717T064210Z
LOCATION:Underline Centre\, Bangalore
ORGANIZER;CN="The Fifth Elephant":MAILTO:no-reply@hasgeek.com
BEGIN:VALARM
ACTION:display
DESCRIPTION:Welcome\; housekeeping rules in 5 minutes
TRIGGER:-PT5M
END:VALARM
END:VEVENT
BEGIN:VEVENT
SUMMARY:Workshop: Build smarter LLMs with dynamic data retrieval
DTSTART:20250718T034000Z
DTEND:20250718T051500Z
DTSTAMP:20260421T100334Z
UID:session/V9sSZqjgUfvCW5eR7utuSb@hasgeek.com
SEQUENCE:3
CREATED:20250717T064805Z
LAST-MODIFIED:20250717T064819Z
LOCATION:Underline Centre\, Bangalore
ORGANIZER;CN="The Fifth Elephant":MAILTO:no-reply@hasgeek.com
BEGIN:VALARM
ACTION:display
DESCRIPTION:Workshop: Build smarter LLMs with dynamic data retrieval in 5 
 minutes
TRIGGER:-PT5M
END:VALARM
END:VEVENT
BEGIN:VEVENT
SUMMARY:Morning break
DTSTART:20250718T051500Z
DTEND:20250718T054500Z
DTSTAMP:20260421T100334Z
UID:session/VAbC1PFiDgRhvgFHC6fbhS@hasgeek.com
SEQUENCE:2
CREATED:20250717T064831Z
LAST-MODIFIED:20250717T064839Z
LOCATION:Underline Centre\, Bangalore
ORGANIZER;CN="The Fifth Elephant":MAILTO:no-reply@hasgeek.com
BEGIN:VALARM
ACTION:display
DESCRIPTION:Morning break in 5 minutes
TRIGGER:-PT5M
END:VALARM
END:VEVENT
BEGIN:VEVENT
SUMMARY:Workshop continued
DTSTART:20250718T054500Z
DTEND:20250718T080000Z
DTSTAMP:20260421T100334Z
UID:session/HUB9T6gmCFx3JK14fMeUkm@hasgeek.com
SEQUENCE:6
CREATED:20250717T064856Z
LAST-MODIFIED:20250717T064927Z
LOCATION:Underline Centre\, Bangalore
ORGANIZER;CN="The Fifth Elephant":MAILTO:no-reply@hasgeek.com
BEGIN:VALARM
ACTION:display
DESCRIPTION:Workshop continued in 5 minutes
TRIGGER:-PT5M
END:VALARM
END:VEVENT
BEGIN:VEVENT
SUMMARY:Group photo
DTSTART:20250718T080000Z
DTEND:20250718T080500Z
DTSTAMP:20260421T100334Z
UID:session/4yQk9UrkCJSrcMLD2k6UVZ@hasgeek.com
SEQUENCE:0
CREATED:20250717T064934Z
LAST-MODIFIED:20250717T064934Z
LOCATION:Underline Centre\, Bangalore
ORGANIZER;CN="The Fifth Elephant":MAILTO:no-reply@hasgeek.com
BEGIN:VALARM
ACTION:display
DESCRIPTION:Group photo in 5 minutes
TRIGGER:-PT5M
END:VALARM
END:VEVENT
END:VCALENDAR
