BEGIN:VCALENDAR
VERSION:2.0
PRODID:-//HasGeek//NONSGML Funnel//EN
DESCRIPTION:Hands-on workshop - The Fifth Elephant Pune Edition
X-WR-CALDESC:Hands-on workshop - The Fifth Elephant Pune Edition
NAME:Build & optimize AI Agents that survive production
X-WR-CALNAME:Build & optimize AI Agents that survive production
REFRESH-INTERVAL;VALUE=DURATION:PT12H
SUMMARY:Build & optimize AI Agents that survive production
TIMEZONE-ID:Asia/Kolkata
X-PUBLISHED-TTL:PT12H
X-WR-TIMEZONE:Asia/Kolkata
BEGIN:VEVENT
SUMMARY:Check in
DTSTART:20260227T041500Z
DTEND:20260227T043000Z
DTSTAMP:20260421T125439Z
UID:session/4xZF3UymXHWR2bXrYARbgG@hasgeek.com
SEQUENCE:1
CREATED:20260224T161623Z
LAST-MODIFIED:20260224T161627Z
LOCATION:Sahaj Software\, Pune
ORGANIZER;CN="The Fifth Elephant":MAILTO:no-reply@hasgeek.com
BEGIN:VALARM
ACTION:display
DESCRIPTION:Check in in 5 minutes
TRIGGER:-PT5M
END:VALARM
END:VEVENT
BEGIN:VEVENT
SUMMARY:Hands on session
DTSTART:20260227T043000Z
DTEND:20260227T055000Z
DTSTAMP:20260421T125439Z
UID:session/T4MXn7De7ziEX6iVNHqKXG@hasgeek.com
SEQUENCE:3
CREATED:20260224T161635Z
LAST-MODIFIED:20260224T161659Z
LOCATION:Sahaj Software\, Pune
ORGANIZER;CN="The Fifth Elephant":MAILTO:no-reply@hasgeek.com
BEGIN:VALARM
ACTION:display
DESCRIPTION:Hands on session in 5 minutes
TRIGGER:-PT5M
END:VALARM
END:VEVENT
BEGIN:VEVENT
SUMMARY:Break
DTSTART:20260227T055000Z
DTEND:20260227T061000Z
DTSTAMP:20260421T125439Z
UID:session/BbuK9bRPV3qnd1rDixFxT3@hasgeek.com
SEQUENCE:2
CREATED:20260224T161710Z
LAST-MODIFIED:20260224T161720Z
LOCATION:Sahaj Software\, Pune
ORGANIZER;CN="The Fifth Elephant":MAILTO:no-reply@hasgeek.com
BEGIN:VALARM
ACTION:display
DESCRIPTION:Break in 5 minutes
TRIGGER:-PT5M
END:VALARM
END:VEVENT
BEGIN:VEVENT
SUMMARY:Hands on session
DTSTART:20260227T061000Z
DTEND:20260227T073000Z
DTSTAMP:20260421T125439Z
UID:session/YMmT6aJfQHSbsUgNbsjxvQ@hasgeek.com
SEQUENCE:3
CREATED:20260224T161730Z
LAST-MODIFIED:20260224T161737Z
LOCATION:Sahaj Software\, Pune
ORGANIZER;CN="The Fifth Elephant":MAILTO:no-reply@hasgeek.com
BEGIN:VALARM
ACTION:display
DESCRIPTION:Hands on session in 5 minutes
TRIGGER:-PT5M
END:VALARM
END:VEVENT
END:VCALENDAR
