BEGIN:VCALENDAR
VERSION:2.0
PRODID:-//HasGeek//NONSGML Funnel//EN
DESCRIPTION:Hands-on workshop
X-WR-CALDESC:Hands-on workshop
NAME:Commit to insight: building BI-as-code the AI way
X-WR-CALNAME:Commit to insight: building BI-as-code the AI way
REFRESH-INTERVAL;VALUE=DURATION:PT12H
SUMMARY:Commit to insight: building BI-as-code the AI way
TIMEZONE-ID:Asia/Kolkata
X-PUBLISHED-TTL:PT12H
X-WR-TIMEZONE:Asia/Kolkata
BEGIN:VEVENT
SUMMARY:Check in
DTSTART:20251206T034500Z
DTEND:20251206T040000Z
DTSTAMP:20260419T152225Z
UID:session/RMSoBMtZsRLvM3iAnbxUo6@hasgeek.com
SEQUENCE:1
CREATED:20251202T144240Z
LAST-MODIFIED:20251202T144248Z
LOCATION:Bangalore
ORGANIZER;CN="The Fifth Elephant":MAILTO:no-reply@hasgeek.com
BEGIN:VALARM
ACTION:display
DESCRIPTION:Check in in 5 minutes
TRIGGER:-PT5M
END:VALARM
END:VEVENT
BEGIN:VEVENT
SUMMARY:Hands on session
DTSTART:20251206T040000Z
DTEND:20251206T045000Z
DTSTAMP:20260419T152225Z
UID:session/3m55PDQqvjbYRjSzeCBCcV@hasgeek.com
SEQUENCE:2
CREATED:20251202T144255Z
LAST-MODIFIED:20251202T144304Z
LOCATION:Bangalore
ORGANIZER;CN="The Fifth Elephant":MAILTO:no-reply@hasgeek.com
BEGIN:VALARM
ACTION:display
DESCRIPTION:Hands on session in 5 minutes
TRIGGER:-PT5M
END:VALARM
END:VEVENT
BEGIN:VEVENT
SUMMARY:Break
DTSTART:20251206T045000Z
DTEND:20251206T050000Z
DTSTAMP:20260419T152225Z
UID:session/5oSTUfVG8tqyPhE6TvaUCs@hasgeek.com
SEQUENCE:1
CREATED:20251202T144312Z
LAST-MODIFIED:20251202T144319Z
LOCATION:Bangalore
ORGANIZER;CN="The Fifth Elephant":MAILTO:no-reply@hasgeek.com
BEGIN:VALARM
ACTION:display
DESCRIPTION:Break in 5 minutes
TRIGGER:-PT5M
END:VALARM
END:VEVENT
BEGIN:VEVENT
SUMMARY:Hands on session
DTSTART:20251206T050000Z
DTEND:20251206T055000Z
DTSTAMP:20260419T152225Z
UID:session/SsY4ULsFWE6fDPNsQkx2xp@hasgeek.com
SEQUENCE:2
CREATED:20251202T144327Z
LAST-MODIFIED:20251202T144334Z
LOCATION:Bangalore
ORGANIZER;CN="The Fifth Elephant":MAILTO:no-reply@hasgeek.com
BEGIN:VALARM
ACTION:display
DESCRIPTION:Hands on session in 5 minutes
TRIGGER:-PT5M
END:VALARM
END:VEVENT
BEGIN:VEVENT
SUMMARY:Break
DTSTART:20251206T055000Z
DTEND:20251206T060000Z
DTSTAMP:20260419T152225Z
UID:session/28XN5VHnuBCwn8uf9DMENF@hasgeek.com
SEQUENCE:1
CREATED:20251202T144341Z
LAST-MODIFIED:20251202T144345Z
LOCATION:Bangalore
ORGANIZER;CN="The Fifth Elephant":MAILTO:no-reply@hasgeek.com
BEGIN:VALARM
ACTION:display
DESCRIPTION:Break in 5 minutes
TRIGGER:-PT5M
END:VALARM
END:VEVENT
BEGIN:VEVENT
SUMMARY:Hands on session
DTSTART:20251206T060000Z
DTEND:20251206T073000Z
DTSTAMP:20260419T152225Z
UID:session/PKZxAAuBvNEzTScXwTpoag@hasgeek.com
SEQUENCE:4
CREATED:20251202T144400Z
LAST-MODIFIED:20251202T144410Z
LOCATION:Bangalore
ORGANIZER;CN="The Fifth Elephant":MAILTO:no-reply@hasgeek.com
BEGIN:VALARM
ACTION:display
DESCRIPTION:Hands on session in 5 minutes
TRIGGER:-PT5M
END:VALARM
END:VEVENT
END:VCALENDAR
