BEGIN:VCALENDAR
VERSION:2.0
PRODID:-//HasGeek//NONSGML Funnel//EN
DESCRIPTION:Hands-on workshop
X-WR-CALDESC:Hands-on workshop
NAME:Beyond accuracy: the evaluation challenge in AI analytics
X-WR-CALNAME:Beyond accuracy: the evaluation challenge in AI analytics
REFRESH-INTERVAL;VALUE=DURATION:PT12H
SUMMARY:Beyond accuracy: the evaluation challenge in AI analytics
TIMEZONE-ID:Asia/Kolkata
X-PUBLISHED-TTL:PT12H
X-WR-TIMEZONE:Asia/Kolkata
BEGIN:VEVENT
SUMMARY:Check in
DTSTART:20251205T040000Z
DTEND:20251205T043000Z
DTSTAMP:20260419T184210Z
UID:session/CKz95CvzyCGbmJbwwiQF1S@hasgeek.com
SEQUENCE:7
CREATED:20251201T114136Z
LAST-MODIFIED:20251205T033044Z
LOCATION:Bangalore
ORGANIZER;CN="The Fifth Elephant":MAILTO:no-reply@hasgeek.com
BEGIN:VALARM
ACTION:display
DESCRIPTION:Check in in 5 minutes
TRIGGER:-PT5M
END:VALARM
END:VEVENT
BEGIN:VEVENT
SUMMARY:Hands on session
DTSTART:20251205T043000Z
DTEND:20251205T051500Z
DTSTAMP:20260419T184210Z
UID:session/TVZnjjTWyxGZDcuuigzy5e@hasgeek.com
SEQUENCE:2
CREATED:20251201T114159Z
LAST-MODIFIED:20251201T114209Z
LOCATION:Bangalore
ORGANIZER;CN="The Fifth Elephant":MAILTO:no-reply@hasgeek.com
BEGIN:VALARM
ACTION:display
DESCRIPTION:Hands on session in 5 minutes
TRIGGER:-PT5M
END:VALARM
END:VEVENT
BEGIN:VEVENT
SUMMARY:Break
DTSTART:20251205T051500Z
DTEND:20251205T053000Z
DTSTAMP:20260419T184210Z
UID:session/SC7kboCb2L1M7AgXhSE455@hasgeek.com
SEQUENCE:1
CREATED:20251201T114218Z
LAST-MODIFIED:20251201T114224Z
LOCATION:Bangalore
ORGANIZER;CN="The Fifth Elephant":MAILTO:no-reply@hasgeek.com
BEGIN:VALARM
ACTION:display
DESCRIPTION:Break in 5 minutes
TRIGGER:-PT5M
END:VALARM
END:VEVENT
BEGIN:VEVENT
SUMMARY:Hands on session
DTSTART:20251205T053000Z
DTEND:20251205T061500Z
DTSTAMP:20260419T184210Z
UID:session/L1XyQeJUZUwLAPdRW183YS@hasgeek.com
SEQUENCE:2
CREATED:20251201T114233Z
LAST-MODIFIED:20251201T114240Z
LOCATION:Bangalore
ORGANIZER;CN="The Fifth Elephant":MAILTO:no-reply@hasgeek.com
BEGIN:VALARM
ACTION:display
DESCRIPTION:Hands on session in 5 minutes
TRIGGER:-PT5M
END:VALARM
END:VEVENT
BEGIN:VEVENT
SUMMARY:Break
DTSTART:20251205T061500Z
DTEND:20251205T063000Z
DTSTAMP:20260419T184210Z
UID:session/CqM82TjHaj5uS1ipfAb2aF@hasgeek.com
SEQUENCE:1
CREATED:20251201T114249Z
LAST-MODIFIED:20251201T114255Z
LOCATION:Bangalore
ORGANIZER;CN="The Fifth Elephant":MAILTO:no-reply@hasgeek.com
BEGIN:VALARM
ACTION:display
DESCRIPTION:Break in 5 minutes
TRIGGER:-PT5M
END:VALARM
END:VEVENT
BEGIN:VEVENT
SUMMARY:Hands on session
DTSTART:20251205T063000Z
DTEND:20251205T073000Z
DTSTAMP:20260419T184210Z
UID:session/5g1D7r8MGcsXy6sK4UqC4q@hasgeek.com
SEQUENCE:3
CREATED:20251201T114305Z
LAST-MODIFIED:20251201T114312Z
LOCATION:Bangalore
ORGANIZER;CN="The Fifth Elephant":MAILTO:no-reply@hasgeek.com
BEGIN:VALARM
ACTION:display
DESCRIPTION:Hands on session in 5 minutes
TRIGGER:-PT5M
END:VALARM
END:VEVENT
END:VCALENDAR
