BEGIN:VCALENDAR
VERSION:2.0
PRODID:-//HasGeek//NONSGML Funnel//EN
DESCRIPTION:Enabling consent-based access to high-variety raw data
X-WR-CALDESC:Enabling consent-based access to high-variety raw data
NAME:Data Governance Practices in the Account Aggregator Ecosystem
X-WR-CALNAME:Data Governance Practices in the Account Aggregator Ecosystem
REFRESH-INTERVAL;VALUE=DURATION:PT12H
SUMMARY:Data Governance Practices in the Account Aggregator Ecosystem
TIMEZONE-ID:Asia/Kolkata
X-PUBLISHED-TTL:PT12H
X-WR-TIMEZONE:Asia/Kolkata
BEGIN:VEVENT
SUMMARY:Data Governance Practices in the Account Aggregator Ecosystem
DTSTART:20240316T103000Z
DTEND:20240316T113000Z
DTSTAMP:20260421T132431Z
UID:session/Jj4vnqB5GJVZLye2JK4nQN@hasgeek.com
SEQUENCE:10
CREATED:20240311T110759Z
DESCRIPTION:The account aggregator (AA) ecosystem is vital for modernizing
  financial services by enabling secure and efficient data sharing among in
 stitutions and customers. It promotes financial inclusion\, facilitates in
 novative products\, and ensures data security\, privacy\, and transparency
 . In this session\, Vamsi Madhav\, COO at DigiSahamati Foundation\, will t
 alk about data governance practices in the AA ecosystem.\n\nThe session wi
 ll be in an AMA (ask me anything) format and participants are encouraged t
 o think about questions they would like to ask beforehand. You can share q
 uestions in the [comments section](https://hasgeek.com/fifthelephant/accou
 nt-aggregtor-data-governance-practices/comments) or over chat during the s
 ession.\n\n## About the speaker\n[Vamsi Madhav](https://www.linkedin.com/i
 n/vamsi74/) is the COO at DigiSahamati Foundation and has 20 years of expe
 rience in fintech product management and building products in the areas of
  core banking\, payment systems and digital financial services. At Sahamat
 i\, he drives the design and execution of all its programs - from building
  advocacy for open finance via AA in the financial services industry\, to 
 delivering foundational technical services to the AA community and fosteri
 ng self-regulatory guidelines. He is passionate about enabling financial i
 nclusion and empowerment for millions of Indians through the AA framework.
 \n\n## Venue and time\nThis session will be held over Zoom on 16th March 2
 024\, Saturday\, at 4 PM IST. \n\n## About The Fifth Elephant\nThe Fifth E
 lephant is a community funded organization. If you like the work that The 
 Fifth Elephant does and want to support meet-ups and activities - online a
 nd in-person - contribute by picking up a [membership](https://hasgeek.com
 /fifthelephant#membership).\n\n## Contact\nFor inquiries\, leave a [commen
 t](https://hasgeek.com/fifthelephant/account-aggregtor-data-governance-pra
 ctices/comments) or call The Fifth Elephant at +91-7676332020.
LAST-MODIFIED:20240415T120740Z
LOCATION:Online - https://hasgeek.com/fifthelephant/account-aggregtor-data
 -governance-practices/
ORGANIZER;CN="The Fifth Elephant":MAILTO:no-reply@hasgeek.com
URL:https://hasgeek.com/fifthelephant/account-aggregtor-data-governance-pr
 actices/
BEGIN:VALARM
ACTION:display
DESCRIPTION:Data Governance Practices in the Account Aggregator Ecosystem 
 in 5 minutes
TRIGGER:-PT5M
END:VALARM
END:VEVENT
END:VCALENDAR
