BEGIN:VCALENDAR
VERSION:2.0
PRODID:-//HasGeek//NONSGML Funnel//EN
DESCRIPTION:Hands-on workshop - The Fifth Elephant Pune Edition
X-WR-CALDESC:Hands-on workshop - The Fifth Elephant Pune Edition
NAME:Accelerating Agentic AI adoption with Nutanix Enterprise AI
X-WR-CALNAME:Accelerating Agentic AI adoption with Nutanix Enterprise AI
REFRESH-INTERVAL;VALUE=DURATION:PT12H
SUMMARY:Accelerating Agentic AI adoption with Nutanix Enterprise AI
TIMEZONE-ID:Asia/Kolkata
X-PUBLISHED-TTL:PT12H
X-WR-TIMEZONE:Asia/Kolkata
BEGIN:VEVENT
SUMMARY:Check in
DTSTART:20260227T081500Z
DTEND:20260227T083000Z
DTSTAMP:20260421T132552Z
UID:session/72VcLBwhJ9RsQGDQ9byhbe@hasgeek.com
SEQUENCE:1
CREATED:20260224T093819Z
LAST-MODIFIED:20260224T093827Z
LOCATION:Sahaj Software\, Pune
ORGANIZER;CN="The Fifth Elephant":MAILTO:no-reply@hasgeek.com
BEGIN:VALARM
ACTION:display
DESCRIPTION:Check in in 5 minutes
TRIGGER:-PT5M
END:VALARM
END:VEVENT
BEGIN:VEVENT
SUMMARY:Hands on session
DTSTART:20260227T083000Z
DTEND:20260227T092000Z
DTSTAMP:20260421T132552Z
UID:session/4eYJ6wzzbimpdJyv7s6pFy@hasgeek.com
SEQUENCE:2
CREATED:20260224T093838Z
LAST-MODIFIED:20260224T093846Z
LOCATION:Sahaj Software\, Pune
ORGANIZER;CN="The Fifth Elephant":MAILTO:no-reply@hasgeek.com
BEGIN:VALARM
ACTION:display
DESCRIPTION:Hands on session in 5 minutes
TRIGGER:-PT5M
END:VALARM
END:VEVENT
BEGIN:VEVENT
SUMMARY:Break
DTSTART:20260227T092000Z
DTEND:20260227T093000Z
DTSTAMP:20260421T132552Z
UID:session/F7wChmhPkafcZykxQzFBQz@hasgeek.com
SEQUENCE:1
CREATED:20260224T093857Z
LAST-MODIFIED:20260224T093902Z
LOCATION:Sahaj Software\, Pune
ORGANIZER;CN="The Fifth Elephant":MAILTO:no-reply@hasgeek.com
BEGIN:VALARM
ACTION:display
DESCRIPTION:Break in 5 minutes
TRIGGER:-PT5M
END:VALARM
END:VEVENT
BEGIN:VEVENT
SUMMARY:Hands on session
DTSTART:20260227T093000Z
DTEND:20260227T102000Z
DTSTAMP:20260421T132552Z
UID:session/L9Xt3FLV6tgSmCAduGy6DV@hasgeek.com
SEQUENCE:2
CREATED:20260224T093913Z
LAST-MODIFIED:20260224T093919Z
LOCATION:Sahaj Software\, Pune
ORGANIZER;CN="The Fifth Elephant":MAILTO:no-reply@hasgeek.com
BEGIN:VALARM
ACTION:display
DESCRIPTION:Hands on session in 5 minutes
TRIGGER:-PT5M
END:VALARM
END:VEVENT
BEGIN:VEVENT
SUMMARY:Break
DTSTART:20260227T102000Z
DTEND:20260227T103000Z
DTSTAMP:20260421T132552Z
UID:session/GKtt5BuCgvEz3ithhXedcm@hasgeek.com
SEQUENCE:1
CREATED:20260224T093948Z
LAST-MODIFIED:20260224T093953Z
LOCATION:Sahaj Software\, Pune
ORGANIZER;CN="The Fifth Elephant":MAILTO:no-reply@hasgeek.com
BEGIN:VALARM
ACTION:display
DESCRIPTION:Break in 5 minutes
TRIGGER:-PT5M
END:VALARM
END:VEVENT
BEGIN:VEVENT
SUMMARY:Hands on session
DTSTART:20260227T103000Z
DTEND:20260227T113000Z
DTSTAMP:20260421T132552Z
UID:session/BUZiNdARjDbKGbMbKYERVP@hasgeek.com
SEQUENCE:2
CREATED:20260224T094018Z
LAST-MODIFIED:20260224T094028Z
LOCATION:Sahaj Software\, Pune
ORGANIZER;CN="The Fifth Elephant":MAILTO:no-reply@hasgeek.com
BEGIN:VALARM
ACTION:display
DESCRIPTION:Hands on session in 5 minutes
TRIGGER:-PT5M
END:VALARM
END:VEVENT
END:VCALENDAR
