BEGIN:VCALENDAR
VERSION:2.0
PRODID:-//HasGeek//NONSGML Funnel//EN
DESCRIPTION:Access the behind-the-scenes of the Conference
X-WR-CALDESC:Access the behind-the-scenes of the Conference
NAME:The Fifth Elephant 2023 Winter Rehearsals
X-WR-CALNAME:The Fifth Elephant 2023 Winter Rehearsals
REFRESH-INTERVAL;VALUE=DURATION:PT12H
SUMMARY:The Fifth Elephant 2023 Winter Rehearsals
TIMEZONE-ID:Asia/Kolkata
X-PUBLISHED-TTL:PT12H
X-WR-TIMEZONE:Asia/Kolkata
BEGIN:VEVENT
SUMMARY:Chatting with Flipkart: How GenAI Revolutionised Online Shopping
DTSTART:20231127T133000Z
DTEND:20231127T143000Z
DTSTAMP:20260421T132511Z
UID:session/Wu582nShURvqYDxzNsQthU@hasgeek.com
SEQUENCE:0
CREATED:20231129T081915Z
DESCRIPTION:Priyanka Nahata will do a rehearsal of their [talk](https://ha
 sgeek.com/fifthelephant/2023-12/sub/chatting-with-flipkart-how-genai-revol
 utionised-on-Ef8jCJk348ukF42y7982qZ) with Fifth Elephant Winter editors an
 d reviewers.\n\nFifth Elephant members can participate in the rehearsals\,
  and give their feedback to the speakers.
LAST-MODIFIED:20231129T081915Z
LOCATION:Online
ORGANIZER;CN="The Fifth Elephant":MAILTO:no-reply@hasgeek.com
BEGIN:VALARM
ACTION:display
DESCRIPTION:Chatting with Flipkart: How GenAI Revolutionised Online Shoppi
 ng in 5 minutes
TRIGGER:-PT5M
END:VALARM
END:VEVENT
BEGIN:VEVENT
SUMMARY:AI Maturity Continuum: A Three-Step Model to Understand Return On 
 Investment (ROI) in AI
DTSTART:20231127T143000Z
DTEND:20231127T153000Z
DTSTAMP:20260421T132511Z
UID:session/D83xXpc5A5wid4cSYAi4yd@hasgeek.com
SEQUENCE:0
CREATED:20231129T082003Z
DESCRIPTION:Anuj Gupta will do a rehearsal of their [talk](https://hasgeek
 .com/fifthelephant/2023-12/sub/ai-maturity-continuum-a-three-step-model-to
 -unders-7TA6kRZhvi7jRTXCuEwpYP) with Fifth Elephant Winter editors and rev
 iewers.\n\nFifth Elephant members can participate in the rehearsals\, and 
 give their feedback to the speakers.
LAST-MODIFIED:20231129T082003Z
LOCATION:Online
ORGANIZER;CN="The Fifth Elephant":MAILTO:no-reply@hasgeek.com
BEGIN:VALARM
ACTION:display
DESCRIPTION:AI Maturity Continuum: A Three-Step Model to Understand Return
  On Investment (ROI) in AI in 5 minutes
TRIGGER:-PT5M
END:VALARM
END:VEVENT
BEGIN:VEVENT
SUMMARY:Scaling Recommendations @ Meesho: Lessons from Twitter\, Instagram
  and Pinterest Ranking & Retrieval Strategies
DTSTART:20231128T123000Z
DTEND:20231128T133000Z
DTSTAMP:20260421T132511Z
UID:session/Ea2mpeH3xkEEHyttGuUNf6@hasgeek.com
SEQUENCE:0
CREATED:20231129T082053Z
DESCRIPTION:Abhishek Mungoli will do a rehearsal of their [talk](https://h
 asgeek.com/fifthelephant/2023-12/sub/scaling-recommendations-lessons-from-
 twitter-and-i-LQTq9HJgmpLCrrg47jwQQh) with Fifth Elephant Winter editors a
 nd reviewers.\n\nFifth Elephant members can participate in the rehearsals\
 , and give their feedback to the speakers.
LAST-MODIFIED:20231129T082053Z
LOCATION:Online
ORGANIZER;CN="The Fifth Elephant":MAILTO:no-reply@hasgeek.com
BEGIN:VALARM
ACTION:display
DESCRIPTION:Scaling Recommendations @ Meesho: Lessons from Twitter\, Insta
 gram and Pinterest Ranking & Retrieval Strategies in 5 minutes
TRIGGER:-PT5M
END:VALARM
END:VEVENT
BEGIN:VEVENT
SUMMARY:Video Highlights Generation
DTSTART:20231128T143000Z
DTEND:20231128T153000Z
DTSTAMP:20260421T132511Z
UID:session/VaMLXPQQ7gZ8wsWWH7bcjx@hasgeek.com
SEQUENCE:0
CREATED:20231129T082153Z
DESCRIPTION:Shyam Chowdhary and Akshat Gupta will do a rehearsal of their 
 [talk](https://hasgeek.com/fifthelephant/2023-12/sub/video-highlights-gene
 ration-EZEuxqbWcs3TCPdUv6kLEf) with Fifth Elephant Winter editors and revi
 ewers.\n\nFifth Elephant members can participate in the rehearsals\, and g
 ive their feedback to the speakers.
LAST-MODIFIED:20231129T082153Z
LOCATION:Online
ORGANIZER;CN="The Fifth Elephant":MAILTO:no-reply@hasgeek.com
BEGIN:VALARM
ACTION:display
DESCRIPTION:Video Highlights Generation in 5 minutes
TRIGGER:-PT5M
END:VALARM
END:VEVENT
BEGIN:VEVENT
SUMMARY:How Differential Privacy Changed The World
DTSTART:20231130T133000Z
DTEND:20231130T143000Z
DTSTAMP:20260421T132511Z
UID:session/6sKRbqXv1EyZBcL8yigZEw@hasgeek.com
SEQUENCE:0
CREATED:20231129T082246Z
DESCRIPTION:Rumanu Bhardwaj will do a rehearsal of their [talk](https://ha
 sgeek.com/fifthelephant/2023-12/sub/how-differential-privacy-changed-the-w
 orld-NdmGAbfRbuSZueZMfCFvm6) with Fifth Elephant Winter editors and review
 ers.\n\nFifth Elephant members can participate in the rehearsals\, and giv
 e their feedback to the speakers.
LAST-MODIFIED:20231129T082246Z
LOCATION:Online
ORGANIZER;CN="The Fifth Elephant":MAILTO:no-reply@hasgeek.com
BEGIN:VALARM
ACTION:display
DESCRIPTION:How Differential Privacy Changed The World in 5 minutes
TRIGGER:-PT5M
END:VALARM
END:VEVENT
BEGIN:VEVENT
SUMMARY:Near Real time Feature Engineering for Machine Learning use cases 
 at Myntra Scale
DTSTART:20231201T133000Z
DTEND:20231201T143000Z
DTSTAMP:20260421T132511Z
UID:session/EZM4EY9RCr59QvVrSdE9sk@hasgeek.com
SEQUENCE:0
CREATED:20231129T082416Z
DESCRIPTION:Narayana Patipatti and Aditya S will do a rehearsal of their [
 talk](https://hasgeek.com/fifthelephant/2023-12/sub/near-real-time-feature
 -engineering-for-machine-lea-N6KtqVkS4ZsUzWRQKtVyQ) with Fifth Elephant Wi
 nter editors and reviewers.\n\nFifth Elephant members can participate in t
 he rehearsals\, and give their feedback to the speakers.
LAST-MODIFIED:20231129T082416Z
LOCATION:Online
ORGANIZER;CN="The Fifth Elephant":MAILTO:no-reply@hasgeek.com
BEGIN:VALARM
ACTION:display
DESCRIPTION:Near Real time Feature Engineering for Machine Learning use ca
 ses at Myntra Scale in 5 minutes
TRIGGER:-PT5M
END:VALARM
END:VEVENT
BEGIN:VEVENT
SUMMARY:AI powered advertising (lightning talk)
DTSTART:20231201T133500Z
DTEND:20231201T140000Z
DTSTAMP:20260421T132511Z
UID:session/HCZ7aikeoFmFRtEyWEXTV8@hasgeek.com
SEQUENCE:5
CREATED:20231129T082548Z
DESCRIPTION:Santosh GSK will do a rehearsal of their [talk](https://hasgee
 k.com/fifthelephant/2023-12/sub/ai-powered-advertising-LShkje2W5BZpRSy7QXo
 PcJ) with Fifth Elephant Winter editors and reviewers.\n\nFifth Elephant m
 embers can participate in the rehearsals\, and give their feedback to the 
 speakers.
LAST-MODIFIED:20231201T104837Z
LOCATION:Online
ORGANIZER;CN="The Fifth Elephant":MAILTO:no-reply@hasgeek.com
BEGIN:VALARM
ACTION:display
DESCRIPTION:AI powered advertising (lightning talk) in 5 minutes
TRIGGER:-PT5M
END:VALARM
END:VEVENT
BEGIN:VEVENT
SUMMARY:Automating Knowledge Extraction for Training Content Generation wi
 th LLMs @ SquadStack (lightning talk)
DTSTART:20231201T140000Z
DTEND:20231201T143000Z
DTSTAMP:20260421T132511Z
UID:session/KeGwaRkMGPaMVro7Yi5aGL@hasgeek.com
SEQUENCE:2
CREATED:20231129T082651Z
DESCRIPTION:Sumit Saha will do a rehearsal of their [talk](https://hasgeek
 .com/fifthelephant/2023-12/sub/automating-knowledge-extraction-for-trainin
 g-conte-9XrRAKYMtGY2eHwt4MGMKu) with Fifth Elephant Winter editors and rev
 iewers.\n\nFifth Elephant members can participate in the rehearsals\, and 
 give their feedback to the speakers.
LAST-MODIFIED:20231201T104844Z
LOCATION:Online
ORGANIZER;CN="The Fifth Elephant":MAILTO:no-reply@hasgeek.com
BEGIN:VALARM
ACTION:display
DESCRIPTION:Automating Knowledge Extraction for Training Content Generatio
 n with LLMs @ SquadStack (lightning talk) in 5 minutes
TRIGGER:-PT5M
END:VALARM
END:VEVENT
BEGIN:VEVENT
SUMMARY:Shiksha Copilot- Empowering teachers to create best learning exper
 iences
DTSTART:20231201T143000Z
DTEND:20231201T153000Z
DTSTAMP:20260421T132511Z
UID:session/XxChGehDV5n1pXi7t4Q3fi@hasgeek.com
SEQUENCE:0
CREATED:20231129T082753Z
DESCRIPTION:Tanuja Ganu will do a rehearsal of their [talk](https://hasgee
 k.com/fifthelephant/2023-12/sub/shiksha-copilot-HyyGdVu4hj26bgDahgoHZJ) wi
 th Fifth Elephant Winter editors and reviewers.\n\nFifth Elephant members 
 can participate in the rehearsals\, and give their feedback to the speaker
 s.
LAST-MODIFIED:20231129T082753Z
LOCATION:Online
ORGANIZER;CN="The Fifth Elephant":MAILTO:no-reply@hasgeek.com
BEGIN:VALARM
ACTION:display
DESCRIPTION:Shiksha Copilot- Empowering teachers to create best learning e
 xperiences in 5 minutes
TRIGGER:-PT5M
END:VALARM
END:VEVENT
BEGIN:VEVENT
SUMMARY:Demo Rehearsals
DTSTART:20231202T133000Z
DTEND:20231202T143000Z
DTSTAMP:20260421T132511Z
UID:session/4W7XUzCFpVfixJPJ9HTzgV@hasgeek.com
SEQUENCE:1
CREATED:20231129T082903Z
DESCRIPTION:Gaurav\, Phaneesh\, Ankur\, and Akshat will do a rehearsal of 
 their demos with Fifth Elephant Winter editors and reviewers.\n\nLinks to 
 proposals:\n1. [Accelerating Generative AI initiatives with AMD SharkStudi
 o Technology](https://hasgeek.com/fifthelephant/2023-12/sub/accelerating-g
 enerative-ai-initiatives-with-amd-sh-SmGab4RXpbi5ETyHpYZHtU)\n2. [Building
  LLM Apps up to 20x Faster using Microservices Architecture](https://hasge
 ek.com/fifthelephant/2023-12/sub/building-llm-apps-up-to-20x-faster-using-
 microserv-FMKVMpM7ogofb7KCZLxNx)\n3. [Automated Genre Based Music Morphing
  using AI](https://hasgeek.com/fifthelephant/2023-12/sub/automated-genre-b
 ased-music-morphing-using-ai-B9WH6pyJUUaSEWEo9NGbYD)\n\nFifth Elephant mem
 bers can participate in the rehearsals\, and give their feedback to the sp
 eakers.
LAST-MODIFIED:20231202T125741Z
LOCATION:Online
ORGANIZER;CN="The Fifth Elephant":MAILTO:no-reply@hasgeek.com
BEGIN:VALARM
ACTION:display
DESCRIPTION:Demo Rehearsals in 5 minutes
TRIGGER:-PT5M
END:VALARM
END:VEVENT
BEGIN:VEVENT
SUMMARY:Conversational Search in Flipkart
DTSTART:20231202T143000Z
DTEND:20231202T153000Z
DTSTAMP:20260421T132511Z
UID:session/RgmfcG8MDxpNSRf12WB1Zu@hasgeek.com
SEQUENCE:0
CREATED:20231129T082945Z
DESCRIPTION:Sajal Gupta and Shreyas Shetty will do a rehearsal of their [t
 alk](https://hasgeek.com/fifthelephant/2023-12/sub/conversational-search-i
 n-flipkart-8zYomuLxHLz6gsgPHH6674) with Fifth Elephant Winter editors and 
 reviewers.\n\nFifth Elephant members can participate in the rehearsals\, a
 nd give their feedback to the speakers.
LAST-MODIFIED:20231129T082945Z
LOCATION:Online
ORGANIZER;CN="The Fifth Elephant":MAILTO:no-reply@hasgeek.com
BEGIN:VALARM
ACTION:display
DESCRIPTION:Conversational Search in Flipkart in 5 minutes
TRIGGER:-PT5M
END:VALARM
END:VEVENT
BEGIN:VEVENT
SUMMARY:Revolutionizing Radiology Reports: Leveraging AI and LLMs for Impr
 oved Quality and Actionability
DTSTART:20231205T133000Z
DTEND:20231205T143000Z
DTSTAMP:20260421T132511Z
UID:session/6KUM4NXgJJQAnT9Xp7LzjE@hasgeek.com
SEQUENCE:0
CREATED:20231129T083043Z
DESCRIPTION:Kalyan Sivasailam and Bargava Subramanian will do a rehearsal 
 of their [talk](https://hasgeek.com/fifthelephant/2023-12/sub/revolutioniz
 ing-radiology-reports-leveraging-ai-an-C8C5zPtLAkFickZGnn5Vdc) with Fifth 
 Elephant Winter editors and reviewers.\n\nFifth Elephant members can parti
 cipate in the rehearsals\, and give their feedback to the speakers.
LAST-MODIFIED:20231129T083043Z
LOCATION:Online
ORGANIZER;CN="The Fifth Elephant":MAILTO:no-reply@hasgeek.com
BEGIN:VALARM
ACTION:display
DESCRIPTION:Revolutionizing Radiology Reports: Leveraging AI and LLMs for 
 Improved Quality and Actionability in 5 minutes
TRIGGER:-PT5M
END:VALARM
END:VEVENT
END:VCALENDAR
