BEGIN:VCALENDAR
VERSION:2.0
PRODID:-//HasGeek//NONSGML Funnel//EN
DESCRIPTION:A learning and networking session on Generative AI in NCR (Del
 hi)
X-WR-CALDESC:A learning and networking session on Generative AI in NCR (De
 lhi)
NAME:Building on AI (Online)
X-WR-CALNAME:Building on AI (Online)
REFRESH-INTERVAL;VALUE=DURATION:PT12H
SUMMARY:Building on AI (Online)
TIMEZONE-ID:Asia/Kolkata
X-PUBLISHED-TTL:PT12H
X-WR-TIMEZONE:Asia/Kolkata
BEGIN:VEVENT
SUMMARY:Building on AI (Online)
DTSTART:20230804T103000Z
DTEND:20230804T133000Z
DTSTAMP:20260421T165202Z
UID:session/L3kMKGqAafmPFgixfQe7rB@hasgeek.com
SEQUENCE:38
CREATED:20230713T171037Z
DESCRIPTION:The topic of this online meet-up is building on AI with a focu
 s on NLP. \n\nMeeting link to be shared shortly.\n\n## Who should particip
 ate\nIf you are either building on AI/Gen AI\, working in this domain\, or
  enthusiastic to learn more about the know-hows of the space\, this meet-u
 p is for you. This session will focus on the key aspects for building and 
 scaling models.\n*This meet-up is free for participants. You can support T
 he Fifth Elephant's community activities by contributing with a membership
 .*\n\n## Talks at the meet-up \n1. Seven key learnings while launching an 
 AI-based product by [Rohit Agarwal\, co-founder at Portkey.ai](https://www
 .linkedin.com/in/1rohitagarwal/)\n2. Generative AI for HR solutions by [Ku
 ldeep Yadav\, Director (AI) at SHL](https://www.linkedin.com/in/kyadav/)\n
 \n## Panel discussion: AI's value to the business - Reality or Hype\nAI ha
 s made significant growth in recent times with numerous advancements and d
 evelopments in the field. The emergence of foundational models and the API
  ecosystem has lowered the entry barrier considerably\, and has made AI te
 chnology adoption easier than before. According to one estimate\, 77% of b
 usinesses are either using or exploring AI for their workflows or building
  a AI powered feature for their users. \n\nHowever\, a recent survey revea
 ls that 8 out 10 organizations have admitted that their AI efforts deliver
 ed zero to negative returns. It is imperative to understand AI's strengths
  and weaknesses in the context of different workflows\, and how real busin
 ess value can be unlocked. The practitioners on this panel have built AI s
 ystems that move the needle for business. They will discuss and deliberate
  the key points which leadership teams need to understand to make their AI
  investment count.\nPanelists include:\n\n1. [Anuj Gupta\, Founder & CEO o
 f Gradient Advisors](https://www.linkedin.com/in/anujgupta-82/)\n2. [Jaide
 v Deshpande\, Associate Director at Gramener](https://linkedin.com/in/jaid
 evd/)\n\n[Puneet Agarwal\, co-founder at Style by Vida](https://www.linked
 in.com/in/agarwalpuneet/) will moderate the panel. \n\n## About the organi
 zer\n[Anugrahit Kerketta](https://www.linkedin.com/in/anugrahit/) is part 
 of an early-stage B2B fintech startup\, Arthmate\, based in Gurugram\, Har
 yana. \n\n## Support The Fifth Elephant's community activities with a memb
 ership\nThe Fifth Elephant is a community funded organization. If you like
  the work that The Fifth Elephant does\, and want to support meet-ups and 
 activities in different cities in India\, consider contributing by picking
  up a membership. \n\n## Contact\nJoin The Fifth Elephant Telegram group a
 t <https://t.me/fifthel> or follow [@fifthel on Twitter](https://twitter.c
 om/fifthel).\nFor inquiries\, contact The Fifth Elephant at +91-7676332020
 . 
LAST-MODIFIED:20230803T081748Z
LOCATION:Delhi - https://hasgeek.com/fifthelephant/2023-07-delhi/
ORGANIZER;CN="The Fifth Elephant":MAILTO:no-reply@hasgeek.com
URL:https://hasgeek.com/fifthelephant/2023-07-delhi/
BEGIN:VALARM
ACTION:display
DESCRIPTION:Building on AI (Online) in 5 minutes
TRIGGER:-PT5M
END:VALARM
END:VEVENT
END:VCALENDAR
