BEGIN:VCALENDAR
VERSION:2.0
PRODID:-//HasGeek//NONSGML Funnel//EN
DESCRIPTION:Applying game theory principles for public policy outcomes
X-WR-CALDESC:Applying game theory principles for public policy outcomes
NAME:Routing money\, not packets: public lecture on Net Neutrality by Dr. 
 Vishal Misra
X-WR-CALNAME:Routing money\, not packets: public lecture on Net Neutrality
  by Dr. Vishal Misra
REFRESH-INTERVAL;VALUE=DURATION:PT12H
SUMMARY:Routing money\, not packets: public lecture on Net Neutrality by D
 r. Vishal Misra
TIMEZONE-ID:Asia/Kolkata
X-PUBLISHED-TTL:PT12H
X-WR-TIMEZONE:Asia/Kolkata
BEGIN:VEVENT
SUMMARY:Check-in
DTSTART:20190815T053000Z
DTEND:20190815T054000Z
DTSTAMP:20260419T170729Z
UID:session/H9n9JVhLUHbvKmgtC1xfaM@hasgeek.com
SEQUENCE:0
CREATED:20190805T093226Z
DESCRIPTION:\n
LAST-MODIFIED:20190805T093231Z
LOCATION:Open house space - HasGeek house\nBangalore\nIN
ORGANIZER;CN="The Fifth Elephant":MAILTO:no-reply@hasgeek.com
BEGIN:VALARM
ACTION:display
DESCRIPTION:Check-in in Open house space in 5 minutes
TRIGGER:-PT5M
END:VALARM
END:VEVENT
BEGIN:VEVENT
SUMMARY:Introduction to the topic and speaker
DTSTART:20190815T054000Z
DTEND:20190815T055000Z
DTSTAMP:20260419T170729Z
UID:session/6Xw8L6rxt76HT3jTpc8ciS@hasgeek.com
SEQUENCE:0
CREATED:20190805T093327Z
DESCRIPTION:\n
LAST-MODIFIED:20190805T093331Z
LOCATION:Open house space - HasGeek house\nBangalore\nIN
ORGANIZER;CN="The Fifth Elephant":MAILTO:no-reply@hasgeek.com
BEGIN:VALARM
ACTION:display
DESCRIPTION:Introduction to the topic and speaker in Open house space in 5
  minutes
TRIGGER:-PT5M
END:VALARM
END:VEVENT
BEGIN:VEVENT
SUMMARY:Lecture: Routing money\, not packets
DTSTART:20190815T055000Z
DTEND:20190815T065000Z
DTSTAMP:20260419T170729Z
UID:session/UGx1qiPgwi7LAUnA2o2GVh@hasgeek.com
SEQUENCE:2
CREATED:20190805T093436Z
DESCRIPTION:\n\n### Speaker bio\n\nVishal Misra is a Professor in the Depa
 rtment of Computer Science at Columbia University\, with a joint appointme
 nt in the Electrical Engineering Department and also a visiting scientist 
 at Google. He is an ACM and IEEE Fellow and his research emphasis is on ma
 thematical modeling of systems\,  bridging the gap between practice and an
 alysis. He is also credited with inventing live-microblogging at CricInfo\
 , a company he co-founded  while a graduate student at UMass Amherst\, pre
 dating Twitter by 10 years. \n\nHe also played an active part in the Net N
 eutrality regulation process in India\, where his definition of Net Neutra
 lity was both adopted both by the citizen's movement as well is consistent
  with the regulations eventually passed. He has been awarded a Distinguish
 ed Alumnus Award by IIT Bombay (2019) and a  Distinguished Young Alumnus A
 ward by UMass Amherst College of Engineering (2014).\n
LAST-MODIFIED:20230810T072606Z
LOCATION:Open house space - HasGeek house\nBangalore\nIN
ORGANIZER;CN="The Fifth Elephant":MAILTO:no-reply@hasgeek.com
BEGIN:VALARM
ACTION:display
DESCRIPTION:Lecture: Routing money\, not packets in Open house space in 5 
 minutes
TRIGGER:-PT5M
END:VALARM
END:VEVENT
BEGIN:VEVENT
SUMMARY:Q&A session
DTSTART:20190815T065000Z
DTEND:20190815T072000Z
DTSTAMP:20260419T170729Z
UID:session/VuvJHBPb2WP7r3EPkacnbW@hasgeek.com
SEQUENCE:0
CREATED:20190805T093510Z
DESCRIPTION:\n
LAST-MODIFIED:20190805T133008Z
LOCATION:Open house space - HasGeek house\nBangalore\nIN
ORGANIZER;CN="The Fifth Elephant":MAILTO:no-reply@hasgeek.com
BEGIN:VALARM
ACTION:display
DESCRIPTION:Q&A session in Open house space in 5 minutes
TRIGGER:-PT5M
END:VALARM
END:VEVENT
BEGIN:VEVENT
SUMMARY:Conclusion and vote of thanks to the speaker
DTSTART:20190815T072000Z
DTEND:20190815T073000Z
DTSTAMP:20260419T170729Z
UID:session/XTDzEVJLjHcLqhrWaSvqeU@hasgeek.com
SEQUENCE:0
CREATED:20190805T093613Z
DESCRIPTION:\n
LAST-MODIFIED:20190805T093617Z
LOCATION:Open house space - HasGeek house\nBangalore\nIN
ORGANIZER;CN="The Fifth Elephant":MAILTO:no-reply@hasgeek.com
BEGIN:VALARM
ACTION:display
DESCRIPTION:Conclusion and vote of thanks to the speaker in Open house spa
 ce in 5 minutes
TRIGGER:-PT5M
END:VALARM
END:VEVENT
BEGIN:VEVENT
SUMMARY:Snacks and networking
DTSTART:20190815T073000Z
DTEND:20190815T083000Z
DTSTAMP:20260419T170729Z
UID:session/B3cfAhfax63CYS6hFaUL97@hasgeek.com
SEQUENCE:0
CREATED:20190805T093547Z
DESCRIPTION:\n
LAST-MODIFIED:20190805T093621Z
LOCATION:Open house space - HasGeek house\nBangalore\nIN
ORGANIZER;CN="The Fifth Elephant":MAILTO:no-reply@hasgeek.com
BEGIN:VALARM
ACTION:display
DESCRIPTION:Snacks and networking in Open house space in 5 minutes
TRIGGER:-PT5M
END:VALARM
END:VEVENT
END:VCALENDAR
