BEGIN:VCALENDAR
VERSION:2.0
PRODID:-//HasGeek//NONSGML Funnel//EN
DESCRIPTION:High-resolution image synthesis with latent diffusion models
X-WR-CALDESC:High-resolution image synthesis with latent diffusion models
NAME:The Fifth Elephant: Paper Reading meet-up - November 2023
X-WR-CALNAME:The Fifth Elephant: Paper Reading meet-up - November 2023
REFRESH-INTERVAL;VALUE=DURATION:PT12H
SUMMARY:The Fifth Elephant: Paper Reading meet-up - November 2023
TIMEZONE-ID:Asia/Kolkata
X-PUBLISHED-TTL:PT12H
X-WR-TIMEZONE:Asia/Kolkata
BEGIN:VEVENT
SUMMARY:High-resolution image synthesis with latent diffusion models
DTSTART:20231103T120000Z
DTEND:20231103T130500Z
DTSTAMP:20260421T144922Z
UID:session/BEcT2MTck6LAB2Sa2SnitX@hasgeek.com
SEQUENCE:1
CREATED:20240509T054219Z
LAST-MODIFIED:20240510T102517Z
LOCATION:Online
ORGANIZER;CN="The Fifth Elephant":MAILTO:no-reply@hasgeek.com
BEGIN:VALARM
ACTION:display
DESCRIPTION:High-resolution image synthesis with latent diffusion models i
 n 5 minutes
TRIGGER:-PT5M
END:VALARM
END:VEVENT
END:VCALENDAR
