BEGIN:VCALENDAR
VERSION:2.0
PRODID:-//HasGeek//NONSGML Funnel//EN
DESCRIPTION:Emerging Technologies
X-WR-CALDESC:Emerging Technologies
NAME:DevCon Hyderabad
X-WR-CALNAME:DevCon Hyderabad
REFRESH-INTERVAL;VALUE=DURATION:PT12H
SUMMARY:DevCon Hyderabad
TIMEZONE-ID:Asia/Kolkata
X-PUBLISHED-TTL:PT12H
X-WR-TIMEZONE:Asia/Kolkata
BEGIN:VEVENT
SUMMARY:Introductions
DTSTART:20171014T033000Z
DTEND:20171014T043000Z
DTSTAMP:20260421T064945Z
UID:session/DYcQUR9UUTcRYUufzsHo5p@hasgeek.com
SEQUENCE:0
CREATED:20190708T151115Z
DESCRIPTION:\n
GEO:17.3761241;78.3781632
LAST-MODIFIED:20190708T151115Z
LOCATION:Auditorium - Taramati Baradari \, Hyderabad\nIN
ORGANIZER;CN=DevConHyd:MAILTO:no-reply@hasgeek.com
BEGIN:VALARM
ACTION:display
DESCRIPTION:Introductions in Auditorium in 5 minutes
TRIGGER:-PT5M
END:VALARM
END:VEVENT
BEGIN:VEVENT
SUMMARY:Introductions
DTSTART:20171015T033000Z
DTEND:20171015T043000Z
DTSTAMP:20260421T064945Z
UID:session/5qzairgP9z94HxKSAxcCST@hasgeek.com
SEQUENCE:0
CREATED:20190708T151124Z
DESCRIPTION:\n
GEO:17.3761241;78.3781632
LAST-MODIFIED:20190708T151124Z
LOCATION:Auditorium - Taramati Baradari \, Hyderabad\nIN
ORGANIZER;CN=DevConHyd:MAILTO:no-reply@hasgeek.com
BEGIN:VALARM
ACTION:display
DESCRIPTION:Introductions in Auditorium in 5 minutes
TRIGGER:-PT5M
END:VALARM
END:VEVENT
END:VCALENDAR
