BEGIN:VCALENDAR
VERSION:2.0
PRODID:-//HasGeek//NONSGML Funnel//EN
DESCRIPTION:Content Web Saturday sessions
X-WR-CALDESC:Content Web Saturday sessions
NAME:Using Web Page Tests (WPT) effectively
X-WR-CALNAME:Using Web Page Tests (WPT) effectively
REFRESH-INTERVAL;VALUE=DURATION:PT12H
SUMMARY:Using Web Page Tests (WPT) effectively
TIMEZONE-ID:Asia/Kolkata
X-PUBLISHED-TTL:PT12H
X-WR-TIMEZONE:Asia/Kolkata
BEGIN:VEVENT
SUMMARY:Introduction to Content Web and today's session
DTSTART:20200905T053000Z
DTEND:20200905T054000Z
DTSTAMP:20260421T123255Z
UID:session/6ShidPsb28mbYYCMNNAqD3@hasgeek.com
SEQUENCE:0
CREATED:20200903T011216Z
DESCRIPTION:\n
LAST-MODIFIED:20200903T011300Z
LOCATION:Online
ORGANIZER;CN="Content Web":MAILTO:no-reply@hasgeek.com
BEGIN:VALARM
ACTION:display
DESCRIPTION:Introduction to Content Web and today's session in 5 minutes
TRIGGER:-PT5M
END:VALARM
END:VEVENT
BEGIN:VEVENT
SUMMARY:How to use WPT effectively.
DTSTART:20200905T053500Z
DTEND:20200905T054000Z
DTSTAMP:20260421T123255Z
UID:session/GmNhccH3K8H57PgG9c4hh4@hasgeek.com
SEQUENCE:0
CREATED:20200903T011248Z
DESCRIPTION:\n
LAST-MODIFIED:20200903T011248Z
LOCATION:Online
ORGANIZER;CN="Content Web":MAILTO:no-reply@hasgeek.com
BEGIN:VALARM
ACTION:display
DESCRIPTION:How to use WPT effectively. in 5 minutes
TRIGGER:-PT5M
END:VALARM
END:VEVENT
BEGIN:VEVENT
SUMMARY:How to use WPT effectively.
DTSTART:20200905T054000Z
DTEND:20200905T061000Z
DTSTAMP:20260421T123255Z
UID:session/2j552JBVtpBBgdUEL6QBxq@hasgeek.com
SEQUENCE:0
CREATED:20200903T011248Z
DESCRIPTION:\n
LAST-MODIFIED:20200925T063634Z
LOCATION:Online
ORGANIZER;CN="Content Web":MAILTO:no-reply@hasgeek.com
BEGIN:VALARM
ACTION:display
DESCRIPTION:How to use WPT effectively. in 5 minutes
TRIGGER:-PT5M
END:VALARM
END:VEVENT
BEGIN:VEVENT
SUMMARY:Q&A session
DTSTART:20200905T061000Z
DTEND:20200905T064000Z
DTSTAMP:20260421T123255Z
UID:session/J4kjr7AM9UFoejmQsNk9LY@hasgeek.com
SEQUENCE:0
CREATED:20200903T011314Z
DESCRIPTION:\n
LAST-MODIFIED:20200903T011322Z
LOCATION:Online
ORGANIZER;CN="Content Web":MAILTO:no-reply@hasgeek.com
BEGIN:VALARM
ACTION:display
DESCRIPTION:Q&A session in 5 minutes
TRIGGER:-PT5M
END:VALARM
END:VEVENT
BEGIN:VEVENT
SUMMARY:Summary and closing\; announcement of next week's session.
DTSTART:20200905T064000Z
DTEND:20200905T064500Z
DTSTAMP:20260421T123255Z
UID:session/9iZeqtwz78His7PZrGHrbR@hasgeek.com
SEQUENCE:0
CREATED:20200903T011342Z
DESCRIPTION:\n
LAST-MODIFIED:20200903T011342Z
LOCATION:Online
ORGANIZER;CN="Content Web":MAILTO:no-reply@hasgeek.com
BEGIN:VALARM
ACTION:display
DESCRIPTION:Summary and closing\; announcement of next week's session. in 
 5 minutes
TRIGGER:-PT5M
END:VALARM
END:VEVENT
END:VCALENDAR
