BEGIN:VCALENDAR
VERSION:2.0
PRODID:-//HasGeek//NONSGML Funnel//EN
DESCRIPTION:Content Web Saturday sessions
X-WR-CALDESC:Content Web Saturday sessions
NAME:Understanding Technical SEO – The Modern Approach to Search Optimis
 ation.
X-WR-CALNAME:Understanding Technical SEO – The Modern Approach to Search
  Optimisation.
REFRESH-INTERVAL;VALUE=DURATION:PT12H
SUMMARY:Understanding Technical SEO – The Modern Approach to Search Opti
 misation.
TIMEZONE-ID:Asia/Kolkata
X-PUBLISHED-TTL:PT12H
X-WR-TIMEZONE:Asia/Kolkata
BEGIN:VEVENT
SUMMARY:Introduction to Content Web and today's session
DTSTART:20200815T113000Z
DTEND:20200815T113500Z
DTSTAMP:20260421T112808Z
UID:session/HWxibxWPjbXCt6aycp2ycU@hasgeek.com
SEQUENCE:0
CREATED:20200808T093200Z
DESCRIPTION:\n
LAST-MODIFIED:20200809T043704Z
LOCATION:Online
ORGANIZER;CN="Content Web":MAILTO:no-reply@hasgeek.com
BEGIN:VALARM
ACTION:display
DESCRIPTION:Introduction to Content Web and today's session in 5 minutes
TRIGGER:-PT5M
END:VALARM
END:VEVENT
BEGIN:VEVENT
SUMMARY:Technical SEO – How approach to SEO and how it has evolved in th
 e last decade.
DTSTART:20200815T113500Z
DTEND:20200815T121000Z
DTSTAMP:20260421T112808Z
UID:session/ApdgeaWWd3ApWm7PZN62MD@hasgeek.com
SEQUENCE:2
CREATED:20200808T093209Z
DESCRIPTION:1. How do people find websites – search\, social\, ads.\n2. 
 How does a search engine work? What is ranking signal?\n3. What is SEO? \n
 4. How SEO Services are different from Technical SEO\, and why one should 
 prioritise the latter?\n5. Brief look at the [Moz SEO Cheat Sheet][moz] (w
 hich has a good coverage on Technical SEO).\n6. Who’s responsible for it
  and how can everyone chip in?\n\nWe’ll start with laying the foundation
  on the subject and then move on to a freewheeling chat/discussion with th
 e participants. \n\n[moz]: https://d2v4zi8pl64nxt.cloudfront.net/seo-cheat
 -sheet.pdf\n\n### Speaker bio\n\nSouvik architects information and builds 
 content-heavy websites. He works at [Miranj][] — a web design and develo
 pment studio in New Delhi which he co-founded in 2011. Souvik has been wea
 ring many hats at work which includes strategising websites\, managing web
  projects\, exploring business opportunities and handling client relations
 hips. He has been speaking on information architecture\, user experience a
 nd web standards at conferences in India and abroad. He’s also the organ
 iser of [World IA Day][wiad] in New Delhi and the weekly [Content Web][cw]
  conversations with Hasgeek. Outside work\, he indulges in music\, coffee 
 and cooking.\n\n[miranj]: https://miranj.in\n[wiad]: https://www.worldiada
 y.org/\n[cw]: https://hasgeek.com/contentweb\n
LAST-MODIFIED:20230810T072606Z
LOCATION:Online
ORGANIZER;CN="Content Web":MAILTO:no-reply@hasgeek.com
URL:https://hasgeek.com/contentweb/understanding-technical-seo/schedule/te
 chnical-seo-how-approach-to-seo-has-evolved-in-the-last-decade-ApdgeaWWd3A
 pWm7PZN62MD
BEGIN:VALARM
ACTION:display
DESCRIPTION:Technical SEO – How approach to SEO and how it has evolved i
 n the last decade. in 5 minutes
TRIGGER:-PT5M
END:VALARM
END:VEVENT
BEGIN:VEVENT
SUMMARY:Q&A session
DTSTART:20200815T121000Z
DTEND:20200815T124500Z
DTSTAMP:20260421T112808Z
UID:session/VVmUYNemPUziATDUFGiy4j@hasgeek.com
SEQUENCE:0
CREATED:20200808T093231Z
DESCRIPTION:\n
LAST-MODIFIED:20200809T043710Z
LOCATION:Online
ORGANIZER;CN="Content Web":MAILTO:no-reply@hasgeek.com
BEGIN:VALARM
ACTION:display
DESCRIPTION:Q&A session in 5 minutes
TRIGGER:-PT5M
END:VALARM
END:VEVENT
END:VCALENDAR
