BEGIN:VCALENDAR
VERSION:2.0
PRODID:-//HasGeek//NONSGML Funnel//EN
DESCRIPTION:Content Web Saturday sessions
X-WR-CALDESC:Content Web Saturday sessions
NAME:Securing Websites from Wordpress Hacks
X-WR-CALNAME:Securing Websites from Wordpress Hacks
REFRESH-INTERVAL;VALUE=DURATION:PT12H
SUMMARY:Securing Websites from Wordpress Hacks
TIMEZONE-ID:Asia/Kolkata
X-PUBLISHED-TTL:PT12H
X-WR-TIMEZONE:Asia/Kolkata
BEGIN:VEVENT
SUMMARY:Securing Content Websites - and preventing usual Wordpress attacks
DTSTART:20201205T053000Z
DTEND:20201205T064500Z
DTSTAMP:20260419T170227Z
UID:session/8LHS3QnSsPZJG3nvtCFEsW@hasgeek.com
SEQUENCE:0
CREATED:20201109T105630Z
DESCRIPTION:\n
LAST-MODIFIED:20201109T105640Z
LOCATION:Online
ORGANIZER;CN="Content Web":MAILTO:no-reply@hasgeek.com
BEGIN:VALARM
ACTION:display
DESCRIPTION:Securing Content Websites - and preventing usual Wordpress att
 acks in 5 minutes
TRIGGER:-PT5M
END:VALARM
END:VEVENT
END:VCALENDAR
